Workbook
Name ___hod1: [1]Výkony!$L$14
Name ___hod2: [1]Výkony!$L$17
Name ___hod3: [1]Výkony!$L$20
Name ___hod4: #REF!
Name ___hod4: #REF!
Name ___hod4: #REF!
Name ___hod5: #REF!
Name ___hod5: #REF!
Name ___hod5: #REF!
Name ___hod6: #REF!
Name ___hod6: #REF!
Name ___hod6: #REF!
Name __hod1: [1]Výkony!$L$14
Name __hod2: [1]Výkony!$L$17
Name __hod3: [1]Výkony!$L$20
Name __hod4: #REF!
Name __hod4: #REF!
Name __hod4: #REF!
Name __hod5: #REF!
Name __hod5: #REF!
Name __hod5: #REF!
Name __hod6: #REF!
Name __hod6: #REF!
Name __hod6: #REF!
Name _hod1: [1]Výkony!$L$14
Name _hod2: [1]Výkony!$L$17
Name _hod3: [1]Výkony!$L$20
Name _hod4: #REF!
Name _hod4: #REF!
Name _hod4: #REF!
Name _hod5: #REF!
Name _hod5: #REF!
Name _hod5: #REF!
Name _hod6: #REF!
Name _hod6: #REF!
Name _hod6: #REF!
Name a1xd103: #REF!
Name a1xd103: #REF!
Name a1xd103: #REF!
Name afterdetail_rkap: [2]Elektroinštalácie!#REF!
Name afterdetail_rkap: [2]Elektroinštalácie!#REF!
Name afterdetail_rkap: [2]Elektroinštalácie!#REF!
Name afterdetail_rozpocty: [2]Elektroinštalácie!#REF!
Name afterdetail_rozpocty: [2]Elektroinštalácie!#REF!
Name afterdetail_rozpocty: [2]Elektroinštalácie!#REF!
Name before_rkap: [2]Elektroinštalácie!#REF!
Name before_rkap: [2]Elektroinštalácie!#REF!
Name before_rkap: [2]Elektroinštalácie!#REF!
Name before_rozpocty: [2]Elektroinštalácie!#REF!
Name before_rozpocty: [2]Elektroinštalácie!#REF!
Name before_rozpocty: [2]Elektroinštalácie!#REF!
Name beforeafterdetail_rozpocty.Poznamka2.1: [2]Elektroinštalácie!#REF!
Name beforeafterdetail_rozpocty.Poznamka2.1: [2]Elektroinštalácie!#REF!
Name beforeafterdetail_rozpocty.Poznamka2.1: [2]Elektroinštalácie!#REF!
Name beforedetail_rozpocty: [2]Elektroinštalácie!#REF!
Name beforedetail_rozpocty: [2]Elektroinštalácie!#REF!
Name beforedetail_rozpocty: [2]Elektroinštalácie!#REF!
Name beforefirmy_rozpocty_pozn.Poznamka2: [2]Elektroinštalácie!#REF!
Name beforefirmy_rozpocty_pozn.Poznamka2: [2]Elektroinštalácie!#REF!
Name beforefirmy_rozpocty_pozn.Poznamka2: [2]Elektroinštalácie!#REF!

Sheet CNS
B1: Názov stavby : | C1: Stavebné úpravy priestorov budúceho športovo rehabilitačného centra SportWell, Farského ul. 3266, Bratislava - športová časť
B2: Miesto stavby : | G2: Bratislava
B4: CELKOVÉ NÁKLADY STAVBY
B6: Projektová a inžinierská činnosť
B7: Projektová a inžinierska činnosť | G7: 0
B8: Geologický prieskum | G8: 0
B9: Autorský dozor | G9: 0
B10: CELKOM | G10: =SUM(G7:G9) -> 0
B12: Stavebné objekty
B13: Stavebná časť | G13: =Stavba!J32 -> 0
B14: ZTI | G14: =ZTI!J30 -> 0
B15: Vykurovanie | G15: =VYKUROVANIE!H90 -> 0
B16: VZT | G16: =VZT!G107 -> 0
B17: Elektroinštalácie | G17: ='Elektroinštalácia '!H131 -> 0
B18: CCTV Kamerový systém | G18: ='CCTV Kamerový systém'!H54 -> 0
B19: Alarm | G19: =Alarm!H59 -> 0
B20: Audio systém | G20: ='Audio systém'!H34 -> 0
B21: Internet, WIFI, SPL | G21: ='Internet,WIFI,SLP'!H25 -> 0
B22: CELKOM | G22: =SUM(G13:G21) -> 0
B25: Kompletizačná činnosť
B26: Kompletizačná činnosť | G26: =ROUND(G22*3/100,2) -> 0
B27: CELKOM | G27: =SUM(G26:G26) -> 0
B30: NÁKLADY CELKOM BEZ DPH | G30: =SUM(G10,G22,G27) -> 0
B32: DPH | C32: 23 | D32: % | E32: z | F32: =ABS(G30) -> 0 | G32: =PRODUCT(C32,F32,0.01) -> 0
B34: NÁKLAD VRÁTANE DPH | G34: =SUM(G30,G32) -> 0
B38: V Bratislave dňa 02.03.2025
B39: Investor : | C39: Generálny projektant : | G39: Spracovateľ :

Sheet Stavba
L2: >> skryté stĺpce << | AT2: {7b2c89bb-bd6f-4de6-84dc-789dc8c881f0} | AZ2: povrchW1 | BC2: 704,134 | BD2: 2
AT3: 0 | AZ3: povrchW2W3 | BC3: 240,135 | BD3: 2
D4: KRYCÍ LIST ROZPOČTU | M4: v --- nižšie sa nachádzajú doplnkové a pomocné údaje k zostavám --- v | AT4: False | AZ4: povrvhW2 | BC4: 99 | BD4: 2
AZ5: podlahaP1 | BC5: 461,85 | BD5: 2
D6: Stavba:
E7: NADSTAVBA POLYFUNKČNÉHO OBJEKTU, Farského ul. 3266, Bratislava
D8: Objekt:
E9: 01 - Športová časť
D11: JKSO: | I11: KS:
D12: Miesto: | F12: Bratislava | I12: Dátum:
D14: Objednávateľ: | I14: IČO:
E15: SPORTWELL | I15: IČ DPH:
D17: Zhotoviteľ: | I17: IČO: | J17: Vyplň údaj
E18: Vyplň údaj | I18: IČ DPH: | J18: Vyplň údaj
D20: Projektant: | I20: IČO:
E21: ADIF spol. s r.o. | I21: IČ DPH:
D23: Spracovateľ: | I23: IČO:
E24: Ing. Ľubomír Németh | I24: IČ DPH:
D26: Poznámka:
D30: Náklady z rozpočtu | J30: =J96 -> 0
D31: Ostatné náklady | J31: =J117 -> 0
D32: Cena bez DPH | J32: =ROUND(J30 + J31, 2) -> 0
F34: Základ dane | I34: Sadzba dane | J34: Výška dane
D35: DPH | E35: základná | F35: =ROUND((SUM(BE117:BE124) + SUM(BE144:BE516)), 2) -> 0 | I35: 0.23 | J35: =ROUND(((SUM(BE117:BE124) + SUM(BE144:BE516))*I35), 2) -> 0
E36: znížená | F36: =ROUND((SUM(BF117:BF124) + SUM(BF144:BF516)), 2) -> 0 | I36: 0.23 | J36: =ROUND(((SUM(BF117:BF124) + SUM(BF144:BF516))*I36), 2) -> 0
E37: zákl. prenesená | F37: =ROUND((SUM(BG117:BG124) + SUM(BG144:BG516)), 2) -> 0 | I37: 0.23 | J37: =0 -> 0
E38: zníž. prenesená | F38: =ROUND((SUM(BH117:BH124) + SUM(BH144:BH516)), 2) -> 0 | I38: 0.23 | J38: =0 -> 0
E39: nulová | F39: =ROUND((SUM(BI117:BI124) + SUM(BI144:BI516)), 2) -> 0 | I39: 0 | J39: =0 -> 0
D41: Cena s DPH | G41: v | H41: EUR | J41: =SUM(J32:J39) -> 0
D50: Projektant | G50: Spracovateľ
D61: Dátum a podpis: | F61: Pečiatka | G61: Dátum a podpis: | J61: Pečiatka
D65: Objednávateľ | G65: Zhotoviteľ
D76: Dátum a podpis: | F76: Pečiatka | G76: Dátum a podpis: | J76: Pečiatka
C82: REKAPITULÁCIA ROZPOČTU
C84: Stavba:
E85: =E7 -> NADSTAVBA POLYFUNKČNÉHO OBJEKTU, Farského ul. 3266, Bratislava
C86: Objekt:
E87: =E9 -> 01 - Športová časť
C89: Miesto: | F89: =F12 -> Bratislava | I89: Dátum: | J89: =IF(J12="","",J12)
C91: Objednávateľ: | F91: =E15 -> SPORTWELL | I91: Projektant:
C92: Zhotoviteľ: | F92: =IF(E18="","",E18) -> Vyplň údaj | I92: Spracovateľ:
C94: Kód dielu - Popis | J94: Cena celkom [EUR]
C96: 1) Náklady z rozpočtu | J96: =J144 -> 0 | AU96: -1
D97: HSV - Práce a dodávky HSV | J97: =J145 -> 0
D98: 3 - Zvislé a kompletné konštrukcie | J98: =J146 -> 0
D99: 4 - Vodorovné konštrukcie | J99: =J151 -> 0
D100: 5 - Komunikácie | J100: =J155 -> 0
D101: 6 - Úpravy povrchov, podlahy, osadenie | J101: =J172 -> 0
D102: 9 - Ostatné konštrukcie a práce-búranie | J102: =J234 -> 0
D103: 99 - Presun hmôt HSV | J103: =J279 -> 0
D104: PSV - Práce a dodávky PSV | J104: =J281 -> 0
D105: 711 - Izolácie proti vode a vlhkosti | J105: =J282 -> 0
D106: 713 - Izolácie tepelné | J106: =J296 -> 0
D107: 721 - Zdravotechnika - vnútorná kanalizácia | J107: =J308 -> 0
D108: 763 - Konštrukcie - drevostavby | J108: =J314 -> 0
D109: 766 - Konštrukcie stolárske | J109: =J359 -> 0
D110: 767 - Konštrukcie doplnkové kovové | J110: =J378 -> 0
D111: 771 - Podlahy z dlaždíc | J111: =J405 -> 0
D112: 776 - Podlahy povlakové | J112: =J423 -> 0
D113: 781 - Obklady | J113: =J431 -> 0
D114: 784 - Maľby | J114: =J450 -> 0
C117: 2) Ostatné náklady | J117: =ROUND(J118 + J119 + J120 + J121 + J122 + J123,2) -> 0 | N117: DPH
D118: GZS | J118: 0 | N118: znížená | AY118: VRN | BE118: =IF(N118="základná",J118,0) -> 0 | BF118: =IF(N118="znížená",J118,0) -> 0 | BG118: =IF(N118="zákl. prenesená",J118,0) -> 0 | BH118: =IF(N118="zníž. prenesená",J118,0) -> 0 | BI118: =IF(N118="nulová",J118,0) -> 0 | BJ118: 2
D119: Projektové práce | J119: 0 | N119: znížená | AY119: VRN | BE119: =IF(N119="základná",J119,0) -> 0 | BF119: =IF(N119="znížená",J119,0) -> 0 | BG119: =IF(N119="zákl. prenesená",J119,0) -> 0 | BH119: =IF(N119="zníž. prenesená",J119,0) -> 0 | BI119: =IF(N119="nulová",J119,0) -> 0 | BJ119: 2
D120: Sťažené podmienky | J120: 0 | N120: znížená | AY120: VRN | BE120: =IF(N120="základná",J120,0) -> 0 | BF120: =IF(N120="znížená",J120,0) -> 0 | BG120: =IF(N120="zákl. prenesená",J120,0) -> 0 | BH120: =IF(N120="zníž. prenesená",J120,0) -> 0 | BI120: =IF(N120="nulová",J120,0) -> 0 | BJ120: 2
D121: Vplyv prostredia | J121: 0 | N121: znížená | AY121: VRN | BE121: =IF(N121="základná",J121,0) -> 0 | BF121: =IF(N121="znížená",J121,0) -> 0 | BG121: =IF(N121="zákl. prenesená",J121,0) -> 0 | BH121: =IF(N121="zníž. prenesená",J121,0) -> 0 | BI121: =IF(N121="nulová",J121,0) -> 0 | BJ121: 2
D122: Iné VRN | J122: 0 | N122: znížená | AY122: VRN | BE122: =IF(N122="základná",J122,0) -> 0 | BF122: =IF(N122="znížená",J122,0) -> 0 | BG122: =IF(N122="zákl. prenesená",J122,0) -> 0 | BH122: =IF(N122="zníž. prenesená",J122,0) -> 0 | BI122: =IF(N122="nulová",J122,0) -> 0 | BJ122: 2
D123: Kompletačná činnosť | J123: =ROUND(J30*T123,2) -> 0 | N123: znížená | AY123: KOMPLETACNA | BE123: =IF(N123="základná",J123,0) -> 0 | BF123: =IF(N123="znížená",J123,0) -> 0 | BG123: =IF(N123="zákl. prenesená",J123,0) -> 0 | BH123: =IF(N123="zníž. prenesená",J123,0) -> 0 | BI123: =IF(N123="nulová",J123,0) -> 0 | BJ123: 2
C125: Celkové náklady za stavbu 1) + 2) | J125: =ROUND(J96+J117,2) -> 0
C131: ROZPOČET
C133: Stavba:
E134: =E7 -> NADSTAVBA POLYFUNKČNÉHO OBJEKTU, Farského ul. 3266, Bratislava
C135: Objekt:
E136: =E9 -> 01 - Športová časť
C138: Miesto: | F138: =F12 -> Bratislava | I138: Dátum: | J138: =IF(J12="","",J12)
C140: Objednávateľ: | F140: =E15 -> SPORTWELL | I140: Projektant:
C141: Zhotoviteľ: | F141: =IF(E18="","",E18) -> Vyplň údaj | I141: Spracovateľ:
C143: PČ | D143: Typ | E143: Kód | F143: Popis | G143: MJ | H143: Množstvo | I143: J.cena [EUR] | J143: Cena celkom [EUR] | K143: Cenová sústava | N143: DPH | O143: J. Nh [h] | P143: Nh celkom [h] | Q143: J. hmotnosť [t] | R143: Hmotnosť celkom [t] | S143: J. suť [t] | T143: Suť Celkom [t]
C144: Náklady z rozpočtu | J144: =BK144 -> 0 | P144: =P145+P281 -> 0 | R144: =R145+R281 -> 110.61475 | T144: =T145+T281 -> 32.84481 | AT144: D | AU144: -1 | BK144: =BK145+BK281 -> 0
D145: D | E145: HSV | F145: Práce a dodávky HSV | J145: =BK145 -> 0 | P145: =P146+P151+P155+P172+P234+P279 -> 0 | R145: =R146+R151+R155+R172+R234+R279 -> 86.237573 | T145: =T146+T151+T155+T172+T234+T279 -> 32.84481 | AR145: 1 | AT145: D | AU145: 0 | AY145: ROZPOCET | BK145: =BK146+BK151+BK155+BK172+BK234+BK279 -> 0
D146: D | E146: 3 | F146: Zvislé a kompletné konštrukcie | J146: =BK146 -> 0 | P146: =SUM(P147:P150) -> 0 | R146: =SUM(R147:R150) -> 0.12787943 | T146: =SUM(T147:T150) -> 0 | AR146: 1 | AT146: D | AU146: 1 | AY146: ROZPOCET | BK146: =SUM(BK147:BK150) -> 0
C147: 1 | D147: K | E147: 342272031.S | F147: Priečky z pórobetónových tvárnic hladkých s objemovou hmotnosťou do 600 kg/m3 hrúbky 100 mm | G147: m2 | H147: 1.725 | J147: =ROUND(I147*H147,2) -> 0 | N147: znížená | P147: =O147*H147 -> 0 | Q147: 0.074133 | R147: =Q147*H147 -> 0.12787943 | S147: 0 | T147: =S147*H147 -> 0 | AR147: 4 | AT147: K | AU147: 2 | AY147: ROZPOCET | BE147: =IF(N147="základná",J147,0) -> 0 | BF147: =IF(N147="znížená",J147,0) -> 0 | BG147: =IF(N147="zákl. prenesená",J147,0) -> 0 | BH147: =IF(N147="zníž. prenesená",J147,0) -> 0 | BI147: =IF(N147="nulová",J147,0) -> 0 | BJ147: 2 | BK147: =ROUND(I147*H147,2) -> 0 | BL147: 4 | BM147: -216969762
D148: VV | F148: sokel pri sprchách | AT148: VV | AU148: 2 | AV148: 1 | AW148: True | AX148: 0 | AY148: ROZPOCET
D149: VV | F149: 2,85*0,3+2,9*0,3 | H149: 1.725 | AT149: VV | AU149: 2 | AV149: 2 | AW149: True | AX149: 0 | AY149: ROZPOCET
D150: VV | F150: Súčet | H150: 1.725 | AT150: VV | AU150: 2 | AV150: 4 | AW150: True | AX150: 1 | AY150: ROZPOCET
D151: D | E151: 4 | F151: Vodorovné konštrukcie | J151: =BK151 -> 0 | P151: =SUM(P152:P154) -> 0 | R151: =SUM(R152:R154) -> 1.71447 | T151: =SUM(T152:T154) -> 0 | AR151: 1 | AT151: D | AU151: 1 | AY151: ROZPOCET | BK151: =SUM(BK152:BK154) -> 0
C152: 2 | D152: K | E152: 411388531.S | F152: Zabetónov. otvoru s plochou 0,25-1,00 m2, v stropoch zo železobetónu a tvárnicových a v klenbách aj s debnením a hmotami | G152: m3 | H152: 0.75 | J152: =ROUND(I152*H152,2) -> 0 | N152: znížená | P152: =O152*H152 -> 0 | Q152: 2.28596 | R152: =Q152*H152 -> 1.71447 | S152: 0 | T152: =S152*H152 -> 0 | AR152: 4 | AT152: K | AU152: 2 | AY152: ROZPOCET | BE152: =IF(N152="základná",J152,0) -> 0 | BF152: =IF(N152="znížená",J152,0) -> 0 | BG152: =IF(N152="zákl. prenesená",J152,0) -> 0 | BH152: =IF(N152="zníž. prenesená",J152,0) -> 0 | BI152: =IF(N152="nulová",J152,0) -> 0 | BJ152: 2 | BK152: =ROUND(I152*H152,2) -> 0 | BL152: 4 | BM152: 472311254
D153: VV | F153: 0,375*0,25*8 | H153: 0.75 | AT153: VV | AU153: 2 | AV153: 2 | AW153: True | AX153: 0 | AY153: ROZPOCET
D154: VV | F154: Súčet | H154: 0.75 | AT154: VV | AU154: 2 | AV154: 4 | AW154: True | AX154: 1 | AY154: ROZPOCET
D155: D | E155: 5 | F155: Komunikácie | J155: =BK155 -> 0 | P155: =SUM(P156:P171) -> 0 | R155: =SUM(R156:R171) -> 0.68004 | T155: =SUM(T156:T171) -> 0 | AR155: 1 | AT155: D | AU155: 1 | AY155: ROZPOCET | BK155: =SUM(BK156:BK171) -> 0
C156: 3 | D156: K | E156: 589100006.R1 | F156: Položenie povrchov pre fitness | G156: m2 | H156: 312 | J156: =ROUND(I156*H156,2) -> 0 | N156: znížená | P156: =O156*H156 -> 0 | Q156: 0.00027 | R156: =Q156*H156 -> 0.08424 | S156: 0 | T156: =S156*H156 -> 0 | AR156: 4 | AT156: K | AU156: 2 | AY156: ROZPOCET | BE156: =IF(N156="základná",J156,0) -> 0 | BF156: =IF(N156="znížená",J156,0) -> 0 | BG156: =IF(N156="zákl. prenesená",J156,0) -> 0 | BH156: =IF(N156="zníž. prenesená",J156,0) -> 0 | BI156: =IF(N156="nulová",J156,0) -> 0 | BJ156: 2 | BK156: =ROUND(I156*H156,2) -> 0 | BL156: 4 | BM156: -1097270580
D157: VV | F157: 72,0+36,0+28,0+14,0+84,0+78,0 | H157: 312 | AT157: VV | AU157: 2 | AV157: 2 | AW157: True | AX157: 0 | AY157: ROZPOCET
D158: VV | F158: Súčet | H158: 312 | AT158: VV | AU158: 2 | AV158: 4 | AW158: True | AX158: 1 | AY158: ROZPOCET
C159: 4 | D159: M | E159: 284170005200.R1 | F159: "TurFlex Premium 16mm Blue Customised 1 roll 1m x 24m + 1 roll 2m x 24m with Ladder 2x 1,5m x 20m" | G159: m2 | H159: 72 | J159: =ROUND(I159*H159,2) -> 0 | N159: znížená | P159: =O159*H159 -> 0 | Q159: 0.0018 | R159: =Q159*H159 -> 0.1296 | S159: 0 | T159: =S159*H159 -> 0 | AR159: 8 | AT159: M | AU159: 2 | AY159: ROZPOCET | BE159: =IF(N159="základná",J159,0) -> 0 | BF159: =IF(N159="znížená",J159,0) -> 0 | BG159: =IF(N159="zákl. prenesená",J159,0) -> 0 | BH159: =IF(N159="zníž. prenesená",J159,0) -> 0 | BI159: =IF(N159="nulová",J159,0) -> 0 | BJ159: 2 | BK159: =ROUND(I159*H159,2) -> 0 | BL159: 4 | BM159: 1999007800
C160: 5 | D160: M | E160: 284170005200.R2 | F160: "Customisation logo on Turf Blue 1.5m x 1,5m in white; material included" | G160: kus | H160: 2 | J160: =ROUND(I160*H160,2) -> 0 | N160: znížená | P160: =O160*H160 -> 0 | Q160: 0.0018 | R160: =Q160*H160 -> 0.0036 | S160: 0 | T160: =S160*H160 -> 0 | AR160: 8 | AT160: M | AU160: 2 | AY160: ROZPOCET | BE160: =IF(N160="základná",J160,0) -> 0 | BF160: =IF(N160="znížená",J160,0) -> 0 | BG160: =IF(N160="zákl. prenesená",J160,0) -> 0 | BH160: =IF(N160="zníž. prenesená",J160,0) -> 0 | BI160: =IF(N160="nulová",J160,0) -> 0 | BJ160: 2 | BK160: =ROUND(I160*H160,2) -> 0 | BL160: 4 | BM160: 169252548
C161: 6 | D161: M | E161: 284170005200.R3 | F161: TurFlex Premium 16mm Green Special Customised 1 roll 2m x 18m with Premium Ladder 2m x 15m | G161: m2 | H161: 36 | J161: =ROUND(I161*H161,2) -> 0 | N161: znížená | P161: =O161*H161 -> 0 | Q161: 0.0018 | R161: =Q161*H161 -> 0.0648 | S161: 0 | T161: =S161*H161 -> 0 | AR161: 8 | AT161: M | AU161: 2 | AY161: ROZPOCET | BE161: =IF(N161="základná",J161,0) -> 0 | BF161: =IF(N161="znížená",J161,0) -> 0 | BG161: =IF(N161="zákl. prenesená",J161,0) -> 0 | BH161: =IF(N161="zníž. prenesená",J161,0) -> 0 | BI161: =IF(N161="nulová",J161,0) -> 0 | BJ161: 2 | BK161: =ROUND(I161*H161,2) -> 0 | BL161: 4 | BM161: 1584924875
C162: 7 | D162: M | E162: 284170005200.R4 | F162: "Customisation logo on Turf Green 1.5m x 1,5m in white; material included" | G162: kus | H162: 1 | J162: =ROUND(I162*H162,2) -> 0 | N162: znížená | P162: =O162*H162 -> 0 | Q162: 0.0018 | R162: =Q162*H162 -> 0.0018 | S162: 0 | T162: =S162*H162 -> 0 | AR162: 8 | AT162: M | AU162: 2 | AY162: ROZPOCET | BE162: =IF(N162="základná",J162,0) -> 0 | BF162: =IF(N162="znížená",J162,0) -> 0 | BG162: =IF(N162="zákl. prenesená",J162,0) -> 0 | BH162: =IF(N162="zníž. prenesená",J162,0) -> 0 | BI162: =IF(N162="nulová",J162,0) -> 0 | BJ162: 2 | BK162: =ROUND(I162*H162,2) -> 0 | BL162: 4 | BM162: -1180665848
C163: 8 | D163: M | E163: 284170005200.R5 | F163: Fitness Xtreme 10mm Black | G163: m2 | H163: 28 | J163: =ROUND(I163*H163,2) -> 0 | N163: znížená | P163: =O163*H163 -> 0 | Q163: 0.0018 | R163: =Q163*H163 -> 0.0504 | S163: 0 | T163: =S163*H163 -> 0 | AR163: 8 | AT163: M | AU163: 2 | AY163: ROZPOCET | BE163: =IF(N163="základná",J163,0) -> 0 | BF163: =IF(N163="znížená",J163,0) -> 0 | BG163: =IF(N163="zákl. prenesená",J163,0) -> 0 | BH163: =IF(N163="zníž. prenesená",J163,0) -> 0 | BI163: =IF(N163="nulová",J163,0) -> 0 | BJ163: 2 | BK163: =ROUND(I163*H163,2) -> 0 | BL163: 4 | BM163: -1602838991
C164: 9 | D164: M | E164: 284170005200.R6 | F164: Fitness Xtreme 10mm Wengue | G164: m2 | H164: 14 | J164: =ROUND(I164*H164,2) -> 0 | N164: znížená | P164: =O164*H164 -> 0 | Q164: 0.0018 | R164: =Q164*H164 -> 0.0252 | S164: 0 | T164: =S164*H164 -> 0 | AR164: 8 | AT164: M | AU164: 2 | AY164: ROZPOCET | BE164: =IF(N164="základná",J164,0) -> 0 | BF164: =IF(N164="znížená",J164,0) -> 0 | BG164: =IF(N164="zákl. prenesená",J164,0) -> 0 | BH164: =IF(N164="zníž. prenesená",J164,0) -> 0 | BI164: =IF(N164="nulová",J164,0) -> 0 | BJ164: 2 | BK164: =ROUND(I164*H164,2) -> 0 | BL164: 4 | BM164: -558177912
C165: 10 | D165: M | E165: 284170005200.R7 | F165: Fitness Pro 7mm Black | G165: m2 | H165: 84 | J165: =ROUND(I165*H165,2) -> 0 | N165: znížená | P165: =O165*H165 -> 0 | Q165: 0.0018 | R165: =Q165*H165 -> 0.1512 | S165: 0 | T165: =S165*H165 -> 0 | AR165: 8 | AT165: M | AU165: 2 | AY165: ROZPOCET | BE165: =IF(N165="základná",J165,0) -> 0 | BF165: =IF(N165="znížená",J165,0) -> 0 | BG165: =IF(N165="zákl. prenesená",J165,0) -> 0 | BH165: =IF(N165="zníž. prenesená",J165,0) -> 0 | BI165: =IF(N165="nulová",J165,0) -> 0 | BJ165: 2 | BK165: =ROUND(I165*H165,2) -> 0 | BL165: 4 | BM165: 1846156251
...

Sheet ZTI
L2: >> skryté stĺpce << | AT2: {7a377b31-f473-4dfe-bcf5-c9487d2a6dee}
AT3: 0
D4: KRYCÍ LIST ROZPOČTU | M4: v --- nižšie sa nachádzajú doplnkové a pomocné údaje k zostavám --- v | AT4: False
D6: Stavba:
E7: ='[4]Rekapitulácia stavby'!K6 -> SPORTWELL
D8: Objekt:
E9: 02 - ZTI - Fitness
D11: JKSO: | I11: KS:
D12: Miesto: | F12: Bratislava | I12: Dátum:
D14: Objednávateľ: | I14: IČO: | J14: =IF('[4]Rekapitulácia stavby'!AN10="","",'[4]Rekapitulácia stavby'!AN10)
E15: =IF('[4]Rekapitulácia stavby'!E11="","",'[4]Rekapitulácia stavby'!E11) | I15: IČ DPH: | J15: =IF('[4]Rekapitulácia stavby'!AN11="","",'[4]Rekapitulácia stavby'!AN11)
D17: Zhotoviteľ: | I17: IČO: | J17: ='[4]Rekapitulácia stavby'!AN13 -> Vyplň údaj
E18: ='[4]Rekapitulácia stavby'!E14 -> Vyplň údaj | I18: IČ DPH: | J18: ='[4]Rekapitulácia stavby'!AN14 -> Vyplň údaj
D20: Projektant: | I20: IČO:
E21: Ing. Marek Wild | I21: IČ DPH:
D23: Spracovateľ: | I23: IČO:
E24: MW-PROJEKT s. r. o. | I24: IČ DPH:
D26: Poznámka:
D30: Cena bez DPH | J30: =ROUND(J127, 2) -> 0
F32: Základ dane | I32: Sadzba dane | J32: Výška dane
D33: DPH | E33: základná | F33: =ROUND((SUM(BE127:BE266)), 2) -> 0 | I33: 0.2 | J33: =ROUND(((SUM(BE127:BE266))*I33), 2) -> 0
E34: znížená | F34: =ROUND((SUM(BF127:BF266)), 2) -> 0 | I34: 0.2 | J34: =ROUND(((SUM(BF127:BF266))*I34), 2) -> 0
E35: zákl. prenesená | F35: =ROUND((SUM(BG127:BG266)), 2) -> 0 | I35: 0.2 | J35: =0 -> 0
E36: zníž. prenesená | F36: =ROUND((SUM(BH127:BH266)), 2) -> 0 | I36: 0.2 | J36: =0 -> 0
E37: nulová | F37: =ROUND((SUM(BI127:BI266)), 2) -> 0 | I37: 0 | J37: =0 -> 0
D39: Cena s DPH | G39: v | H39: EUR | J39: =SUM(J30:J37) -> 0
D50: Projektant | G50: Spracovateľ
D61: Dátum a podpis: | F61: Pečiatka | G61: Dátum a podpis: | J61: Pečiatka
D65: Objednávateľ | G65: Zhotoviteľ
D76: Dátum a podpis: | F76: Pečiatka | G76: Dátum a podpis: | J76: Pečiatka
C82: REKAPITULÁCIA ROZPOČTU
C84: Stavba:
E85: =E7 -> SPORTWELL
C86: Objekt:
E87: =E9 -> 02 - ZTI - Fitness
C89: Miesto: | F89: =F12 -> Bratislava | I89: Dátum: | J89: =IF(J12="","",J12)
C91: Objednávateľ: | F91: =E15 | I91: Projektant:
C92: Zhotoviteľ: | F92: =IF(E18="","",E18) -> Vyplň údaj | I92: Spracovateľ:
C94: Kód dielu - Popis | J94: Cena celkom [EUR]
C96: Náklady z rozpočtu | J96: =J127 -> 0 | AU96: -1
D97: HSV - Práce a dodávky HSV | J97: =J128 -> 0
D98: 8 - Rúrové vedenie | J98: =J129 -> 0
D99: 9 - Ostatné konštrukcie a práce-búranie | J99: =J133 -> 0
D100: PSV - Práce a dodávky PSV | J100: =J139 -> 0
D101: 713 - Izolácie tepelné | J101: =J140 -> 0
D102: 721 - Zdravotechnika - vnútorná kanalizácia | J102: =J158 -> 0
D103: 722 - Zdravotechnika - vnútorný vodovod | J103: =J176 -> 0
D104: 724 - Zdravotechnika - strojné vybavenie | J104: =J212 -> 0
D105: 725 - Zdravotechnika - zariaďovacie predmety | J105: =J216 -> 0
D106: 732 - Ústredné kúrenie - strojovne | J106: =J252 -> 0
D107: 767 - Konštrukcie doplnkové kovové | J107: =J265 -> 0
C114: ROZPOČET
C116: Stavba:
E117: =E7 -> SPORTWELL
C118: Objekt:
E119: =E9 -> 02 - ZTI - Fitness
C121: Miesto: | F121: =F12 -> Bratislava | I121: Dátum: | J121: =IF(J12="","",J12)
C123: Objednávateľ: | F123: =E15 | I123: Projektant:
C124: Zhotoviteľ: | F124: =IF(E18="","",E18) -> Vyplň údaj | I124: Spracovateľ:
C126: PČ | D126: Typ | E126: Kód | F126: Popis | G126: MJ | H126: Množstvo | I126: J.cena [EUR] | J126: Cena celkom [EUR] | K126: Cenová sústava | N126: DPH | O126: J. Nh [h] | P126: Nh celkom [h] | Q126: J. hmotnosť [t] | R126: Hmotnosť celkom [t] | S126: J. suť [t] | T126: Suť Celkom [t]
C127: Náklady z rozpočtu | J127: =BK127 -> 0 | P127: =P128+P139 -> 0 | R127: =R128+R139 -> 1.2573805 | T127: =T128+T139 -> 0.00157 | AT127: D | AU127: -1 | BK127: =BK128+BK139 -> 0
D128: D | E128: HSV | F128: Práce a dodávky HSV | J128: =BK128 -> 0 | P128: =P129+P133 -> 0 | R128: =R129+R133 -> 0.0055632 | T128: =T129+T133 -> 0.00157 | AR128: 1 | AT128: D | AU128: 0 | AY128: ROZPOCET | BK128: =BK129+BK133 -> 0
D129: D | E129: 8 | F129: Rúrové vedenie | J129: =BK129 -> 0 | P129: =SUM(P130:P132) -> 0 | R129: =SUM(R130:R132) -> 0.0028432 | T129: =SUM(T130:T132) -> 0 | AR129: 1 | AT129: D | AU129: 1 | AY129: ROZPOCET | BK129: =SUM(BK130:BK132) -> 0
C130: 1 | D130: K | E130: 871171400.S | F130: Potrubie vodovodné z PE 100 SDR11/PN16 zvárané natupo D 32x3,0 mm | G130: m | H130: 10 | J130: =ROUND(I130*H130,2) -> 0 | N130: znížená | P130: =O130*H130 -> 0 | Q130: 0.00028432 | R130: =Q130*H130 -> 0.0028432 | S130: 0 | T130: =S130*H130 -> 0 | AR130: 4 | AT130: K | AU130: 2 | AY130: ROZPOCET | BE130: =IF(N130="základná",J130,0) -> 0 | BF130: =IF(N130="znížená",J130,0) -> 0 | BG130: =IF(N130="zákl. prenesená",J130,0) -> 0 | BH130: =IF(N130="zníž. prenesená",J130,0) -> 0 | BI130: =IF(N130="nulová",J130,0) -> 0 | BJ130: 2 | BK130: =ROUND(I130*H130,2) -> 0 | BL130: 4 | BM130: 461255881
C131: 2 | D131: K | E131: 892233111.S_R | F131: Preplach a dezinfekcia vodovodného potrubia DN do 40 | G131: m | H131: 10 | J131: =ROUND(I131*H131,2) -> 0 | N131: znížená | P131: =O131*H131 -> 0 | Q131: 0 | R131: =Q131*H131 -> 0 | S131: 0 | T131: =S131*H131 -> 0 | AR131: 4 | AT131: K | AU131: 2 | AY131: ROZPOCET | BE131: =IF(N131="základná",J131,0) -> 0 | BF131: =IF(N131="znížená",J131,0) -> 0 | BG131: =IF(N131="zákl. prenesená",J131,0) -> 0 | BH131: =IF(N131="zníž. prenesená",J131,0) -> 0 | BI131: =IF(N131="nulová",J131,0) -> 0 | BJ131: 2 | BK131: =ROUND(I131*H131,2) -> 0 | BL131: 4 | BM131: 1410868359
C132: 3 | D132: K | E132: 892241111.S | F132: Ostatné práce na rúrovom vedení, tlakové skúšky vodovodného potrubia DN do 80 | G132: m | H132: 10 | J132: =ROUND(I132*H132,2) -> 0 | N132: znížená | P132: =O132*H132 -> 0 | Q132: 0 | R132: =Q132*H132 -> 0 | S132: 0 | T132: =S132*H132 -> 0 | AR132: 4 | AT132: K | AU132: 2 | AY132: ROZPOCET | BE132: =IF(N132="základná",J132,0) -> 0 | BF132: =IF(N132="znížená",J132,0) -> 0 | BG132: =IF(N132="zákl. prenesená",J132,0) -> 0 | BH132: =IF(N132="zníž. prenesená",J132,0) -> 0 | BI132: =IF(N132="nulová",J132,0) -> 0 | BJ132: 2 | BK132: =ROUND(I132*H132,2) -> 0 | BL132: 4 | BM132: 823104920
D133: D | E133: 9 | F133: Ostatné konštrukcie a práce-búranie | J133: =BK133 -> 0 | P133: =SUM(P134:P138) -> 0 | R133: =SUM(R134:R138) -> 0.00272 | T133: =SUM(T134:T138) -> 0.00157 | AR133: 1 | AT133: D | AU133: 1 | AY133: ROZPOCET | BK133: =SUM(BK134:BK138) -> 0
C134: 4 | D134: K | E134: 972056007.S | F134: Jadrové vrty diamantovými korunkami do D 80 mm do stropov - železobetónových -0,00012t | G134: ks | H134: 3 | J134: =ROUND(I134*H134,2) -> 0 | N134: znížená | P134: =O134*H134 -> 0 | Q134: 1e-05 | R134: =Q134*H134 -> 3e-05 | S134: 0.00012 | T134: =S134*H134 -> 0.00036 | AR134: 4 | AT134: K | AU134: 2 | AY134: ROZPOCET | BE134: =IF(N134="základná",J134,0) -> 0 | BF134: =IF(N134="znížená",J134,0) -> 0 | BG134: =IF(N134="zákl. prenesená",J134,0) -> 0 | BH134: =IF(N134="zníž. prenesená",J134,0) -> 0 | BI134: =IF(N134="nulová",J134,0) -> 0 | BJ134: 2 | BK134: =ROUND(I134*H134,2) -> 0 | BL134: 4 | BM134: 1598817880
C135: 5 | D135: K | E135: 972056009.S | F135: Jadrové vrty diamantovými korunkami do D 100 mm do stropov - železobetónových -0,00019t | G135: ks | H135: 3 | J135: =ROUND(I135*H135,2) -> 0 | N135: znížená | P135: =O135*H135 -> 0 | Q135: 1e-05 | R135: =Q135*H135 -> 3e-05 | S135: 0.00019 | T135: =S135*H135 -> 0.00057 | AR135: 4 | AT135: K | AU135: 2 | AY135: ROZPOCET | BE135: =IF(N135="základná",J135,0) -> 0 | BF135: =IF(N135="znížená",J135,0) -> 0 | BG135: =IF(N135="zákl. prenesená",J135,0) -> 0 | BH135: =IF(N135="zníž. prenesená",J135,0) -> 0 | BI135: =IF(N135="nulová",J135,0) -> 0 | BJ135: 2 | BK135: =ROUND(I135*H135,2) -> 0 | BL135: 4 | BM135: -1140649810
C136: 6 | D136: K | E136: 972056012.S | F136: Jadrové vrty diamantovými korunkami do D 130 mm do stropov - železobetónových -0,00032t | G136: ks | H136: 2 | J136: =ROUND(I136*H136,2) -> 0 | N136: znížená | P136: =O136*H136 -> 0 | Q136: 1e-05 | R136: =Q136*H136 -> 2e-05 | S136: 0.00032 | T136: =S136*H136 -> 0.00064 | AR136: 4 | AT136: K | AU136: 2 | AY136: ROZPOCET | BE136: =IF(N136="základná",J136,0) -> 0 | BF136: =IF(N136="znížená",J136,0) -> 0 | BG136: =IF(N136="zákl. prenesená",J136,0) -> 0 | BH136: =IF(N136="zníž. prenesená",J136,0) -> 0 | BI136: =IF(N136="nulová",J136,0) -> 0 | BJ136: 2 | BK136: =ROUND(I136*H136,2) -> 0 | BL136: 4 | BM136: 696835124
C137: 7 | D137: K | E137: 713530035.S_R | F137: Požiarne utesnenie prestupov | G137: ks | H137: 8 | J137: =ROUND(I137*H137,2) -> 0 | N137: znížená | P137: =O137*H137 -> 0 | Q137: 0.0001 | R137: =Q137*H137 -> 0.0008 | S137: 0 | T137: =S137*H137 -> 0 | AR137: 16 | AT137: K | AU137: 2 | AY137: ROZPOCET | BE137: =IF(N137="základná",J137,0) -> 0 | BF137: =IF(N137="znížená",J137,0) -> 0 | BG137: =IF(N137="zákl. prenesená",J137,0) -> 0 | BH137: =IF(N137="zníž. prenesená",J137,0) -> 0 | BI137: =IF(N137="nulová",J137,0) -> 0 | BJ137: 2 | BK137: =ROUND(I137*H137,2) -> 0 | BL137: 16 | BM137: -473541395
C138: 8 | D138: M | E138: 449410003000 | F138: Flexibilná protipožiarna pena HILTI CFS-F FX, objem 325 ml | G138: ks | H138: 4 | J138: =ROUND(I138*H138,2) -> 0 | N138: znížená | P138: =O138*H138 -> 0 | Q138: 0.00046 | R138: =Q138*H138 -> 0.00184 | S138: 0 | T138: =S138*H138 -> 0 | AR138: 128 | AT138: M | AU138: 2 | AY138: ROZPOCET | BE138: =IF(N138="základná",J138,0) -> 0 | BF138: =IF(N138="znížená",J138,0) -> 0 | BG138: =IF(N138="zákl. prenesená",J138,0) -> 0 | BH138: =IF(N138="zníž. prenesená",J138,0) -> 0 | BI138: =IF(N138="nulová",J138,0) -> 0 | BJ138: 2 | BK138: =ROUND(I138*H138,2) -> 0 | BL138: 128 | BM138: -1147172723
D139: D | E139: PSV | F139: Práce a dodávky PSV | J139: =BK139 -> 0 | P139: =P140+P158+P176+P212+P216+P252+P265 -> 0 | R139: =R140+R158+R176+R212+R216+R252+R265 -> 1.2518173 | T139: =T140+T158+T176+T212+T216+T252+T265 -> 0 | AR139: 2 | AT139: D | AU139: 0 | AY139: ROZPOCET | BK139: =BK140+BK158+BK176+BK212+BK216+BK252+BK265 -> 0
D140: D | E140: 713 | F140: Izolácie tepelné | J140: =BK140 -> 0 | P140: =SUM(P141:P157) -> 0 | R140: =SUM(R141:R157) -> 0.1108357 | T140: =SUM(T141:T157) -> 0 | AR140: 2 | AT140: D | AU140: 1 | AY140: ROZPOCET | BK140: =SUM(BK141:BK157) -> 0
C141: 9 | D141: K | E141: 713482111.S | F141: Montáž trubíc z PE, hr.do 10 mm,vnút.priemer do 38 mm | G141: m | H141: 26 | J141: =ROUND(I141*H141,2) -> 0 | N141: znížená | P141: =O141*H141 -> 0 | Q141: 9e-06 | R141: =Q141*H141 -> 0.000234 | S141: 0 | T141: =S141*H141 -> 0 | AR141: 16 | AT141: K | AU141: 2 | AY141: ROZPOCET | BE141: =IF(N141="základná",J141,0) -> 0 | BF141: =IF(N141="znížená",J141,0) -> 0 | BG141: =IF(N141="zákl. prenesená",J141,0) -> 0 | BH141: =IF(N141="zníž. prenesená",J141,0) -> 0 | BI141: =IF(N141="nulová",J141,0) -> 0 | BJ141: 2 | BK141: =ROUND(I141*H141,2) -> 0 | BL141: 16 | BM141: -914827696
C142: 10 | D142: M | E142: 283310001600 | F142: Izolačná PE trubica TUBOLIT DG 35x9 mm (d potrubia x hr. izolácie), nadrezaná, AZ FLEX | G142: m | H142: 26 | J142: =ROUND(I142*H142,2) -> 0 | N142: znížená | P142: =O142*H142 -> 0 | Q142: 8e-05 | R142: =Q142*H142 -> 0.00208 | S142: 0 | T142: =S142*H142 -> 0 | AR142: 32 | AT142: M | AU142: 2 | AY142: ROZPOCET | BE142: =IF(N142="základná",J142,0) -> 0 | BF142: =IF(N142="znížená",J142,0) -> 0 | BG142: =IF(N142="zákl. prenesená",J142,0) -> 0 | BH142: =IF(N142="zníž. prenesená",J142,0) -> 0 | BI142: =IF(N142="nulová",J142,0) -> 0 | BJ142: 2 | BK142: =ROUND(I142*H142,2) -> 0 | BL142: 16 | BM142: -447130322
C143: 11 | D143: K | E143: 713482112.S | F143: Montáž trubíc z PE, hr.do 10 mm,vnút.priemer 39-70 mm | G143: m | H143: 5 | J143: =ROUND(I143*H143,2) -> 0 | N143: znížená | P143: =O143*H143 -> 0 | Q143: 9e-06 | R143: =Q143*H143 -> 4.5e-05 | S143: 0 | T143: =S143*H143 -> 0 | AR143: 16 | AT143: K | AU143: 2 | AY143: ROZPOCET | BE143: =IF(N143="základná",J143,0) -> 0 | BF143: =IF(N143="znížená",J143,0) -> 0 | BG143: =IF(N143="zákl. prenesená",J143,0) -> 0 | BH143: =IF(N143="zníž. prenesená",J143,0) -> 0 | BI143: =IF(N143="nulová",J143,0) -> 0 | BJ143: 2 | BK143: =ROUND(I143*H143,2) -> 0 | BL143: 16 | BM143: -393981984
C144: 12 | D144: M | E144: 283310001800 | F144: Izolačná PE trubica TUBOLIT DG 42x9 mm (d potrubia x hr. izolácie), nadrezaná, AZ FLEX | G144: m | H144: 5 | J144: =ROUND(I144*H144,2) -> 0 | N144: znížená | P144: =O144*H144 -> 0 | Q144: 0.00021 | R144: =Q144*H144 -> 0.00105 | S144: 0 | T144: =S144*H144 -> 0 | AR144: 32 | AT144: M | AU144: 2 | AY144: ROZPOCET | BE144: =IF(N144="základná",J144,0) -> 0 | BF144: =IF(N144="znížená",J144,0) -> 0 | BG144: =IF(N144="zákl. prenesená",J144,0) -> 0 | BH144: =IF(N144="zníž. prenesená",J144,0) -> 0 | BI144: =IF(N144="nulová",J144,0) -> 0 | BJ144: 2 | BK144: =ROUND(I144*H144,2) -> 0 | BL144: 16 | BM144: 1850890578
C145: 13 | D145: K | E145: 713482114.S | F145: Montáž trubíc z PE, hr.do 10 mm,vnút.priem. od 96 mm | G145: m | H145: 118 | J145: =ROUND(I145*H145,2) -> 0 | N145: znížená | P145: =O145*H145 -> 0 | Q145: 9e-06 | R145: =Q145*H145 -> 0.001062 | S145: 0 | T145: =S145*H145 -> 0 | AR145: 16 | AT145: K | AU145: 2 | AY145: ROZPOCET | BE145: =IF(N145="základná",J145,0) -> 0 | BF145: =IF(N145="znížená",J145,0) -> 0 | BG145: =IF(N145="zákl. prenesená",J145,0) -> 0 | BH145: =IF(N145="zníž. prenesená",J145,0) -> 0 | BI145: =IF(N145="nulová",J145,0) -> 0 | BJ145: 2 | BK145: =ROUND(I145*H145,2) -> 0 | BL145: 16 | BM145: -628687867
C146: 14 | D146: M | E146: 283310026600 | F146: Izolačná trubica Tubolit ARW Fonowave, hr. 9 mm, AZ FLEX | G146: m | H146: 118 | J146: =ROUND(I146*H146,2) -> 0 | N146: znížená | P146: =O146*H146 -> 0 | Q146: 0.00028 | R146: =Q146*H146 -> 0.03304 | S146: 0 | T146: =S146*H146 -> 0 | AR146: 32 | AT146: M | AU146: 2 | AY146: ROZPOCET | BE146: =IF(N146="základná",J146,0) -> 0 | BF146: =IF(N146="znížená",J146,0) -> 0 | BG146: =IF(N146="zákl. prenesená",J146,0) -> 0 | BH146: =IF(N146="zníž. prenesená",J146,0) -> 0 | BI146: =IF(N146="nulová",J146,0) -> 0 | BJ146: 2 | BK146: =ROUND(I146*H146,2) -> 0 | BL146: 16 | BM146: -1935682668
C147: 15 | D147: K | E147: 713482121.S | F147: Montáž trubíc z PE, hr.15-20 mm,vnút.priemer do 38 mm | G147: m | H147: 157 | J147: =ROUND(I147*H147,2) -> 0 | N147: znížená | P147: =O147*H147 -> 0 | Q147: 2e-05 | R147: =Q147*H147 -> 0.00314 | S147: 0 | T147: =S147*H147 -> 0 | AR147: 16 | AT147: K | AU147: 2 | AY147: ROZPOCET | BE147: =IF(N147="základná",J147,0) -> 0 | BF147: =IF(N147="znížená",J147,0) -> 0 | BG147: =IF(N147="zákl. prenesená",J147,0) -> 0 | BH147: =IF(N147="zníž. prenesená",J147,0) -> 0 | BI147: =IF(N147="nulová",J147,0) -> 0 | BJ147: 2 | BK147: =ROUND(I147*H147,2) -> 0 | BL147: 16 | BM147: 214717391
C148: 16 | D148: M | E148: 283310004600 | F148: Izolačná PE trubica TUBOLIT DG 18x20 mm (d potrubia x hr. izolácie), nadrezaná, AZ FLEX | G148: m | H148: 63 | J148: =ROUND(I148*H148,2) -> 0 | N148: znížená | P148: =O148*H148 -> 0 | Q148: 0.00014 | R148: =Q148*H148 -> 0.00882 | S148: 0 | T148: =S148*H148 -> 0 | AR148: 32 | AT148: M | AU148: 2 | AY148: ROZPOCET | BE148: =IF(N148="základná",J148,0) -> 0 | BF148: =IF(N148="znížená",J148,0) -> 0 | BG148: =IF(N148="zákl. prenesená",J148,0) -> 0 | BH148: =IF(N148="zníž. prenesená",J148,0) -> 0 | BI148: =IF(N148="nulová",J148,0) -> 0 | BJ148: 2 | BK148: =ROUND(I148*H148,2) -> 0 | BL148: 16 | BM148: -2133293107
C149: 17 | D149: M | E149: 283310004700 | F149: Izolačná PE trubica TUBOLIT DG 22x20 mm (d potrubia x hr. izolácie), nadrezaná, AZ FLEX | G149: m | H149: 94 | J149: =ROUND(I149*H149,2) -> 0 | N149: znížená | P149: =O149*H149 -> 0 | Q149: 1e-05 | R149: =Q149*H149 -> 0.00094 | S149: 0 | T149: =S149*H149 -> 0 | AR149: 32 | AT149: M | AU149: 2 | AY149: ROZPOCET | BE149: =IF(N149="základná",J149,0) -> 0 | BF149: =IF(N149="znížená",J149,0) -> 0 | BG149: =IF(N149="zákl. prenesená",J149,0) -> 0 | BH149: =IF(N149="zníž. prenesená",J149,0) -> 0 | BI149: =IF(N149="nulová",J149,0) -> 0 | BJ149: 2 | BK149: =ROUND(I149*H149,2) -> 0 | BL149: 16 | BM149: 1132547034
C150: 18 | D150: K | E150: 713482131.S | F150: Montáž trubíc z PE, hr.30 mm,vnút.priemer do 38 mm | G150: m | H150: 44 | J150: =ROUND(I150*H150,2) -> 0 | N150: znížená | P150: =O150*H150 -> 0 | Q150: 3.3e-05 | R150: =Q150*H150 -> 0.001452 | S150: 0 | T150: =S150*H150 -> 0 | AR150: 16 | AT150: K | AU150: 2 | AY150: ROZPOCET | BE150: =IF(N150="základná",J150,0) -> 0 | BF150: =IF(N150="znížená",J150,0) -> 0 | BG150: =IF(N150="zákl. prenesená",J150,0) -> 0 | BH150: =IF(N150="zníž. prenesená",J150,0) -> 0 | BI150: =IF(N150="nulová",J150,0) -> 0 | BJ150: 2 | BK150: =ROUND(I150*H150,2) -> 0 | BL150: 16 | BM150: -1714950652
C151: 19 | D151: M | E151: 283310006300 | F151: Izolačná PE trubica TUBOLIT DG 28x30 mm (d potrubia x hr. izolácie), rozrezaná, AZ FLEX | G151: m | H151: 22 | J151: =ROUND(I151*H151,2) -> 0 | N151: znížená | P151: =O151*H151 -> 0 | Q151: 6e-05 | R151: =Q151*H151 -> 0.00132 | S151: 0 | T151: =S151*H151 -> 0 | AR151: 32 | AT151: M | AU151: 2 | AY151: ROZPOCET | BE151: =IF(N151="základná",J151,0) -> 0 | BF151: =IF(N151="znížená",J151,0) -> 0 | BG151: =IF(N151="zákl. prenesená",J151,0) -> 0 | BH151: =IF(N151="zníž. prenesená",J151,0) -> 0 | BI151: =IF(N151="nulová",J151,0) -> 0 | BJ151: 2 | BK151: =ROUND(I151*H151,2) -> 0 | BL151: 16 | BM151: -616454383
C152: 20 | D152: M | E152: 283310006400 | F152: Izolačná PE trubica TUBOLIT DG 35x30 mm (d potrubia x hr. izolácie), rozrezaná, AZ FLEX | G152: m | H152: 22 | J152: =ROUND(I152*H152,2) -> 0 | N152: znížená | P152: =O152*H152 -> 0 | Q152: 4e-05 | R152: =Q152*H152 -> 0.00088 | S152: 0 | T152: =S152*H152 -> 0 | AR152: 32 | AT152: M | AU152: 2 | AY152: ROZPOCET | BE152: =IF(N152="základná",J152,0) -> 0 | BF152: =IF(N152="znížená",J152,0) -> 0 | BG152: =IF(N152="zákl. prenesená",J152,0) -> 0 | BH152: =IF(N152="zníž. prenesená",J152,0) -> 0 | BI152: =IF(N152="nulová",J152,0) -> 0 | BJ152: 2 | BK152: =ROUND(I152*H152,2) -> 0 | BL152: 16 | BM152: 1092508192
... C157: 25 | D157: K | E157: 998713101.S | F157: Presun hmôt pre izolácie tepelné v objektoch výšky do 6 m | G157: t | H157: 0.111 | J157: =ROUND(I157*H157,2) -> 0 | N157: znížená | P157: =O157*H157 -> 0 | Q157: 0 | R157: =Q157*H157 -> 0 | S157: 0 | T157: =S157*H157 -> 0 | AR157: 16 | AT157: K | AU157: 2 | AY157: ROZPOCET | BE157: =IF(N157="základná",J157,0) -> 0 | BF157: =IF(N157="znížená",J157,0) -> 0 | BG157: =IF(N157="zákl. prenesená",J157,0) -> 0 | BH157: =IF(N157="zníž. prenesená",J157,0) -> 0 | BI157: =IF(N157="nulová",J157,0) -> 0 | BJ157: 2 | BK157: =ROUND(I157*H157,2) -> 0 | BL157: 16 | BM157: 325941552
D158: D | E158: 721 | F158: Zdravotechnika - vnútorná kanalizácia | J158: =BK158 -> 0 | P158: =SUM(P159:P175) -> 0 | R158: =SUM(R159:R175) -> 0.06784268 | T158: =SUM(T159:T175) -> 0 | AR158: 2 | AT158: D | AU158: 1 | AY158: ROZPOCET | BK158: =SUM(BK159:BK175) -> 0
C159: 26 | D159: K | E159: 721171578_R | F159: Potrubie z rúr GEBERIT SILENT - PP prípojné Dxt 32x2,0 mm | G159: m | H159: 24 | J159: =ROUND(I159*H159,2) -> 0 | N159: znížená | P159: =O159*H159 -> 0 | Q159: 0.00032082 | R159: =Q159*H159 -> 0.00769968 | S159: 0 | T159: =S159*H159 -> 0 | AR159: 16 | AT159: K | AU159: 2 | AY159: ROZPOCET | BE159: =IF(N159="základná",J159,0) -> 0 | BF159: =IF(N159="znížená",J159,0) -> 0 | BG159: =IF(N159="zákl. prenesená",J159,0) -> 0 | BH159: =IF(N159="zníž. prenesená",J159,0) -> 0 | BI159: =IF(N159="nulová",J159,0) -> 0 | BJ159: 2 | BK159: =ROUND(I159*H159,2) -> 0 | BL159: 16 | BM159: -1347866660
C160: 27 | D160: K | E160: 721171580 | F160: Potrubie z rúr GEBERIT SILENT - PP prípojné Dxt 50x2,0 mm | G160: m | H160: 21 | J160: =ROUND(I160*H160,2) -> 0 | N160: znížená | P160: =O160*H160 -> 0 | Q160: 0.00032082 | R160: =Q160*H160 -> 0.00673722 | S160: 0 | T160: =S160*H160 -> 0 | AR160: 16 | AT160: K | AU160: 2 | AY160: ROZPOCET | BE160: =IF(N160="základná",J160,0) -> 0 | BF160: =IF(N160="znížená",J160,0) -> 0 | BG160: =IF(N160="zákl. prenesená",J160,0) -> 0 | BH160: =IF(N160="zníž. prenesená",J160,0) -> 0 | BI160: =IF(N160="nulová",J160,0) -> 0 | BJ160: 2 | BK160: =ROUND(I160*H160,2) -> 0 | BL160: 16 | BM160: 1422669281
C161: 28 | D161: K | E161: 721171581 | F161: Potrubie z rúr GEBERIT SILENT - PP prípojné Dxt 75x2,6 mm | G161: m | H161: 7 | J161: =ROUND(I161*H161,2) -> 0 | N161: znížená | P161: =O161*H161 -> 0 | Q161: 0.00064234 | R161: =Q161*H161 -> 0.00449638 | S161: 0 | T161: =S161*H161 -> 0 | AR161: 16 | AT161: K | AU161: 2 | AY161: ROZPOCET | BE161: =IF(N161="základná",J161,0) -> 0 | BF161: =IF(N161="znížená",J161,0) -> 0 | BG161: =IF(N161="zákl. prenesená",J161,0) -> 0 | BH161: =IF(N161="zníž. prenesená",J161,0) -> 0 | BI161: =IF(N161="nulová",J161,0) -> 0 | BJ161: 2 | BK161: =ROUND(I161*H161,2) -> 0 | BL161: 16 | BM161: -5433047
C162: 29 | D162: K | E162: 721171581_R | F162: Potrubie z rúr GEBERIT SILENT - PP prípojné Dxt 90x2,6 mm | G162: m | H162: 10 | J162: =ROUND(I162*H162,2) -> 0 | N162: znížená | P162: =O162*H162 -> 0 | Q162: 0.00064234 | R162: =Q162*H162 -> 0.0064234 | S162: 0 | T162: =S162*H162 -> 0 | AR162: 16 | AT162: K | AU162: 2 | AY162: ROZPOCET | BE162: =IF(N162="základná",J162,0) -> 0 | BF162: =IF(N162="znížená",J162,0) -> 0 | BG162: =IF(N162="zákl. prenesená",J162,0) -> 0 | BH162: =IF(N162="zníž. prenesená",J162,0) -> 0 | BI162: =IF(N162="nulová",J162,0) -> 0 | BJ162: 2 | BK162: =ROUND(I162*H162,2) -> 0 | BL162: 16 | BM162: -1428837525
C163: 30 | D163: K | E163: 721194103.S | F163: Zriadenie prípojky na potrubí vyvedenie a upevnenie odpadových výpustiek D 32 mm | G163: ks | H163: 6 | J163: =ROUND(I163*H163,2) -> 0 | N163: znížená | P163: =O163*H163 -> 0 | Q163: 0 | R163: =Q163*H163 -> 0 | S163: 0 | T163: =S163*H163 -> 0 | AR163: 16 | AT163: K | AU163: 2 | AY163: ROZPOCET | BE163: =IF(N163="základná",J163,0) -> 0 | BF163: =IF(N163="znížená",J163,0) -> 0 | BG163: =IF(N163="zákl. prenesená",J163,0) -> 0 | BH163: =IF(N163="zníž. prenesená",J163,0) -> 0 | BI163: =IF(N163="nulová",J163,0) -> 0 | BJ163: 2 | BK163: =ROUND(I163*H163,2) -> 0 | BL163: 16 | BM163: -320466283
C164: 31 | D164: K | E164: 721194104.S | F164: Zriadenie prípojky na potrubí vyvedenie a upevnenie odpadových výpustiek D 40 mm | G164: ks | H164: 2 | J164: =ROUND(I164*H164,2) -> 0 | N164: znížená | P164: =O164*H164 -> 0 | Q164: 0 | R164: =Q164*H164 -> 0 | S164: 0 | T164: =S164*H164 -> 0 | AR164: 16 | AT164: K | AU164: 2 | AY164: ROZPOCET | BE164: =IF(N164="základná",J164,0) -> 0 | BF164: =IF(N164="znížená",J164,0) -> 0 | BG164: =IF(N164="zákl. prenesená",J164,0) -> 0 | BH164: =IF(N164="zníž. prenesená",J164,0) -> 0 | BI164: =IF(N164="nulová",J164,0) -> 0 | BJ164: 2 | BK164: =ROUND(I164*H164,2) -> 0 | BL164: 16 | BM164: 984841776
C165: 32 | D165: K | E165: 721194105.S | F165: Zriadenie prípojky na potrubí vyvedenie a upevnenie odpadových výpustiek D 50 mm | G165: ks | H165: 6 | J165: =ROUND(I165*H165,2) -> 0 | N165: znížená | P165: =O165*H165 -> 0 | Q165: 0 | R165: =Q165*H165 -> 0 | S165: 0 | T165: =S165*H165 -> 0 | AR165: 16 | AT165: K | AU165: 2 | AY165: ROZPOCET | BE165: =IF(N165="základná",J165,0) -> 0 | BF165: =IF(N165="znížená",J165,0) -> 0 | BG165: =IF(N165="zákl. prenesená",J165,0) -> 0 | BH165: =IF(N165="zníž. prenesená",J165,0) -> 0 | BI165: =IF(N165="nulová",J165,0) -> 0 | BJ165: 2 | BK165: =ROUND(I165*H165,2) -> 0 | BL165: 16 | BM165: -903959852
C166: 33 | D166: K | E166: 721194109.S | F166: Zriadenie prípojky na potrubí vyvedenie a upevnenie odpadových výpustiek D 110 mm | G166: ks | H166: 5 | J166: =ROUND(I166*H166,2) -> 0 | N166: znížená | P166: =O166*H166 -> 0 | Q166: 0 | R166: =Q166*H166 -> 0 | S166: 0 | T166: =S166*H166 -> 0 | AR166: 16 | AT166: K | AU166: 2 | AY166: ROZPOCET | BE166: =IF(N166="základná",J166,0) -> 0 | BF166: =IF(N166="znížená",J166,0) -> 0 | BG166: =IF(N166="zákl. prenesená",J166,0) -> 0 | BH166: =IF(N166="zníž. prenesená",J166,0) -> 0 | BI166: =IF(N166="nulová",J166,0) -> 0 | BJ166: 2 | BK166: =ROUND(I166*H166,2) -> 0 | BL166: 16 | BM166: -21847183
C167: 34 | D167: K | E167: 721229020.S | F167: Montáž podlahového odtokového žlabu dĺžky 700 mm pre montáž do k stene | G167: ks | H167: 6 | J167: =ROUND(I167*H167,2) -> 0 | N167: znížená | P167: =O167*H167 -> 0 | Q167: 0.001165 | R167: =Q167*H167 -> 0.00699 | S167: 0 | T167: =S167*H167 -> 0 | AR167: 16 | AT167: K | AU167: 2 | AY167: ROZPOCET | BE167: =IF(N167="základná",J167,0) -> 0 | BF167: =IF(N167="znížená",J167,0) -> 0 | BG167: =IF(N167="zákl. prenesená",J167,0) -> 0 | BH167: =IF(N167="zníž. prenesená",J167,0) -> 0 | BI167: =IF(N167="nulová",J167,0) -> 0 | BJ167: 2 | BK167: =ROUND(I167*H167,2) -> 0 | BL167: 16 | BM167: 27740395
C168: 35 | D168: M | E168: 552240006900 | F168: Žľab sprchový bez krytu nerezový HL50F.0/70, DN 50, (0,8 l/s), dĺ. 700 mm, montáž do plochy, stavebná výška min. 110 mm | G168: ks | H168: 6 | J168: =ROUND(I168*H168,2) -> 0 | N168: znížená | P168: =O168*H168 -> 0 | Q168: 0.00249 | R168: =Q168*H168 -> 0.01494 | S168: 0 | T168: =S168*H168 -> 0 | AR168: 32 | AT168: M | AU168: 2 | AY168: ROZPOCET | BE168: =IF(N168="základná",J168,0) -> 0 | BF168: =IF(N168="znížená",J168,0) -> 0 | BG168: =IF(N168="zákl. prenesená",J168,0) -> 0 | BH168: =IF(N168="zníž. prenesená",J168,0) -> 0 | BI168: =IF(N168="nulová",J168,0) -> 0 | BJ168: 2 | BK168: =ROUND(I168*H168,2) -> 0 | BL168: 16 | BM168: 1734087819
C169: 36 | D169: M | E169: 552240007000_R | F169: Sprchový rošt STANDARD pre žľaby dľžky 70cm HL050S/70 | G169: ks | H169: 6 | J169: =ROUND(I169*H169,2) -> 0 | N169: znížená | P169: =O169*H169 -> 0 | Q169: 0.00273 | R169: =Q169*H169 -> 0.01638 | S169: 0 | T169: =S169*H169 -> 0 | AR169: 32 | AT169: M | AU169: 2 | AY169: ROZPOCET | BE169: =IF(N169="základná",J169,0) -> 0 | BF169: =IF(N169="znížená",J169,0) -> 0 | BG169: =IF(N169="zákl. prenesená",J169,0) -> 0 | BH169: =IF(N169="zníž. prenesená",J169,0) -> 0 | BI169: =IF(N169="nulová",J169,0) -> 0 | BJ169: 2 | BK169: =ROUND(I169*H169,2) -> 0 | BL169: 16 | BM169: -647829518
C170: 37 | D170: K | E170: 721230006.S | F170: Montáž terasového vtoku so zvislým odtokom DN 110 | G170: ks | H170: 1 | J170: =ROUND(I170*H170,2) -> 0 | N170: znížená | P170: =O170*H170 -> 0 | Q170: 0.000462 | R170: =Q170*H170 -> 0.000462 | S170: 0 | T170: =S170*H170 -> 0 | AR170: 16 | AT170: K | AU170: 2 | AY170: ROZPOCET | BE170: =IF(N170="základná",J170,0) -> 0 | BF170: =IF(N170="znížená",J170,0) -> 0 | BG170: =IF(N170="zákl. prenesená",J170,0) -> 0 | BH170: =IF(N170="zníž. prenesená",J170,0) -> 0 | BI170: =IF(N170="nulová",J170,0) -> 0 | BJ170: 2 | BK170: =ROUND(I170*H170,2) -> 0 | BL170: 16 | BM170: -1007388378
...

Sheet VYKUROVANIE
A1: Odberateľ: | G1: Spracoval: | I1: Hlavička2 | J1: Obdobie
A2: Projektant: | G2: JKSO :
A3: Dodávateľ: | G3: Dátum: | I3: za obdobie | J3: Mesiac 2011
A5: Stavba :NADSTAVBA POLYFUNKČNÉHO OBJKETU, FARSKÉHO ULICA 3266, BRATISLAVA | I5: za obdobie | J5: Mesiac 2011
A6: Objekt :SPORTWELL
A7: Časť :ZMENA 11/2024
D8: =CONCATENATE(#REF!," ",#REF!," ",I2," ",J2) -> #REF!
A9: Por. | B9: Kód | C9: Kód položky | D9: Popis položky, stavebného dielu, remesla, | E9: Množstvo | F9: Merná | G9: Jednotková | H9: Spolu
A10: číslo | B10: cen. | D10: výkaz-výmer | E10: výmera | F10: jednotka | G10: cena
D12: 713 - Izolácie tepelné
A13: 1 | B13: 713 | C13: 71346-2114 | D13: Montáž tep. izolácie potrubia skružami PE upevn. sponou potrubia | E13: 532 | F13: m | H13: =ROUND(E13*G13,2) -> 0
A14: 2 | B14: MAT | C14: 422 170021 | D14: Tepelná izolácia TUBOLIT DG 18x20 - vykurovanie | E14: 364 | F14: m | H14: =ROUND(E14*G14,2) -> 0
A15: 3 | B15: MAT | C15: 422 170022 | D15: Tepelná izolácia TUBOLIT DG 22x20 - vykurovanie | E15: 46 | F15: m | H15: =ROUND(E15*G15,2) -> 0
A16: 4 | B16: MAT | C16: 422 170023 | D16: Tepelná izolácia TUBOLIT DG 28x25 - vykurovanie | E16: 72 | F16: m | H16: =ROUND(E16*G16,2) -> 0
A17: 5 | B17: MAT | C17: 422 170024 | D17: Tepelná izolácia TUBOLIT DG 35x25 - vykurovanie | E17: 28 | F17: m | H17: =ROUND(E17*G17,2) -> 0
A18: 6 | B18: MAT | C18: 422 170025 | D18: Tepelná izolácia TUBOLIT DG 42x30 - vykurovanie | E18: 18 | F18: m | H18: =ROUND(E18*G18,2) -> 0
A19: 7 | B19: 713 | C19: 71399-9905 | D19: Izolácie tepelné, HZS T5 | E19: 6 | F19: hod | H19: =ROUND(E19*G19,2) -> 0
A20: 8 | B20: 713 | C20: 99871-3201 | D20: Presun hmôt pre izolácie tepelné v objektoch výšky do 6 m | F20: % | G20: =SUM(H13:H19) -> 0 | H20: =ROUND(E20*G20/100,2) -> 0
D21: 713 - Izolácie tepelné spolu : | H21: =SUM(H13:H20) -> 0
D22: 732 - Strojovne
A23: 9 | B23: 731 | C23: 73219-9100 | D23: Montáž orientačných štítkov | E23: 20 | F23: súbor | H23: =ROUND(E23*G23,2) -> 0
A24: 10 | B24: MAT | C24: 422 170946 | D24: Orientačný štítok | E24: 20 | F24: kus | H24: =ROUND(E24*G24,2) -> 0
A25: 11 | B25: 731 | C25: 73299-9905 | D25: Strojovne, HZS T5 | E25: 1 | F25: hod | H25: =ROUND(E25*G25,2) -> 0
A26: 12 | B26: 731 | C26: 99873-2201 | D26: Presun hmôt pre strojovne umiestnené vo výške do 6 m | F26: % | G26: =SUM(H23:H25) -> 0 | H26: =ROUND(E26*G26/100,2) -> 0
D27: 732 - Strojovne spolu : | H27: =SUM(H23:H26) -> 0
D28: 733 - Rozvod potrubia
A29: 13 | B29: 731 | C29: 73311-1106 | D29: Potrubie z rúrok závit. bezošvých bežných nízkotlak. DN 32 | E29: 18 | F29: m | H29: =ROUND(E29*G29,2) -> 0
A30: 14 | B30: 731 | C30: 73319-0108 | D30: Tlaková skúška potrubia a ocel. rúrok závitových do DN 50 | E30: 18 | F30: m | H30: =ROUND(E30*G30,2) -> 0
A31: 15 | B31: 731 | C31: 73332-1201 | D31: Plast-hliníkové potrubie HERZ priemeru 16 mm spojené zváraním | E31: 364 | F31: m | H31: =ROUND(E31*G31,2) -> 0
A32: 16 | B32: 731 | C32: 73332-1202 | D32: Plast-hliníkové potrubie HERZ priemeru 20 mm spojené zváraním | E32: 46 | F32: m | H32: =ROUND(E32*G32,2) -> 0
A33: 17 | B33: 731 | C33: 73332-1203 | D33: Plast-hliníkové potrubie HERZ priemeru 25 mm spojené zváraním | E33: 72 | F33: m | H33: =ROUND(E33*G33,2) -> 0
A34: 18 | B34: 731 | C34: 73332-1204 | D34: Plast-hliníkové potrubie HERZ priemeru 32 mm spojené zváraním | E34: 28 | F34: m | H34: =ROUND(E34*G34,2) -> 0
A35: 19 | B35: 731 | C35: 73399-9905 | D35: Rozvod potrubia, HZS T5 | E35: 16 | F35: hod | H35: =ROUND(E35*G35,2) -> 0
A36: 20 | B36: 731 | C36: 99873-3201 | D36: Presun hmôt pre potrubie UK v objektoch výšky do 6 m | F36: % | G36: =SUM(H29:H35) -> 0 | H36: =ROUND(E36*G36/100,2) -> 0
D37: 733 - Rozvod potrubia spolu : | H37: =SUM(H29:H36) -> 0
D38: 734 - Armatúry
A39: 21 | B39: 731 | C39: 73420-9102 | D39: Montáž armatúr s jedným závitom G 3/8 | E39: 19 | F39: kus | H39: =ROUND(E39*G39,2) -> 0
A40: 22 | B40: MAT | C40: 422 170856 | D40: Radiátorový odvzdušňovací ventil | E40: 19 | F40: kus | H40: =ROUND(E40*G40,2) -> 0
A41: 23 | B41: 731 | C41: 73420-9103 | D41: Montáž armatúr s jedným závitom G 1/2 | E41: 27 | F41: kus | H41: =ROUND(E41*G41,2) -> 0
A42: 24 | B42: MAT | C42: 422 170496 | D42: Napúšťací a vypúšťací kohút HERZ THERMOFLEX DN 15 | E42: 2 | F42: kus | H42: =ROUND(E42*G42,2) -> 0
A43: 25 | B43: MAT | C43: 422 170500 | D43: Termostatická hlavica HERZ-MINI typ 9200 | E43: 11 | F43: kus | H43: =ROUND(E43*G43,2) -> 0
A44: 26 | B44: MAT | C44: 422 170502 | D44: Ručná hlavica HERZ typ 9102 | E44: 3 | F44: kus | H44: =ROUND(E44*G44,2) -> 0
A45: 27 | B45: MAT | C45: 422 170505 | D45: Termostatická hlavica HERZ-MINI typ 9200 pre telesá VK | E45: 9 | F45: kus | H45: =ROUND(E45*G45,2) -> 0
A46: 28 | B46: MAT | C46: 422 170565 | D46: Automatický odvzdušňovač HERZ1/2" | E46: 2 | F46: kus | H46: =ROUND(E46*G46,2) -> 0
A47: 29 | B47: 731 | C47: 73420-9113 | D47: Montáž armatúr s dvoma závitmi G 1/2 | E47: 8 | F47: kus | H47: =ROUND(E47*G47,2) -> 0
A48: 30 | B48: MAT | C48: 422 170508 | D48: Priamy ventil HERZ typ TS-90-V, 7723 DN 15 | E48: 4 | F48: kus | H48: =ROUND(E48*G48,2) -> 0
A49: 31 | B49: MAT | C49: 422 170514 | D49: Priame skrutkovanie HERZ RL-5, 3923 DN 15 | E49: 4 | F49: kus | H49: =ROUND(E49*G49,2) -> 0
A50: 32 | B50: 731 | C50: 73420-9115 | D50: Montáž armatúr s dvoma závitmi G 1 | E50: 1 | F50: kus | H50: =ROUND(E50*G50,2) -> 0
... A65: 47 | B65: 731 | C65: 73499-9905 | D65: Armatúry, HZS T5 | E65: 10 | F65: hod | H65: =ROUND(E65*G65,2) -> 0
A66: 48 | B66: 731 | C66: 99873-4201 | D66: Presun hmôt pre armatúry UK v objektoch výšky do 6 m | F66: % | G66: =SUM(H39:H65) -> 0 | H66: =ROUND(E66*G66/100,2) -> 0
D67: 734 - Armatúry spolu : | H67: =SUM(H39:H66) -> 0
D68: 735 - Vykurovacie telesá
A69: 49 | B69: 731 | C69: 73515-9641 | D69: Montáž vyhr. telies oc.doskové dvojité bez odvzd. KORADO-21K Hdo900/Ldo2000mm | E69: 2 | F69: kus | H69: =ROUND(E69*G69,2) -> 0
A70: 50 | B70: MAT | C70: 422 171202 | D70: Vykurovacie teleso 21VKU 600x700 Korado | E70: 1 | F70: kus | H70: =ROUND(E70*G70,2) -> 0
A71: 51 | B71: MAT | C71: 422 171203 | D71: Vykurovacie teleso 21VKU 600x800 Korado | E71: 1 | F71: kus | H71: =ROUND(E71*G71,2) -> 0
A72: 52 | B72: 731 | C72: 73515-9650 | D72: Montáž vyhr. telies oc.doskové trojité bez odvzd. KORADO-33K Hdo400/Ldo3000mm | E72: 4 | F72: kus | H72: =ROUND(E72*G72,2) -> 0
A73: 53 | B73: MAT | C73: 422 171544 | D73: Vykurovacie teleso 33K 300x3000 Korado | E73: 4 | F73: kus | H73: =ROUND(E73*G73,2) -> 0
A74: 54 | B74: 731 | C74: 73515-9651 | D74: Montáž vyhr. telies oc.doskové trojité bez odvzd. KORADO-33K Hdo600/Ldo2000mm | E74: 6 | F74: kus | H74: =ROUND(E74*G74,2) -> 0
A75: 55 | B75: MAT | C75: 422 171734 | D75: Vykurovacie teleso 33VKU 600x700 Korado | E75: 2 | F75: kus | H75: =ROUND(E75*G75,2) -> 0
A76: 56 | B76: MAT | C76: 422 171735 | D76: Vykurovacie teleso 33VKU 600x800 Korado | E76: 4 | F76: kus | H76: =ROUND(E76*G76,2) -> 0
A77: 57 | B77: 731 | C77: 73515-9653 | D77: Montáž vyhr. telies oc.doskové trojité bez odvzd. KORADO-33K Hdo900/Ldo2000mm | E77: 1 | F77: kus | H77: =ROUND(E77*G77,2) -> 0
A78: 58 | B78: MAT | C78: 422 171765 | D78: Vykurovacie teleso 33VKU 700x1100 Korado | E78: 1 | F78: kus | H78: =ROUND(E78*G78,2) -> 0
A79: 59 | B79: 731 | C79: 73541-9310 | D79: Montáž kúpeľňnového vykurov.rebríka dl. do 2000 mm | E79: 10 | F79: súbor | H79: =ROUND(E79*G79,2) -> 0
A80: 60 | B80: MAT | C80: 422 171793 | D80: Rebrík. teleso KORADO KORALUX LINEAR MAX KL 1495/450 | E80: 3 | F80: kus | H80: =ROUND(E80*G80,2) -> 0
... A82: 62 | B82: 731 | C82: 73599-9905 | D82: Vykurovacie telesá, HZS T5 | E82: 20 | F82: hod | H82: =ROUND(E82*G82,2) -> 0
A83: 63 | B83: 731 | C83: 99873-5201 | D83: Presun hmôt pre vykur. telesá UK v objektoch výšky do 6 m | F83: % | G83: =SUM(H69:H82) -> 0 | H83: =ROUND(E83*G83/100,2) -> 0
D84: 735 - Vykurovacie telesá spolu : | H84: =SUM(H69:H83) -> 0
D85: 783 - Nátery
A86: 64 | B86: 783 | C86: 78341-4740 | D86: Nátery olejové kov. potrubia do DN 50mm základné | E86: 18 | F86: m | H86: =ROUND(E86*G86,2) -> 0
A87: 65 | B87: 783 | C87: 78399-9905 | D87: Nátery, HZS T5 | E87: 1 | F87: hod | H87: =ROUND(E87*G87,2) -> 0
D88: 783 - Nátery spolu : | H88: =SUM(H86:H87) -> 0
D90: Rozpočet celkom : | H90: =SUM(H21,H27,H37,H67,H84,H88) -> 0

Sheet VZT
A1: Výkaz výmer - športová časť
A2: kód položky | B2: číslo položky | C2: Popis položky | D2: merná jednotka | E2: množstvo | F2: J.C. | G2: SPOLU
C3: Zariadenie č. 1 – Vetranie športovo - rehabilitačného centra
B4: 1.01. | C4: Vzduchotechnická jednotka Elektrodesign Duovent Compact RV 3000 E DI KL G4+F7/M5 DVAV L TOP, Qv=2500m3/h, 500Pa, Pi=18kW, 400V, 3Px40A, filtre F7/M5, entalpický výmenník tepla, elektrický ohrievač, EC ventilátory, vrátane kompletného riadenia DigiReg EVO18, klapiek a servo pohonov, oživenia servisným technikom a dopravou na stavbu, jednotka bude dodaná v rozložiteľnom stave | D4: ks | E4: 1 | G4: =ROUND(E4*F4,2) -> 0
C5: Príslušenstvo: IAE Duovent RV 3000 pružná spojka | D5: ks | E5: 4 | G5: =ROUND(E5*F5,2) -> 0
C6: Príslušenstvo: SF-P 300 sifon podtl.s uzáverom | D6: ks | E6: 2 | G6: =ROUND(E6*F6,2) -> 0
B7: 1.02. | C7: Výustka Systemair NOVA-C-2-800x150-R1-V-ZN | D7: ks | E7: 4 | G7: =ROUND(E7*F7,2) -> 0
B8: 1.02a. | C8: Výustka Systemair NOVA-C-2-325x75-V-ZN | D8: ks | E8: 1 | G8: =ROUND(E8*F8,2) -> 0
B9: 1.02b. | C9: Výustka Systemair NOVA-C-2-800x100-R1-V-ZN | D9: ks | E9: 2 | G9: =ROUND(E9*F9,2) -> 0
B10: 1.04. | C10: Výustka Systemari NOVA-C-1-800x150-R1-V-ZN | D10: ks | E10: 4 | G10: =ROUND(E10*F10,2) -> 0
B11: 1.04a | C11: Výustka Systemari NOVA-C-1-325x75-V-ZN | D11: ks | E11: 1 | G11: =ROUND(E11*F11,2) -> 0
B12: 1.05. | C12: Vírivá stropná výustka Systemair VVKR-F-160-600-16-B-SW | D12: ks | E12: 1 | G12: =ROUND(E12*F12,2) -> 0
C13: Príslušenstvo: pretlaková komora THOR-E-125-160 | D13: ks | E13: 1 | G13: =ROUND(E13*F13,2) -> 0
B14: 1.06. | C14: Regulačná klapka Systemair TUNE-R-125-1-H | D14: ks | E14: 3 | G14: =ROUND(E14*F14,2) -> 0
B15: 1.06a | C15: Regulačná klapka Systemair TUNE-R-400-1-H | D15: ks | E15: 1 | G15: =ROUND(E15*F15,2) -> 0
B16: 1.06b | C16: Regulačná klapka Systemair TUNE-R-280-1-H | D16: ks | E16: 1 | G16: =ROUND(E16*F16,2) -> 0
B17: 1.07. | C17: Tlmič hluku Ventra SKS 60-30 | D17: ks | E17: 7 | G17: =ROUND(E17*F17,2) -> 0
B18: 1.07a. | C18: Tlmič hluku Ventra AKS 400x1200 | D18: ks | E18: 1 | G18: =ROUND(E18*F18,2) -> 0
B19: 1.08. | C19: Protidažďová žalúzia Systemair PZAL-1250x630-UR-S | D19: ks | E19: 1 | G19: =ROUND(E19*F19,2) -> 0
B20: 1.08a. | C20: Protidažďová žalúzia Systemair PZAL-1120x630-UR-S | D20: ks | E20: 1 | G20: =ROUND(E20*F20,2) -> 0
G21: =ROUND(E21*F21,2) -> 0
B22: 1.09. | C22: Vzduchotechnické spiro potrubie sk.1, do obvodu 125/30% vrátane montážneho, spojovacieho, tesniaceho materiálu a materiálu na závesy a tvarovky | D22: bm | E22: 3 | G22: =ROUND(E22*F22,2) -> 0
C23: Vzduchotechnické spiro potrubie sk.1, do obvodu 160/30% vrátane montážneho, spojovacieho, tesniaceho materiálu a materiálu na závesy a tvarovky | D23: bm | E23: 1 | G23: =ROUND(E23*F23,2) -> 0
C24: Vzduchotechnické spiro potrubie sk.1, do obvodu 180/30% vrátane montážneho, spojovacieho, tesniaceho materiálu a materiálu na závesy a tvarovky | D24: bm | E24: 12 | G24: =ROUND(E24*F24,2) -> 0
C25: Vzduchotechnické spiro potrubie sk.1, do obvodu 200/30% vrátane montážneho, spojovacieho, tesniaceho materiálu a materiálu na závesy a tvarovky | D25: bm | E25: 8 | G25: =ROUND(E25*F25,2) -> 0
C26: Vzduchotechnické spiro potrubie sk.1, do obvodu 225/30% vrátane montážneho, spojovacieho, tesniaceho materiálu a materiálu na závesy a tvarovky | D26: bm | E26: 14 | G26: =ROUND(E26*F26,2) -> 0
C27: Vzduchotechnické spiro potrubie sk.1, do obvodu 250/30% vrátane montážneho, spojovacieho, tesniaceho materiálu a materiálu na závesy a tvarovky | D27: bm | E27: 5 | G27: =ROUND(E27*F27,2) -> 0
C28: Vzduchotechnické spiro potrubie sk.1, do obvodu 280/30% vrátane montážneho, spojovacieho, tesniaceho materiálu a materiálu na závesy a tvarovky | D28: bm | E28: 10 | G28: =ROUND(E28*F28,2) -> 0
C29: Vzduchotechnické spiro potrubie sk.1, do obvodu 315/30% vrátane montážneho, spojovacieho, tesniaceho materiálu a materiálu na závesy a tvarovky | D29: bm | E29: 12 | G29: =ROUND(E29*F29,2) -> 0
C30: Vzduchotechnické spiro potrubie sk.1, do obvodu 355/30% vrátane montážneho, spojovacieho, tesniaceho materiálu a materiálu na závesy a tvarovky | D30: bm | E30: 6 | G30: =ROUND(E30*F30,2) -> 0
C31: Vzduchotechnické spiro potrubie sk.1, do obvodu 400/30% vrátane montážneho, spojovacieho, tesniaceho materiálu a materiálu na závesy a tvarovky | D31: bm | E31: 12 | G31: =ROUND(E31*F31,2) -> 0
C32: Vzduchotechnické spiro potrubie sk.1, do obvodu 450/30% vrátane montážneho, spojovacieho, tesniaceho materiálu a materiálu na závesy a tvarovky | D32: bm | E32: 11 | G32: =ROUND(E32*F32,2) -> 0
B33: 1.10. | C33: Vzduchotechnické štvorhranné potrubie sk.1, do obvodu 2000/30%, vrátane montážneho, spojovacieho, tesniaceho materiálu a materiálu na závesy a tvarovky | D33: bm | E33: 69 | G33: =ROUND(E33*F33,2) -> 0
C34: Vzduchotechnické štvorhranné potrubie sk.1, do obvodu 2400/30%, vrátane montážneho, spojovacieho, tesniaceho materiálu a materiálu na závesy a tvarovky | D34: bm | E34: 2 | G34: =ROUND(E34*F34,2) -> 0
C35: Vzduchotechnické štvorhranné potrubie sk.1, do obvodu 3800/30%, vrátane montážneho, spojovacieho, tesniaceho materiálu a materiálu na závesy a tvarovky | D35: bm | E35: 3 | G35: =ROUND(E35*F35,2) -> 0
B36: 1.12. | C36: Tepelná izolácia Kflex H duct metal ALU hr. 30mm | D36: m2 | E36: 140 | G36: =ROUND(E36*F36,2) -> 0
B37: 1.14. | C37: Akustická izolácia Rockwoll klimamat/ larock 40 ALS (ALU LAMELLA MAT) hr. 40mm, vrátane upevnenia | D37: m2 | E37: 4 | G37: =ROUND(E37*F37,2) -> 0
B38: 1.15. | C38: Požiarna izolácia hranatého potrubia Rockwool Pyrorock, Techrock ALS 80, EI 45, vrátane upevnenia, hr.40mm | D38: m2 | E38: 30 | G38: =ROUND(E38*F38,2) -> 0
C39: Zariadenie č. 2 – Prevádzkové vetranie hygieny, skladov a chodieb
B40: 2.01. | C40: Vzduchotechnická jednotka Elektrodesign Duovent Compact DV 1800 DI KL G4+F7/M5 DVAV AH, Qv=1500m3/h, 400Pa, Pi=9kW, 400V, 3Px40A, filtre F7/M5, doskový rekuperátor, elektrický ohrievač, EC ventilátory, vrátane kompletného riadenia DigiReg EVO18, klapiek a servo pohonov, oživenia servisným technikom a dopravou na stavbu, jednotka bude dodaná v rozložiteľnom stave | D40: ks | E40: 1 | G40: =ROUND(E40*F40,2) -> 0
C41: Príslušenstvo: IAE DUO DV 1800 pružná spojka | D41: ks | E41: 4 | G41: =ROUND(E41*F41,2) -> 0
C42: Príslušenstvo: SF-P 300 sifon podtl.s uzáverom | D42: ks | E42: 2 | G42: =ROUND(E42*F42,2) -> 0
B43: 2.01a. | C43: Tlmič hluku Ventra Mute 315x1200 | D43: ks | E43: 6 | G43: =ROUND(E43*F43,2) -> 0
B44: 2.02. | C44: Vírivá stropná výustka Systemair VVKR-F-250-600-32-B-SW | D44: ks | E44: 5 | G44: =ROUND(E44*F44,2) -> 0
C45: Príslušenstvo: pretlaková komora THOR-E-200-250 | D45: ks | E45: 5 | G45: =ROUND(E45*F45,2) -> 0
B46: 2.03. | C46: Tanierový ventil Systemair EFF-125-SW | D46: ks | E46: 8 | G46: =ROUND(E46*F46,2) -> 0
C47: Príslušenstvo: Rámik RFP 125 | D47: ks | E47: 8 | G47: =ROUND(E47*F47,2) -> 0
B48: 2.03a | C48: Tanierový ventil Systemair EFF-160-SW | D48: ks | E48: 6 | G48: =ROUND(E48*F48,2) -> 0
C49: Príslušenstvo: Rámik RFP 160 | D49: ks | E49: 6 | G49: =ROUND(E49*F49,2) -> 0
B50: 2.04. | C50: Regulačná klapka Systemair TUNE-R-125-1-H | D50: ks | E50: 8 | G50: =ROUND(E50*F50,2) -> 0
B51: 2.04a. | C51: Regulačná klapka Systemair TUNE-R-160-1-H | D51: ks | E51: 6 | G51: =ROUND(E51*F51,2) -> 0
B52: 2.04b. | C52: Regulačná klapka Systemair TUNE-R-200-1-H | D52: ks | E52: 5 | G52: =ROUND(E52*F52,2) -> 0
B53: 2.05. | C53: Dverová mriežka Systemair NOVA-D-1-400x100-AN | D53: ks | E53: 4 | G53: =ROUND(E53*F53,2) -> 0
G54: =ROUND(E54*F54,2) -> 0
B55: 2.06. | C55: Vzduchotechnické spiro potrubie sk.1, do obvodu 125/30% vrátane montážneho, spojovacieho, tesniaceho materiálu a materiálu na závesy a tvarovky | D55: bm | E55: 32 | G55: =ROUND(E55*F55,2) -> 0
C56: Vzduchotechnické spiro potrubie sk.1, do obvodu 200/30% vrátane montážneho, spojovacieho, tesniaceho materiálu a materiálu na závesy a tvarovky | D56: bm | E56: 20 | G56: =ROUND(E56*F56,2) -> 0
C57: Vzduchotechnické spiro potrubie sk.1, do obvodu 250/30% vrátane montážneho, spojovacieho, tesniaceho materiálu a materiálu na závesy a tvarovky | D57: bm | E57: 4 | G57: =ROUND(E57*F57,2) -> 0
C58: Vzduchotechnické spiro potrubie sk.1, do obvodu 315/30% vrátane montážneho, spojovacieho, tesniaceho materiálu a materiálu na závesy a tvarovky | D58: bm | E58: 18 | G58: =ROUND(E58*F58,2) -> 0
B59: 2.07. | C59: Vzduchotechnické štvorhranné potrubie sk.1, do obvodu 1500/30%, vrátane montážneho, spojovacieho, tesniaceho materiálu a materiálu na závesy a tvarovky | D59: bm | E59: 4 | G59: =ROUND(E59*F59,2) -> 0
B60: 2.08. | C60: Pružná Al laminátová hadica Elektrodesign SONOFLEX 127 Al | D60: bm | E60: 12 | G60: =ROUND(E60*F60,2) -> 0
C61: Pružná Al laminátová hadica Elektrodesign SONOFLEX 160 Al | D61: bm | E61: 10 | G61: =ROUND(E61*F61,2) -> 0
C62: Pružná Al laminátová hadica Elektrodesign SONOFLEX 203 Al | D62: bm | E62: 10 | G62: =ROUND(E62*F62,2) -> 0
B63: 2.09. | C63: Tepelná izolácia Kflex H duct metal ALU hr. 20mm | D63: m2 | E63: 47 | G63: =ROUND(E63*F63,2) -> 0
B64: 2.10. | C64: Akustická izolácia Rockwoll klimamat/ larock 40 ALS (ALU LAMELLA MAT) hr. 40mm, vrátane upevnenia | D64: m2 | E64: 8 | G64: =ROUND(E64*F64,2) -> 0
C66: Montáž | D66: kpl | E66: 1 | G66: =ROUND(E66*F66,2) -> 0
C67: Doprava, transport, zdvíhacie mechanizmy | D67: kpl | E67: 1 | G67: =ROUND(E67*F67,2) -> 0
C68: Zaregulovanie a skúšky | D68: kpl | E68: 1 | G68: =ROUND(E68*F68,2) -> 0
C69: Ostatný montážny a spojovací materiál | D69: kpl | E69: 1 | G69: =ROUND(E69*F69,2) -> 0
C70: Odborné poskladanie VZT jednotky pol. č. 1.01. | D70: kpl | E70: 1 | G70: =ROUND(E70*F70,2) -> 0
C71: Odborné poskladanie VZT jednotky pol. č. 2.01. | D71: kpl | E71: 1 | G71: =ROUND(E71*F71,2) -> 0
A73: Poznámky:
A74: - výkaz výmer preveriť s výkresovou časťou, v prípade zistenia nesúladu bezodkladne kontaktovať projektanta
A75: - prevedenie vzduchotechnických jednotiek pol.č. 1.01, 2.01 preveriť pred objednaním u dodávateľa podľa výkresovej časti
A76: - farebné prevedenie koncových elementov pred objednaním odsúhlasiť s časťou stavba/investorom
C80: Zariadenie č. 3 – Chladenie fitness sály
B81: 3.01. | C81: Vonkajšia kondenzačná jednotka ENKO Kaysun KMF-450 DN6, Pi=18kW, 40A, 400V/3f/50Hz, 230Kg | D81: ks | E81: 1 | G81: =ROUND(E81*F81,2) -> 0
B82: 3.02. | C82: Vnútorná kanálová jednotka ENKO Kaysun KPDHF-90 DN5.0, Qchl=9kW, Pi=0,12kW, 230V, zabudované čerpadlo kondenzu | D82: ks | E82: 5 | G82: =ROUND(E82*F82,2) -> 0
C83: Príslušenstvo: Nástenný ovládač ENKO Kaysun KCT-04 SR | D83: ks | E83: 5 | G83: =ROUND(E83*F83,2) -> 0
C84: Príslušenstvo: nástavec 850x180/1000x200mm dĺžka 500mm | D84: ks | E84: 4 | G84: =ROUND(E84*F84,2) -> 0
C85: Príslušenstvo: nástavec 850x180/1000x200mm dĺžka 1000mm | D85: ks | E85: 1 | G85: =ROUND(E85*F85,2) -> 0
C86: Príslušenstvo: Výustka Systemair NOVA-A-2-2-1000x200-H-SW | D86: ks | E86: 5 | G86: =ROUND(E86*F86,2) -> 0
C87: Príslušenstvo: Tepelná izolácia Kflex H duct metal ALU hr. 12mm | D87: m2 | E87: 8 | G87: =ROUND(E87*F87,2) -> 0
G88: =ROUND(E88*F88,2) -> 0
C89: Refnet KCMI 112 | D89: ks | E89: 2 | G89: =ROUND(E89*F89,2) -> 0
C90: Refnet KCMI 212 | D90: ks | E90: 1 | G90: =ROUND(E90*F90,2) -> 0
C91: Refnet KCMI 312 | D91: ks | E91: 1 | G91: =ROUND(E91*F91,2) -> 0
C92: Izolované Cu potrubie + info kábel, d 9,52mm | D92: bm | E92: 41 | G92: =ROUND(E92*F92,2) -> 0
C93: Izolované Cu potrubie + info kábel, d 12,7mm | D93: bm | E93: 16 | G93: =ROUND(E93*F93,2) -> 0
C94: Izolované Cu potrubie + info kábel, d 15,9mm | D94: bm | E94: 28 | G94: =ROUND(E94*F94,2) -> 0
C95: Izolované Cu potrubie + info kábel, d 19,1mm | D95: bm | E95: 10 | G95: =ROUND(E95*F95,2) -> 0
C96: Izolované Cu potrubie + info kábel, d 22,2mm | D96: bm | E96: 5 | G96: =ROUND(E96*F96,2) -> 0
C97: Izolované Cu potrubie + info kábel, d 28,6mm | D97: bm | E97: 16 | G97: =ROUND(E97*F97,2) -> 0
C98: Chladivo R410A | D98: kg | E98: 12 | G98: =ROUND(E98*F98,2) -> 0
C99: Protipožiarna bandáž Hilti CFS-B | D99: bm | E99: 2 | G99: =ROUND(E99*F99,2) -> 0
C101: Montáž | D101: kpl | E101: 1 | G101: =ROUND(E101*F101,2) -> 0
... C105: Uvedenie do prevádzky pol. č. 3.01. | D105: kpl | E105: 1 | G105: =ROUND(E105*F105,2) -> 0
C107: CELKOM | G107: =SUM(G4:G105) -> 0
A109: Poznámky:
A110: - výkaz výmer preveriť s výkresovou časťou, v prípade zistenia nesúladu bezodkladne kontaktovať projektanta
A111: - farebné prevedenie koncových elementov pred objednaním odsúhlasiť s časťou stavba/investorom
...

Sheet Elektroinštalácia 
A1: VÝKAZ VÝMER
A2: Stavba: | B2: SPORTWELL
A3: Objekt: ELEKTROINŠTALÁCIA
A6: Objednávateľ:
A7: Zhotoviteľ: | G7: Spracoval:
A8: Miesto: Bratislava | G8: Dátum:
A10: Č. | B10: KCN | C10: Kód položky | D10: Popis | E10: MJ | F10: Množstvo celkom | G10: Cena jednotková | H10: Cena celkom
A11: 1 | B11: 2 | C11: 3 | D11: 4 | E11: 5 | F11: 6 | G11: 9 | H11: 10
C13: 05 | D13: Búracie práce a demolácie
C14: 0501 | D14: Búranie konštrukcií | H14: =SUM(H15:H18) -> 0
A15: 1 | B15: 05 | C15: 05010603000200 | D15: Vysekanie kapsy pre klátiky a krabice, velkosti do 100x100x50 mm, -0,00100t | E15: ks | F15: 115 | H15: =G15*F15 -> 0
A16: 2 | B16: 05 | C16: 05010603000300 | D16: Vysekanie rýh v akomkolvek murive tehlovom na akúkolvek maltu do hlbky 30 mm a š. do 30 mm, -0,00200 t | E16: m | F16: 334 | H16: =G16*F16 -> 0
A17: 3 | B17: 05 | C17: 05010604000310 | D17: Vysekanie v murive betónovom kapsy pre klátiky a krabice, vel. do 100x100x50 mm, -0,00100t | E17: ks | F17: 7 | H17: =G17*F17 -> 0
A18: 4 | B18: 05 | C18: 05010604000670 | D18: Vysekanie rýh v betónových stenách do hlbky 30 mm a š. do 30 mm, -0,00200t | E18: m | F18: 45 | H18: =G18*F18 -> 0
C19: 0509 | D19: Doplnujúce práce | H19: =SUM(H20:H22) -> 0
A20: 5 | B20: 05 | C20: 05090502015804 | D20: Vrty príklepovým vrtákom do D 24 mm do stien alebo smerom dole do betónu -0.00001t | E20: cm | F20: 602 | H20: =G20*F20 -> 0
A21: 6 | B21: 05 | C21: 05090502015805 | D21: Vrty príklepovým vrtákom do D 30 mm do stien alebo smerom dole do betónu -0.00002t | E21: cm | F21: 200 | H21: =G21*F21 -> 0
A22: 7 | B22: 05 | C22: 05090502015805 | D22: Jadrové vrty | E22: kpl | F22: 1 | H22: =G22*F22 -> 0
C23: 91 | D23: Montáž silnoprúdových rozvodov a zariadení
C24: 9101 | D24: Úložný materiál | H24: =SUM(H25:H28) -> 0
A25: 8 | B25: 91 | C25: 91011401010020 | D25: Osadenie lustrovej svorky/svorky vrátane zapojenia do 3 x 4 | E25: ks | F25: 749 | H25: =G25*F25 -> 0
A26: 9 | C26: ESV000001063 | D26: Svorka krabicová 222-412 WAGO 2x0,08-4mm2 2-pólová pácková sivá | E26: ks | F26: 390 | H26: =G26*F26 -> 0
A27: 10 | C27: ESV000001064 | D27: Svorka krabicová 222-413 WAGO 3x0,08-4mm2 3-pólová pácková sivá | E27: ks | F27: 320 | H27: =G27*F27 -> 0
A28: 11 | C28: ESV000001065 | D28: Svorka krabicová 222-415 WAGO 5x0,08-4mm2 5-pólová pácková sivá | E28: ks | F28: 39 | H28: =G28*F28 -> 0
C29: M | D29: Práce a dodávky M
C30: 22-M | D30: Montáže oznamovacích a zabezpecovacích zariadení | H30: =SUM(H31:H36) -> 0
A31: 12 | B31: 922 | C31: 220511031 | D31: Kábel dátový FTP uložený v rúrkach | E31: m | F31: 800 | H31: =G31*F31 -> 0
A32: 13 | B32: 341 | C32: 341230001400 | D32: Kábel medený dátový SXKD-6a-FTP-LSOHFR-B2ca | E32: m | F32: 800 | H32: =G32*F32 -> 0
A33: 14 | B33: 922 | C33: 220511010 | D33: Montáž zásuvka 2xRJ45 pod omietku | E33: ks | F33: 5 | H33: =G33*F33 -> 0
A34: 15 | B34: 345 | C34: 345340004100 | D34: Zásuvka dátová 2xRJ45 Cat6A SCHNEIDER SEDNA | E34: ks | F34: =F33 -> 5 | H34: =G34*F34 -> 0
A35: 16 | B35: 345 | C35: 345340004100 | D35: SCHNEIDER SEDNA kryt | E35: ks | F35: =F34 -> 5 | H35: =G35*F35 -> 0
A36: 17 | B36: 345 | C36: 345340004100 | D36: SCHNEIDER SEDNA rámik | E36: ks | F36: =F35 -> 5 | H36: =G36*F36 -> 0
C37: 21-M | D37: Elektromontáže | H37: =SUM(H38:H109) -> 0
A38: 18 | B38: 921 | C38: 210010026 | D38: Rúrka ohybná elektroinštalacná z PVC typ FXP 20, uložená pevne | E38: m | F38: 1050 | H38: =G38*F38 -> 0
A39: 19 | B39: 345 | C39: 345710009200 | D39: Rúrka ohybná vlnitá pancierová PVC-U, FXP DN 20 | E39: m | F39: 1050 | H39: =G39*F39 -> 0
A40: 20 | B40: 921 | C40: 210010025 | D40: Rúrka ohybná elektroinštalacná z PVC typ FXP 25, uložená pevne | E40: m | F40: 170 | H40: =G40*F40 -> 0
A41: 21 | B41: 345 | C41: 345710009100 | D41: Rúrka ohybná vlnitá pancierová PVC-U, FXP DN 25 | E41: m | F41: 170 | H41: =G41*F41 -> 0
A42: 22 | B42: 921 | C42: 210010027 | D42: Rúrka ohybná elektroinštalacná z PVC typ FXP 32, uložená pevne | E42: m | F42: 50 | H42: =G42*F42 -> 0
A43: 23 | B43: 345 | C43: 345710009300 | D43: Rúrka ohybná vlnitá pancierová PVC-U, FXP DN 32 | E43: m | F43: 50 | H43: =G43*F43 -> 0
A44: 24 | B44: 921 | C44: 210010301 | D44: Krabica prístrojová bez zapojenia (1901, KP 68, KZ 3) | E44: ks | F44: 105 | H44: =G44*F44 -> 0
A45: 25 | B45: 345 | C45: 345410002000 | D45: Krabica prístrojová z PVC pod omietku KP 67/3, Dxh 70x45 mm, KOPOS | E45: ks | F45: 105 | H45: =G45*F45 -> 0
A46: 26 | B46: 921 | C46: 210011310 | D46: Osadenie polyamidovej príchytky HM 8 do tvrdého kamena, jednoduchého betónu a železobetónu | E46: ks | F46: 726 | H46: =G46*F46 -> 0
A47: 27 | B47: 311 | C47: 311310008400 | D47: Hmoždinka KOPOS HM 8x40 mm PA, pre tvrdé podklady na elektroinštaláciu | E47: ks | F47: 726 | H47: =G47*F47 -> 0
A48: 28 | B48: 921 | C48: 210011310 | D48: OBO Grip trasové podpery M15 dodávka + montáž | E48: ks | F48: 355 | H48: =G48*F48 -> 0
A49: 29 | B49: 311 | C49: 311310008400 | D49: OBO grip trasové podpery M30 dodávka + motnáž | E49: ks | F49: 355 | H49: =G49*F49 -> 0
A50: 30 | B50: 921 | C50: 210110041 | D50: Spínač č.1 polozapustené a zapustené vrátane zapojenia | E50: ks | F50: 10 | H50: =G50*F50 -> 0
A51: 31 | B51: 345 | C51: 345340004100 | D51: spínač č.1 SCHNEIDER SEDNA | E51: ks | F51: 10 | H51: =G51*F51 -> 0
A52: 32 | B52: 345 | C52: 345340004100 | D52: SCHNEIDER SEDNA kryt | E52: ks | F52: 10 | H52: =G52*F52 -> 0
A53: 33 | B53: 345 | C53: 345340004100 | D53: SCHNEIDER SEDNA rámik | E53: ks | F53: 10 | H53: =G53*F53 -> 0
A54: 34 | B54: 921 | C54: 210110041 | D54: Spínač č.5 polozapustené a zapustené vrátane zapojenia | E54: ks | F54: 2 | H54: =G54*F54 -> 0
A55: 35 | B55: 345 | C55: 345340004100 | D55: spínač č.5 SCHNEIDER SEDNA | E55: ks | F55: 2 | H55: =G55*F55 -> 0
A56: 36 | B56: 345 | C56: 345340004100 | D56: SCHNEIDER SEDNA kryt | E56: ks | F56: 2 | H56: =G56*F56 -> 0
A57: 37 | B57: 345 | C57: 345340004100 | D57: SCHNEIDER SEDNA rámik | E57: ks | F57: 2 | H57: =G57*F57 -> 0
A58: 38 | B58: 921 | C58: 210110046 | D58: Spínač č.7 polozapustené a zapustené vrátane zapojenia | E58: ks | F58: 2 | H58: =G58*F58 -> 0
A59: 39 | B59: 345 | C59: 345330000700 | D59: spínač č.7 SCHNEIDER SEDNA | E59: ks | F59: 2 | H59: =G59*F59 -> 0
A60: 40 | B60: 345 | C60: 345330000700 | D60: SCHNEIDER SEDNA kryt | E60: ks | F60: 2 | H60: =G60*F60 -> 0
A61: 41 | B61: 345 | C61: 345330000700 | D61: SCHNEIDER SEDNA rámik | E61: ks | F61: 2 | H61: =G61*F61 -> 0
A62: 42 | B62: 921 | C62: 210110044 | D62: Spínač č.5B polozapustené a zapustené vrátane zapojenia | E62: ks | F62: 2 | H62: =G62*F62 -> 0
A63: 43 | B63: 345 | C63: 345330003400 | D63: spínač č.5B SCHNEIDER SEDNA | E63: ks | F63: 2 | H63: =G63*F63 -> 0
A64: 44 | B64: 345 | C64: 345330003400 | D64: SCHNEIDER SEDNA kryt | E64: ks | F64: 2 | H64: =G64*F64 -> 0
A65: 45 | B65: 345 | C65: 345330003400 | D65: SCHNEIDER SEDNA rámik | E65: ks | F65: 2 | H65: =G65*F65 -> 0
A66: 46 | B66: 921 | C66: 210111012 | D66: Domová zásuvka polozapustená alebo zapustená, 10/16 A 250 V 2P + Z 2 x zapojenie | E66: ks | F66: 60 | H66: =G66*F66 -> 0
A67: 47 | B67: 921 | C67: 345330003400 | D67: Zásuvka SCHNEIDER SEDNA | E67: ks | F67: 60 | H67: =G67*F67 -> 0
A68: 48 | B68: 345 | C68: 345330003400 | D68: SCHNEIDER SEDNA kryt | E68: ks | F68: 60 | H68: =G68*F68 -> 0
A69: 49 | B69: 345 | C69: 345330003400 | D69: SCHNEIDER SEDNA rámik | E69: ks | F69: 60 | H69: =G69*F69 -> 0
A70: 50 | B70: 345 | C70: 210110044 | D70: Spínač č.1/0 polozapustené a zapustené vrátane zapojenia | E70: ks | F70: 4 | H70: =G70*F70 -> 0
A71: 51 | B71: 921 | C71: 345330003400 | D71: Spínač 1/0 SCHNEIDER SEDNA | E71: ks | F71: 4 | H71: =G71*F71 -> 0
A72: 52 | B72: 345 | C72: 345330003400 | D72: SCHNEIDER SEDNA kryt | E72: ks | F72: 4 | H72: =G72*F72 -> 0
A73: 53 | B73: 345 | C73: 345330003400 | D73: SCHNEIDER SEDNA rámik | E73: ks | F73: 4 | H73: =G73*F73 -> 0
A74: 54 | B74: 345 | C74: 210110044 | D74: Sporáková prípojka 400V s tlmivkou 16A zapustená ťahová montáž | E74: ks | F74: 2 | H74: =G74*F74 -> 0
A75: 55 | B75: 921 | C75: 345330003400 | D75: 3536N-C03252 11 biela/ biela Spínač stláčací PRESSTO | E75: ks | F75: 2 | H75: =G75*F75 -> 0
A76: 56 | B76: 921 | C76: 210800158 | D76: Kábel medený uložený pevne 450/750 V 5x1,5 | E76: m | F76: 430 | H76: =G76*F76 -> 0
A77: 57 | B77: 341 | C77: 341110001900 | D77: Kábel medený CXKE - R - J 5x1,5 mm2 | E77: m | F77: 430 | H77: =G77*F77 -> 0
A78: 58 | B78: 921 | C78: 210800628 | D78: Vodic medený uložený pevne H07V-K (CYA) 450/750 V 6 | E78: m | F78: 570 | H78: =G78*F78 -> 0
A79: 59 | B79: 341 | C79: 341310009100 | D79: Vodic medený flexibilný H07V-K 6 mm2 | E79: m | F79: 570 | H79: =G79*F79 -> 0
A80: 60 | B80: 921 | C80: 210800629 | D80: Vodic medený uložený pevne H07V-K (CYA) 450/750 V 4 | E80: m | F80: 215 | H80: =G80*F80 -> 0
A81: 61 | B81: 341 | C81: 341310009100 | D81: Vodic medený flexibilný H07V-K 4 mm2 | E81: m | F81: 215 | H81: =G81*F81 -> 0
A82: 62 | B82: 921 | C82: 210800629 | D82: Vodic medený uložený pevne H07V-K (CYA) 450/750 V 16 | E82: m | F82: 130 | H82: =G82*F82 -> 0
A83: 63 | B83: 341 | C83: 341310009200 | D83: Vodic medený flexibilný H07V-K 16 mm2 | E83: m | F83: 130 | H83: =G83*F83 -> 0
A84: 64 | B84: 921 | C84: 210872104 | D84: Vodic medený uložený pevne 3x1,5 | E84: m | F84: 780 | H84: =G84*F84 -> 0
A85: 65 | B85: 341 | C85: 341210001800 | D85: Vodic medený uložený pevne CXKE - R -O 3x1,5 | E85: m | F85: 780 | H85: =G85*F85 -> 0
A86: 66 | B86: 921 | C86: 210800631 | D86: Vodic medený uložený pevne H07V-K (CYA) 450/750 V 25 | E86: m | F86: 96 | H86: =G86*F86 -> 0
A87: 67 | B87: 341 | C87: 341310009400 | D87: Vodic medený flexibilný H07V-K 25 mm2 | E87: m | F87: 96 | H87: =G87*F87 -> 0
A88: 68 | B88: 921 | C88: 210800146 | D88: Kábel medený uložený pevne 450/750 V 3x2,5 | E88: m | F88: 690 | H88: =G88*F88 -> 0
A89: 69 | B89: 341 | C89: 341110000800 | D89: Kábel medený CXKE - R - J 3x2,5 mm2 | E89: m | F89: 690 | H89: =G89*F89 -> 0
A90: 70 | B90: 921 | C90: 210800159 | D90: Kábel medený uložený pevne CYKY 450/750 V 5x2,5 | E90: m | F90: 40 | H90: =G90*F90 -> 0
A91: 71 | B91: 341 | C91: 341110002000 | D91: Kábel medený CXKE - R - J 5x2,5 mm2 | E91: m | F91: 50 | H91: =G91*F91 -> 0
A92: 72 | B92: 921 | C92: 210800160 | D92: Kábel medený uložený pevne CYKY 450/750 V 5x4 | E92: m | F92: 690 | H92: =G92*F92 -> 0
A93: 73 | B93: 341 | C93: 341110002100 | D93: Kábel medený CXKE - R - J 5x4 mm2 | E93: m | F93: 690 | H93: =G93*F93 -> 0
A94: 74 | B94: 921 | C94: 210800161 | D94: Kábel medený uložený pevne 450/750 V 2x1,5 | E94: m | F94: 150 | H94: =G94*F94 -> 0
A95: 75 | B95: 341 | C95: 341110002200 | D95: Kábel medený CXKE - R - O 2x1,5 | E95: m | F95: 150 | H95: =G95*F95 -> 0
A96: 76 | B96: 921 | C96: 210800162 | D96: Kábel medený uložený pevne CYKY 450/750 V 5x16 | E96: m | F96: 38 | H96: =G96*F96 -> 0
... A109: 89 | B109: 921 | C109: 210100004 | D109: Ukoncenie vodicov v rozvádzac. vrátane zapojenia a vodicovej koncovky do 25 mm2 | E109: ks | F109: 15 | H109: =G109*F109 -> 0
C110: 22-M | D110: Montáže a dodávka svietidiel | H110: =SUM(H111:H127) -> 0
A111: 90 | B111: 922 | D111: LED 230V/24W Kruhové svietidlo so senzorom pohybu 1920lm, IP44 | E111: ks | F111: 16 | H111: =G111*F111 -> 0
A112: 91 | B112: 341 | D112: Montáž svietidiel do podhľadu | E112: ks | F112: 16 | H112: =G112*F112 -> 0
A113: 92 | B113: 341 | D113: Led zdroj 230VAC-12VDC 120W | E113: ks | F113: 2 | H113: =G113*F113 -> 0
A114: 93 | B114: 341 | D114: Led zdroj 230VAC-12VDC 120W | E114: ks | F114: 2 | H114: =G114*F114 -> 0
A115: 94 | B115: 345 | D115: Núdzové svietidla EVG 6-36W, 3 hodiny, 3,6V/4,0Ah alebo ekvivalent | E115: ks | F115: 8 | H115: =G115*F115 -> 0
A116: 95 | B116: 345 | D116: Zapojenie svietidla 1x svetelný zdroj, núdzového, s lineárnou žiarovkou - núdzový režim | E116: ks | F116: 8 | H116: =G116*F116 -> 0
...

Sheet CCTV Kamerový systém
A1: VÝKAZ VÝMER
A2: Stavba: | B2: SPORTWELL
A3: Objekt: KAMEROVÝ SYSTÉM
A6: Objednávateľ:
A7: Zhotoviteľ: | G7: Spracoval:
A8: Miesto: Bratislava | G8: Dátum:
A10: Č. | B10: KCN | C10: Kód položky | D10: Popis | E10: MJ | F10: Množstvo celkom | G10: Cena jednotková | H10: Cena celkom
A11: 1 | B11: 2 | C11: 3 | D11: 4 | E11: 5 | F11: 6 | G11: 9 | H11: 10
C13: 01 | D13: Zemné práce a hrubé stavebné úpravy | H13: =SUM(H14:H15) -> 0
A14: 1 | B14: 05 | C14: 05010603000300 | D14: Vysekanie rýh v akomkolvek murive tehlovom na akúkolvek maltu do hlbky 30 mm a š. do 30 mm, -0,00200 t | E14: m | F14: 26 | H14: =G14*F14 -> 0
A15: 2 | B15: 05 | C15: 05010604000670 | D15: Vysekanie rýh v betónových stenách do hlbky 30 mm a š. do 30 mm, -0,00200t | E15: m | F15: 12 | H15: =G15*F15 -> 0
C16: 2 | D16: Doplnujúce práce | H16: =SUM(H17:H18) -> 0
A17: 3 | B17: 05 | C17: 05090502015804 | D17: Vrty príklepovým vrtákom do D 24 mm do stien alebo smerom dole do betónu -0.00001t | E17: cm | F17: 90 | H17: =G17*F17 -> 0
A18: 4 | B18: 05 | C18: 05090502015805 | D18: Vrty príklepovým vrtákom do D 30 mm do stien alebo smerom dole do betónu -0.00002t | E18: cm | F18: 63 | H18: =G18*F18 -> 0
C19: M | D19: Práce a dodávky M
C20: 22-M | D20: Montáže oznamovacích a zabezpecovacích zariadení | H20: =SUM(H21:H36) -> 0
A21: 5 | B21: 922 | C21: 220511031 | D21: Kábel dátový FTP uložený v rúrkach | E21: m | F21: 282 | H21: =G21*F21 -> 0
A22: 6 | B22: 341 | C22: 341230001400 | D22: Kábel medený dátový SXKD-5E-FTP-LSOHFR-B2ca | E22: m | F22: 282 | H22: =G22*F22 -> 0
A23: 7 | B23: 922 | C23: 220511031 | D23: Kábel dátový FTP uložený v rúrkach | E23: m | F23: 35 | H23: =G23*F23 -> 0
A24: 8 | B24: 341 | C24: 341230001400 | D24: Kábel medený dátový SXKD-6A-FTP-LSOHFR-B2ca | E24: m | F24: 35 | H24: =G24*F24 -> 0
A25: 9 | D25: Dahua IPC-8 Mpx dome IP kamera | E25: ks | F25: 6 | H25: =G25*F25 -> 0
A26: 10 | D26: Dahua PFA130-E-BLACK prídavný límec pre kamery | E26: ks | F26: 6 | H26: =G26*F26 -> 0
A27: 11 | D27: Záznamové zariadenie -Dahua NVR IP PoE záznamové zariadenie | E27: ks | F27: 1 | H27: =G27*F27 -> 0
A28: 12 | D28: Seagate HDD10T 24/7 sata disk | E28: ks | F28: 1 | H28: =G28*F28 -> 0
A29: 13 | D29: Dahua CCTV LED monitor + držiak na stenu | E29: ks | F29: 1 | H29: =G29*F29 -> 0
A30: 14 | D30: Zabat UPS zdroj nepretržitého napájania | E30: ks | F30: 1 | H30: =G30*F30 -> 0
A31: 15 | D31: AXON ACAR 504 WF prepäťová ochrana | E31: ks | F31: 1 | H31: =G31*F31 -> 0
A32: 16 | D32: Koncovka RJ45 cat 5 | E32: ks | F32: 12 | H32: =G32*F32 -> 0
A33: 17 | D33: Zásuvka 230V montáž zapustená | E33: ks | F33: 1 | H33: =G33*F33 -> 0
A34: 18 | D34: Inštalačný a spotrebný materiál ( skrutky, hmoždiny,konzoly,úchyty...) | E34: kpl | F34: 0.8 | H34: =G34*F34 -> 0
A35: 19 | D35: Montáž celkom : Montáž prvkov kamerového systému,Konfigurácia prvkov, zapojenie, oživenie, odskúšanie, Konfigurácia video servera, zaškolenie obsluhy. | E35: kpl | F35: 0.8 | H35: =G35*F35 -> 0
A36: 20 | D36: Kompletáž dátového centra | E36: kpl | F36: 1 | H36: =G36*F36 -> 0
C37: 21-M | D37: Elektromontáže | H37: =SUM(H38:H45) -> 0
A38: 21 | B38: 921 | C38: 210010026 | D38: Rúrka ohybná elektroinštalacná z PVC typ FXP 20, uložená pevne | E38: m | F38: 254 | H38: =G38*F38 -> 0
A39: 22 | B39: 345 | C39: 345710009200 | D39: Rúrka ohybná vlnitá pancierová PVC-U, FXP DN 20 | E39: m | F39: 254 | H39: =G39*F39 -> 0
A40: 23 | B40: 921 | C40: 210011310 | D40: Vytvorenie trasy GRIP pre samostatnú nehorľavú trasu EZS | E40: m | F40: 44 | H40: =G40*F40 -> 0
A41: 24 | B41: 311 | C41: 311310008400 | D41: Vytvorenie trasy GRIP pre samostatnú nehorľavú trasu EZS | E41: m | F41: 44 | H41: =G41*F41 -> 0
A42: 25 | B42: 341 | C42: 341110000700 | D42: Kábel medený CXKE - R - J 3x1,5 mm2 | E42: m | F42: 35 | H42: =G42*F42 -> 0
A43: 26 | B43: 921 | C43: 210800146 | D43: Kábel medený uložený pevne 450/750 V 3x1,5 | E43: m | F43: 35 | H43: =G43*F43 -> 0
A44: 27 | B44: 922 | C44: 220261661 | D44: Vyznacenie trasy vedenia podla plánu | E44: m | F44: 447 | H44: =G44*F44 -> 0
A45: 28 | B45: 921 | C45: 210100001 | D45: Ukoncenie vodicov v rozvádzac. vrátane zapojenia a vodicovej koncovky do 2,5 mm2 | E45: ks | F45: 11 | H45: =G45*F45 -> 0
C46: HZS | D46: Doplnkové montážné práce | H46: =SUM(H47:H52) -> 0
A47: 29 | B47: HZS | C47: HZS000125.S | D47: Dopravné náklady | E47: % | F47: 0.5 | H47: =G47*F47 -> 0
A48: 30 | B48: HZS | C48: HZS000125.S | D48: Montážný a spotrebný materiál | E48: % | F48: 1.87 | H48: =G48*F48 -> 0
A49: 31 | B49: HZS | C49: HZS000125.S | D49: Revízna správa CCTV | E49: ks | F49: 1 | H49: =G49*F49 -> 0
A50: 32 | B50: HZS | C50: HZS000125.S | D50: Projektová dokumnetácia skutkového stavu a BIS projekt GDPR | E50: ks | F50: 1 | H50: =G50*F50 -> 0
A51: 33 | B51: HZS | C51: HZS000125.S | D51: Nepredvídateľné udalosti pri montáži | E51: hod | F51: 2 | H51: =G51*F51 -> 0
A52: 34 | B52: HZS | C52: HZS000125.S | D52: Zaškolenie obsluhy a implementácia do smartphonu | E52: ks | F52: 1 | H52: =G52*F52 -> 0
D54: Celkom | H54: =H46+H37+H20+H16+H13 -> 0

Sheet Alarm
A1: VÝKAZ VÝMER
A2: Stavba: | B2: SPORTWELL
A3: Objekt: ALARM zabezpečovací systém
A6: Objednávateľ:
A7: Zhotoviteľ: | G7: Spracoval:
A8: Miesto: Bratislava | G8: Dátum:
A10: Č. | B10: KCN | C10: Kód položky | D10: Popis | E10: MJ | F10: Množstvo celkom | G10: Cena jednotková | H10: Cena celkom
A11: 1 | B11: 2 | C11: 3 | D11: 4 | E11: 5 | F11: 6 | G11: 9 | H11: 10
C13: 01 | D13: Zemné práce a hrubé stavebné úpravy | H13: =SUM(H14:H17) -> 0
A14: 1 | B14: 05 | C14: 05010603000200 | D14: Vysekanie kapsy pre klátiky a krabice, velkosti do 200x200x50 mm, -0,00100t | E14: ks | F14: 4 | H14: =G14*F14 -> 0
A15: 2 | B15: 05 | C15: 05010603000300 | D15: Vysekanie rýh v akomkolvek murive tehlovom na akúkolvek maltu do hlbky 30 mm a š. do 30 mm, -0,00200 t | E15: m | F15: 47 | H15: =G15*F15 -> 0
A16: 3 | B16: 05 | C16: 05010604000310 | D16: Vysekanie v murive betónovom kapsy pre klátiky a krabice, vel. do 200x200x50 mm, -0,00100t | E16: ks | F16: 1 | H16: =G16*F16 -> 0
A17: 4 | B17: 05 | C17: 05010604000670 | D17: Vysekanie rýh v betónových stenách do hlbky 30 mm a š. do 30 mm, -0,00200t | E17: m | F17: 15 | H17: =G17*F17 -> 0
C18: 2 | D18: Doplnujúce práce | H18: =SUM(H19:H20) -> 0
A19: 8 | B19: 05 | C19: 05090502015804 | D19: Vrty príklepovým vrtákom do D 24 mm do stien alebo smerom dole do betónu -0.00001t | E19: cm | F19: 102 | H19: =G19*F19 -> 0
A20: 9 | B20: 05 | C20: 05090502015805 | D20: Vrty príklepovým vrtákom do D 30 mm do stien alebo smerom dole do betónu -0.00002t | E20: cm | F20: 53 | H20: =G20*F20 -> 0
C21: M | D21: Práce a dodávky M
C22: 22-M | D22: Montáže oznamovacích a zabezpecovacích zariadení | H22: =SUM(H23:H39) -> 0
A23: 10 | B23: 922 | C23: 220511031 | D23: Kábel dátový FTP uložený v rúrkach | E23: m | F23: 262 | H23: =G23*F23 -> 0
A24: 11 | B24: 341 | C24: 341230001400 | D24: Kábel medený dátový SXKD-5E-FTP-LSOHFR-B2ca | E24: m | F24: 262 | H24: =G24*F24 -> 0
A25: 12 | B25: 922 | C25: 220511031 | D25: Kábel dátový FTP uložený v rúrkach | E25: m | F25: 38 | H25: =G25*F25 -> 0
A26: 13 | B26: 341 | C26: 341230001400 | D26: Kábel medený dátový SXKD-6A-FTP-LSOHFR-B2ca | E26: m | F26: 38 | H26: =G26*F26 -> 0
A27: 15 | D27: Ústredňa s LAN, GSM a rádiovým modulom - dodávané vždy s JA-192Y | E27: ks | F27: 1 | H27: =G27*F27 -> 0
A28: 16 | D28: Zbernicové rozhranie RS-485 | E28: ks | F28: 1 | H28: =G28*F28 -> 0
A29: 18 | D29: Zbernicový prístupový modul s displejom, klávesnicou a RFID - sivý - antracit | E29: ks | F29: 1 | H29: =G29*F29 -> 0
A30: 19 | D30: Ovládací segment pre prístupové moduly - antracit | E30: ks | F30: 2 | H30: =G30*F30 -> 0
A31: 23 | D31: Zbernicový modul pripojenia magnetických detektorov | E31: ks | F31: 1 | H31: =G31*F31 -> 0
A32: 24 | D32: COMBO - detektor pohybu osôb a rozbitia skla | E32: ks | F32: 3 | H32: =G32*F32 -> 0
A33: 28 | D33: Zbernicová vnútorná siréna | E33: ks | F33: 2 | H33: =G33*F33 -> 0
A34: 33 | D34: Bezúdržbový zálohovací akumulátor | E34: ks | F34: 1 | H34: =G34*F34 -> 0
A35: 34 | D35: Modul izolátora zbernice | E35: ks | F35: 1 | H35: =G35*F35 -> 0
A36: 35 | D36: Viacúčelová montážna krabica | E36: ks | F36: 3 | H36: =G36*F36 -> 0
A37: 36 | D37: Rozbočovač zbernice | E37: ks | F37: 1 | H37: =G37*F37 -> 0
A38: 37 | D38: Prútová anténa | E38: ks | F38: 1 | H38: =G38*F38 -> 0
A39: 39 | D39: Konfigurácia a montáž systému | E39: kpl | F39: 1 | H39: =G39*F39 -> 0
C40: 21-M | D40: Elektromontáže | H40: =SUM(H41:H50) -> 0
A41: 40 | B41: 921 | C41: 210010026 | D41: Rúrka ohybná elektroinštalacná z PVC typ FXP 20, uložená pevne | E41: m | F41: 280 | H41: =G41*F41 -> 0
A42: 41 | B42: 345 | C42: 345710009200 | D42: Rúrka ohybná vlnitá pancierová PVC-U, FXP DN 20 | E42: m | F42: 280 | H42: =G42*F42 -> 0
A43: 42 | B43: 921 | C43: 210010301 | D43: Krabica prístrojová bez zapojenia (1901, KP 68, KZ 3) | E43: ks | F43: 1 | H43: =G43*F43 -> 0
A44: 43 | B44: 345 | C44: 345410002000 | D44: Krabica prístrojová z PVC pod omietku KP 67/3, Dxh 70x45 mm, KOPOS | E44: ks | F44: 1 | H44: =G44*F44 -> 0
A45: 44 | B45: 921 | C45: 210011310 | D45: Vytvorenie trasy GRIP pre samostatnú nehorľavú trasu EZS | E45: m | F45: 170 | H45: =G45*F45 -> 0
A46: 45 | B46: 311 | C46: 311310008400 | D46: Vytvorenie trasy GRIP pre samostatnú nehorľavú trasu EZS | E46: m | F46: 170 | H46: =G46*F46 -> 0
A47: 46 | B47: 341 | C47: 341110000700 | D47: Kábel medený CXKE - R - J 3x1,5 mm2 | E47: m | F47: 37 | H47: =G47*F47 -> 0
A48: 47 | B48: 921 | C48: 210800146 | D48: Kábel medený uložený pevne 450/750 V 3x1,5 | E48: m | F48: 37 | H48: =G48*F48 -> 0
A49: 48 | B49: 922 | C49: 220261661 | D49: Vyznacenie trasy vedenia podla plánu | E49: m | F49: 300 | H49: =G49*F49 -> 0
A50: 49 | B50: 921 | C50: 210100001 | D50: Ukoncenie vodicov v rozvádzac. vrátane zapojenia a vodicovej koncovky do 2,5 mm2 | E50: ks | F50: 57 | H50: =G50*F50 -> 0
C51: HZS | D51: Doplnkové montážné práce | H51: =SUM(H52:H57) -> 0
A52: 50 | B52: HZS | C52: HZS000125.S | D52: Dopravné náklady | E52: % | F52: 0.5 | H52: =G52*F52 -> 0
A53: 51 | B53: HZS | C53: HZS000125.S | D53: Montážný a spotrebný materiál | E53: % | F53: 1.87 | H53: =G53*F53 -> 0
A54: 52 | B54: HZS | C54: HZS000125.S | D54: Revízna správa alarmu | E54: ks | F54: 1 | H54: =G54*F54 -> 0
A55: 53 | B55: HZS | C55: HZS000125.S | D55: Projektová dokumnetácia skutkového stavu | E55: ks | F55: 1 | H55: =G55*F55 -> 0
A56: 54 | B56: HZS | C56: HZS000125.S | D56: Nepredvídateľné udalosti pri montáži | E56: hod | F56: 1.25 | H56: =G56*F56 -> 0
A57: 55 | B57: HZS | C57: HZS000125.S | D57: Zaškolenie obsluhy a implementácia do smartphonu | E57: ks | F57: 1 | H57: =G57*F57 -> 0
D59: Celkom | H59: =H51+H40+H22+H18+H13 -> 0

Sheet Audio systém
A1: VÝKAZ VÝMER
A2: Stavba: | B2: SPORTWELL
A3: Objekt: ELEKTROINŠTALÁCIA
A4: Časť: | B4: AUDIO
A6: Objednávateľ:
A7: Zhotoviteľ: | G7: Spracoval:
A8: Miesto: Bratislava | G8: Dátum:
A10: Č. | B10: KCN | C10: Kód položky | D10: Popis | E10: MJ | F10: Množstvo celkom | G10: Cena jednotková | H10: Cena celkom
A11: 1 | B11: 2 | C11: 3 | D11: 4 | E11: 5 | F11: 6 | G11: 9 | H11: 10
C13: 0501 | D13: Búranie konštrukcií
A14: 1 | B14: 05 | D14: Vysekanie rýh v akomkolvek murive tehlovom na akúkolvek maltu do hlbky 30 mm a š. do 30 mm, -0,00200 t | E14: m | F14: 25 | H14: =G14*F14 -> 0
C15: M | D15: Práce a dodávky M
A16: 2 | B16: 922 | D16: Kábel audio | E16: m | F16: 100 | H16: =G16*F16 -> 0
A17: 3 | B17: 341 | D17: Kábel audio AUDIOQUEST SLiP 14/2 | E17: m | F17: 100 | H17: =G17*F17 -> 0
A18: 4 | B18: 922 | D18: Rúrka ohybná bezhalogénová | E18: m | F18: 45 | H18: =G18*F18 -> 0
A19: 5 | B19: 341 | D19: Rúrka ohybná bezhalogénová, 750N/5cm, -25až105°C, PP, HFXP 16 BK 50M (UNIVOLT) | E19: m | F19: 45 | H19: =G19*F19 -> 0
A20: 6 | B20: 922 | D20: Kábel CXKE-R-J 3x1,5 | E20: m | F20: 27 | H20: =G20*F20 -> 0
A21: 7 | B21: 341 | D21: Kábel CXKE-R-J 3x1,5 | E21: m | F21: 27 | H21: =G21*F21 -> 0
C22: 21-M | D22: Elektromontáže
A23: 8 | B23: 921 | D23: Osadenie polyamidovej príchytky HM 8 do tvrdého kamena, jednoduchého betónu a železobetónu | E23: ks | F23: 56 | H23: =G23*F23 -> 0
A24: 9 | B24: 311 | D24: Hmoždinka KOPOS HM 8x40 mm PA, pre tvrdé podklady na elektroinštaláciu | E24: ks | F24: 56 | H24: =G24*F24 -> 0
A25: 10 | B25: 921 | D25: Reproduktor podhľadový montáž | E25: ks | F25: 4 | H25: =G25*F25 -> 0
A26: 11 | D26: Biamp Reproduktor 40W PODHĽADOVÝ 100V | E26: ks | F26: 4 | H26: =G26*F26 -> 0
A27: 12 | B27: 921 | D27: Montáž zapojenie a oživenie audio zosilovača | E27: ks | F27: 1 | H27: =G27*F27 -> 0
A28: 13 | D28: DSPPA audio prehrávač 100V | E28: ks | F28: 1 | H28: =G28*F28 -> 0
A29: 14 | B29: 922 | D29: Vyznačenie trasy vedenia podla plánu | E29: m | F29: 127 | H29: =G29*F29 -> 0
A30: 15 | B30: 921 | D30: Ukoncenie vodicov v krabiciach vrátane zapojenia a vodicovej koncovky do 2,5 mm2 | E30: ks | F30: 22 | H30: =G30*F30 -> 0
A31: 16 | B31: 921 | D31: Spotrebný a montážný materiál ( svorky, skrutky, hmoždiny, sádra, spojky, úchyty,označovače) | E31: kpl | F31: 0.5 | H31: =G31*F31 -> 0
C32: HZS | D32: Hodinové zúctovacie sadzby
A33: 17 | B33: HZS | D33: naprogramovanie systémov a oživenie, zaškolenie obsluhy | E33: kpl | F33: 0.5 | H33: =G33*F33 -> 0
D34: Celkom | H34: =SUM(H14:H33) -> 0

Sheet Internet,WIFI,SLP
A1: VÝKAZ VÝMER
A2: Stavba: | B2: SPORTWELL
A3: Objekt: Internet, WIFI, slp, TV
A6: Objednávateľ:
A7: Zhotoviteľ: | G7: Spracoval:
A8: Miesto: Bratislava | G8: Dátum:
A10: Č. | B10: KCN | C10: Kód položky | D10: Popis | E10: MJ | F10: Množstvo celkom | G10: Cena jednotková | H10: Cena celkom
A11: 1 | B11: 2 | C11: 3 | D11: 4 | E11: 5 | F11: 6 | G11: 9 | H11: 10
C13: 0501 | D13: WIFI accespoint | H13: =SUM(H14:H24) -> 0
A14: 1 | D14: UBIQUITI UniFi6 Long-Range, Acces Point | E14: ks | F14: 2 | H14: =G14*F14 -> 0
A15: 2 | D15: Montáž a konfigurácia accespointu | E15: ks | F15: 2 | H15: =G15*F15 -> 0
A16: 3 | D16: Rack LEXI-Net 19'' stojanový 18U | E16: ks | F16: 1 | H16: =G16*F16 -> 0
A17: 4 | D17: TP-Link TL-SG1048 48-Port Gigabit Switch TL-SG1048 | E17: ks | F17: 1 | H17: =G17*F17 -> 0
A18: 5 | D18: TL-SL2428P - Přepínač PoE, Bez správy, 1Gbps, 250W, Porty RJ45 28, Porty PoE 24, TP-Link | E18: ks | F18: 1 | H18: =G18*F18 -> 0
A19: 6 | D19: Fortron UPS Champ 3000 VA rack 2U | E19: ks | F19: 1 | H19: =G19*F19 -> 0
A20: 7 | D20: Patch Panel 24 cat 6A | E20: ks | F20: 2 | H20: =G20*F20 -> 0
A21: 8 | D21: Keystone cat 6A | E21: ks | F21: 17 | H21: =G21*F21 -> 0
A22: 9 | D22: Keystone cat 5e | E22: ks | F22: 8 | H22: =G22*F22 -> 0
A23: 10 | D23: Príslušenstvo RACK, vyviazovacie panely, acar panely, trasovač káblov, spojovací materiál, patch káble, prepojovacie káble, montážne príslušenostvo kompletáže racku | E23: kpl | F23: 1 | H23: =G23*F23 -> 0
A24: 11 | D24: Kompletáž slaboprúdového rozvádzača, oživenie, uvedenie do autonómnej prevádzky konfigurácia sieti. | E24: ks | F24: 1 | H24: =G24*F24 -> 0
D25: Celkom | H25: =SUM(H13) -> 0
