Workbook
Name ___hod1: [1]Výkony!$L$14
Name ___hod2: [1]Výkony!$L$17
Name ___hod3: [1]Výkony!$L$20
Name ___hod4: #REF!
Name ___hod4: #REF!
Name ___hod4: #REF!
Name ___hod5: #REF!
Name ___hod5: #REF!
Name ___hod5: #REF!
Name ___hod6: #REF!
Name ___hod6: #REF!
Name ___hod6: #REF!
Name __hod1: [1]Výkony!$L$14
Name __hod2: [1]Výkony!$L$17
Name __hod3: [1]Výkony!$L$20
Name __hod4: #REF!
Name __hod4: #REF!
Name __hod4: #REF!
Name __hod5: #REF!
Name __hod5: #REF!
Name __hod5: #REF!
Name __hod6: #REF!
Name __hod6: #REF!
Name __hod6: #REF!
Name _hod1: [1]Výkony!$L$14
Name _hod2: [1]Výkony!$L$17
Name _hod3: [1]Výkony!$L$20
Name _hod4: #REF!
Name _hod4: #REF!
Name _hod4: #REF!
Name _hod5: #REF!
Name _hod5: #REF!
Name _hod5: #REF!
Name _hod6: #REF!
Name _hod6: #REF!
Name _hod6: #REF!
Name a1xd103: #REF!
Name a1xd103: #REF!
Name a1xd103: #REF!
Name afterdetail_rkap: [2]Elektroinštalácie!#REF!
Name afterdetail_rkap: [2]Elektroinštalácie!#REF!
Name afterdetail_rkap: [2]Elektroinštalácie!#REF!
Name afterdetail_rozpocty: [2]Elektroinštalácie!#REF!
Name afterdetail_rozpocty: [2]Elektroinštalácie!#REF!
Name afterdetail_rozpocty: [2]Elektroinštalácie!#REF!
Name before_rkap: [2]Elektroinštalácie!#REF!
Name before_rkap: [2]Elektroinštalácie!#REF!
Name before_rkap: [2]Elektroinštalácie!#REF!
Name before_rozpocty: [2]Elektroinštalácie!#REF!
Name before_rozpocty: [2]Elektroinštalácie!#REF!
Name before_rozpocty: [2]Elektroinštalácie!#REF!
Name beforeafterdetail_rozpocty.Poznamka2.1: [2]Elektroinštalácie!#REF!
Name beforeafterdetail_rozpocty.Poznamka2.1: [2]Elektroinštalácie!#REF!
Name beforeafterdetail_rozpocty.Poznamka2.1: [2]Elektroinštalácie!#REF!
Name beforedetail_rozpocty: [2]Elektroinštalácie!#REF!
Name beforedetail_rozpocty: [2]Elektroinštalácie!#REF!
Name beforedetail_rozpocty: [2]Elektroinštalácie!#REF!
Name beforefirmy_rozpocty_pozn.Poznamka2: [2]Elektroinštalácie!#REF!
Name beforefirmy_rozpocty_pozn.Poznamka2: [2]Elektroinštalácie!#REF!
Name beforefirmy_rozpocty_pozn.Poznamka2: [2]Elektroinštalácie!#REF!

Sheet CNS
B1: Názov stavby : | C1: Stavebné úpravy priestorov budúceho športovo rehabilitačného centra SportWell, Farského ul. 3266, Bratislava - športová časť
B2: Miesto stavby : | G2: Bratislava
B4: CELKOVÉ NÁKLADY STAVBY
B6: Projektová a inžinierská činnosť
B7: Projektová a inžinierska činnosť | G7: 0
B8: Geologický prieskum | G8: 0
B9: Autorský dozor | G9: 0
B10: CELKOM | G10: =SUM(G7:G9) -> 0
B12: Stavebné objekty
B13: Stavebná časť | G13: =Stavba!J32 -> 0
B14: ZTI | G14: =ZTI!J30 -> 0
B15: Vykurovanie | G15: =VYKUROVANIE!H90 -> 0
B16: VZT | G16: =VZT!G107 -> 0
B17: Elektroinštalácie | G17: ='Elektroinštalácia '!H131 -> 0
B18: CCTV Kamerový systém | G18: ='CCTV Kamerový systém'!H54 -> 0
B19: Alarm | G19: =Alarm!H59 -> 0
B20: Audio systém | G20: ='Audio systém'!H34 -> 0
B21: Internet, WIFI, SPL | G21: ='Internet,WIFI,SLP'!H25 -> 0
B22: CELKOM | G22: =SUM(G13:G21) -> 0
B25: Kompletizačná činnosť
B26: Kompletizačná činnosť | G26: =ROUND(G22*3/100,2) -> 0
B27: CELKOM | G27: =SUM(G26:G26) -> 0
B30: NÁKLADY CELKOM BEZ DPH | G30: =SUM(G10,G22,G27) -> 0
B32: DPH | C32: 23 | D32: % | E32: z | F32: =ABS(G30) -> 0 | G32: =PRODUCT(C32,F32,0.01) -> 0
B34: NÁKLAD VRÁTANE DPH | G34: =SUM(G30,G32) -> 0
B38: V Bratislave dňa 02.03.2025
B39: Investor : | C39: Generálny projektant : | G39: Spracovateľ :

Sheet Stavba
L2: >> skryté stĺpce << | AT2: {7b2c89bb-bd6f-4de6-84dc-789dc8c881f0} | AZ2: povrchW1 | BC2: 704,134 | BD2: 2
AT3: 0 | AZ3: povrchW2W3 | BC3: 240,135 | BD3: 2
D4: KRYCÍ LIST ROZPOČTU | M4: v --- nižšie sa nachádzajú doplnkové a pomocné údaje k zostavám --- v | AT4: False | AZ4: povrvhW2 | BC4: 99 | BD4: 2
AZ5: podlahaP1 | BC5: 461,85 | BD5: 2
D6: Stavba:
E7: NADSTAVBA POLYFUNKČNÉHO OBJEKTU, Farského ul. 3266, Bratislava
D8: Objekt:
E9: 01 - Športová časť
D11: JKSO: | I11: KS:
D12: Miesto: | F12: Bratislava | I12: Dátum:
D14: Objednávateľ: | I14: IČO:
E15: SPORTWELL | I15: IČ DPH:
D17: Zhotoviteľ: | I17: IČO: | J17: Vyplň údaj
E18: Vyplň údaj | I18: IČ DPH: | J18: Vyplň údaj
D20: Projektant: | I20: IČO:
E21: ADIF spol. s r.o. | I21: IČ DPH:
D23: Spracovateľ: | I23: IČO:
E24: Ing. Ľubomír Németh | I24: IČ DPH:
D26: Poznámka:
D30: Náklady z rozpočtu | J30: =J96 -> 0
D31: Ostatné náklady | J31: =J117 -> 0
D32: Cena bez DPH | J32: =ROUND(J30 + J31, 2) -> 0
F34: Základ dane | I34: Sadzba dane | J34: Výška dane
D35: DPH | E35: základná | F35: =ROUND((SUM(BE117:BE124) + SUM(BE144:BE516)), 2) -> 0 | I35: 0.23 | J35: =ROUND(((SUM(BE117:BE124) + SUM(BE144:BE516))*I35), 2) -> 0
E36: znížená | F36: =ROUND((SUM(BF117:BF124) + SUM(BF144:BF516)), 2) -> 0 | I36: 0.23 | J36: =ROUND(((SUM(BF117:BF124) + SUM(BF144:BF516))*I36), 2) -> 0
E37: zákl. prenesená | F37: =ROUND((SUM(BG117:BG124) + SUM(BG144:BG516)), 2) -> 0 | I37: 0.23 | J37: =0 -> 0
E38: zníž. prenesená | F38: =ROUND((SUM(BH117:BH124) + SUM(BH144:BH516)), 2) -> 0 | I38: 0.23 | J38: =0 -> 0
E39: nulová | F39: =ROUND((SUM(BI117:BI124) + SUM(BI144:BI516)), 2) -> 0 | I39: 0 | J39: =0 -> 0
D41: Cena s DPH | G41: v | H41: EUR | J41: =SUM(J32:J39) -> 0
D50: Projektant | G50: Spracovateľ
D61: Dátum a podpis: | F61: Pečiatka | G61: Dátum a podpis: | J61: Pečiatka
D65: Objednávateľ | G65: Zhotoviteľ
D76: Dátum a podpis: | F76: Pečiatka | G76: Dátum a podpis: | J76: Pečiatka
C82: REKAPITULÁCIA ROZPOČTU
C84: Stavba:
E85: =E7 -> NADSTAVBA POLYFUNKČNÉHO OBJEKTU, Farského ul. 3266, Bratislava
C86: Objekt:
E87: =E9 -> 01 - Športová časť
C89: Miesto: | F89: =F12 -> Bratislava | I89: Dátum: | J89: =IF(J12="","",J12)
C91: Objednávateľ: | F91: =E15 -> SPORTWELL | I91: Projektant:
...

Sheet ZTI
L2: >> skryté stĺpce << | AT2: {7a377b31-f473-4dfe-bcf5-c9487d2a6dee}
AT3: 0
D4: KRYCÍ LIST ROZPOČTU | M4: v --- nižšie sa nachádzajú doplnkové a pomocné údaje k zostavám --- v | AT4: False
D6: Stavba:
E7: ='[4]Rekapitulácia stavby'!K6 -> SPORTWELL
D8: Objekt:
E9: 02 - ZTI - Fitness
D11: JKSO: | I11: KS:
D12: Miesto: | F12: Bratislava | I12: Dátum:
D14: Objednávateľ: | I14: IČO: | J14: =IF('[4]Rekapitulácia stavby'!AN10="","",'[4]Rekapitulácia stavby'!AN10)
E15: =IF('[4]Rekapitulácia stavby'!E11="","",'[4]Rekapitulácia stavby'!E11) | I15: IČ DPH: | J15: =IF('[4]Rekapitulácia stavby'!AN11="","",'[4]Rekapitulácia stavby'!AN11)
D17: Zhotoviteľ: | I17: IČO: | J17: ='[4]Rekapitulácia stavby'!AN13 -> Vyplň údaj
E18: ='[4]Rekapitulácia stavby'!E14 -> Vyplň údaj | I18: IČ DPH: | J18: ='[4]Rekapitulácia stavby'!AN14 -> Vyplň údaj
D20: Projektant: | I20: IČO:
E21: Ing. Marek Wild | I21: IČ DPH:
D23: Spracovateľ: | I23: IČO:
E24: MW-PROJEKT s. r. o. | I24: IČ DPH:
D26: Poznámka:
D30: Cena bez DPH | J30: =ROUND(J127, 2) -> 0
F32: Základ dane | I32: Sadzba dane | J32: Výška dane
D33: DPH | E33: základná | F33: =ROUND((SUM(BE127:BE266)), 2) -> 0 | I33: 0.2 | J33: =ROUND(((SUM(BE127:BE266))*I33), 2) -> 0
E34: znížená | F34: =ROUND((SUM(BF127:BF266)), 2) -> 0 | I34: 0.2 | J34: =ROUND(((SUM(BF127:BF266))*I34), 2) -> 0
E35: zákl. prenesená | F35: =ROUND((SUM(BG127:BG266)), 2) -> 0 | I35: 0.2 | J35: =0 -> 0
E36: zníž. prenesená | F36: =ROUND((SUM(BH127:BH266)), 2) -> 0 | I36: 0.2 | J36: =0 -> 0
E37: nulová | F37: =ROUND((SUM(BI127:BI266)), 2) -> 0 | I37: 0 | J37: =0 -> 0
D39: Cena s DPH | G39: v | H39: EUR | J39: =SUM(J30:J37) -> 0
D50: Projektant | G50: Spracovateľ
D61: Dátum a podpis: | F61: Pečiatka | G61: Dátum a podpis: | J61: Pečiatka
D65: Objednávateľ | G65: Zhotoviteľ
D76: Dátum a podpis: | F76: Pečiatka | G76: Dátum a podpis: | J76: Pečiatka
C82: REKAPITULÁCIA ROZPOČTU
C84: Stavba:
E85: =E7 -> SPORTWELL
C86: Objekt:
E87: =E9 -> 02 - ZTI - Fitness
C89: Miesto: | F89: =F12 -> Bratislava | I89: Dátum: | J89: =IF(J12="","",J12)
C91: Objednávateľ: | F91: =E15 | I91: Projektant:
C92: Zhotoviteľ: | F92: =IF(E18="","",E18) -> Vyplň údaj | I92: Spracovateľ:
C94: Kód dielu - Popis | J94: Cena celkom [EUR]
C96: Náklady z rozpočtu | J96: =J127 -> 0 | AU96: -1
...

Sheet VYKUROVANIE
A1: Odberateľ: | G1: Spracoval: | I1: Hlavička2 | J1: Obdobie
A2: Projektant: | G2: JKSO :
A3: Dodávateľ: | G3: Dátum: | I3: za obdobie | J3: Mesiac 2011
A5: Stavba :NADSTAVBA POLYFUNKČNÉHO OBJKETU, FARSKÉHO ULICA 3266, BRATISLAVA | I5: za obdobie | J5: Mesiac 2011
A6: Objekt :SPORTWELL
A7: Časť :ZMENA 11/2024
D8: =CONCATENATE(#REF!," ",#REF!," ",I2," ",J2) -> #REF!
A9: Por. | B9: Kód | C9: Kód položky | D9: Popis položky, stavebného dielu, remesla, | E9: Množstvo | F9: Merná | G9: Jednotková | H9: Spolu
A10: číslo | B10: cen. | D10: výkaz-výmer | E10: výmera | F10: jednotka | G10: cena
D12: 713 - Izolácie tepelné
A13: 1 | B13: 713 | C13: 71346-2114 | D13: Montáž tep. izolácie potrubia skružami PE upevn. sponou potrubia | E13: 532 | F13: m | H13: =ROUND(E13*G13,2) -> 0
A14: 2 | B14: MAT | C14: 422 170021 | D14: Tepelná izolácia TUBOLIT DG 18x20 - vykurovanie | E14: 364 | F14: m | H14: =ROUND(E14*G14,2) -> 0
A15: 3 | B15: MAT | C15: 422 170022 | D15: Tepelná izolácia TUBOLIT DG 22x20 - vykurovanie | E15: 46 | F15: m | H15: =ROUND(E15*G15,2) -> 0
A16: 4 | B16: MAT | C16: 422 170023 | D16: Tepelná izolácia TUBOLIT DG 28x25 - vykurovanie | E16: 72 | F16: m | H16: =ROUND(E16*G16,2) -> 0
A17: 5 | B17: MAT | C17: 422 170024 | D17: Tepelná izolácia TUBOLIT DG 35x25 - vykurovanie | E17: 28 | F17: m | H17: =ROUND(E17*G17,2) -> 0
A18: 6 | B18: MAT | C18: 422 170025 | D18: Tepelná izolácia TUBOLIT DG 42x30 - vykurovanie | E18: 18 | F18: m | H18: =ROUND(E18*G18,2) -> 0
A19: 7 | B19: 713 | C19: 71399-9905 | D19: Izolácie tepelné, HZS T5 | E19: 6 | F19: hod | H19: =ROUND(E19*G19,2) -> 0
A20: 8 | B20: 713 | C20: 99871-3201 | D20: Presun hmôt pre izolácie tepelné v objektoch výšky do 6 m | F20: % | G20: =SUM(H13:H19) -> 0 | H20: =ROUND(E20*G20/100,2) -> 0
D21: 713 - Izolácie tepelné spolu : | H21: =SUM(H13:H20) -> 0
D22: 732 - Strojovne
A23: 9 | B23: 731 | C23: 73219-9100 | D23: Montáž orientačných štítkov | E23: 20 | F23: súbor | H23: =ROUND(E23*G23,2) -> 0
A24: 10 | B24: MAT | C24: 422 170946 | D24: Orientačný štítok | E24: 20 | F24: kus | H24: =ROUND(E24*G24,2) -> 0
A25: 11 | B25: 731 | C25: 73299-9905 | D25: Strojovne, HZS T5 | E25: 1 | F25: hod | H25: =ROUND(E25*G25,2) -> 0
A26: 12 | B26: 731 | C26: 99873-2201 | D26: Presun hmôt pre strojovne umiestnené vo výške do 6 m | F26: % | G26: =SUM(H23:H25) -> 0 | H26: =ROUND(E26*G26/100,2) -> 0
D27: 732 - Strojovne spolu : | H27: =SUM(H23:H26) -> 0
D28: 733 - Rozvod potrubia
A29: 13 | B29: 731 | C29: 73311-1106 | D29: Potrubie z rúrok závit. bezošvých bežných nízkotlak. DN 32 | E29: 18 | F29: m | H29: =ROUND(E29*G29,2) -> 0
A30: 14 | B30: 731 | C30: 73319-0108 | D30: Tlaková skúška potrubia a ocel. rúrok závitových do DN 50 | E30: 18 | F30: m | H30: =ROUND(E30*G30,2) -> 0
A31: 15 | B31: 731 | C31: 73332-1201 | D31: Plast-hliníkové potrubie HERZ priemeru 16 mm spojené zváraním | E31: 364 | F31: m | H31: =ROUND(E31*G31,2) -> 0
A32: 16 | B32: 731 | C32: 73332-1202 | D32: Plast-hliníkové potrubie HERZ priemeru 20 mm spojené zváraním | E32: 46 | F32: m | H32: =ROUND(E32*G32,2) -> 0
A33: 17 | B33: 731 | C33: 73332-1203 | D33: Plast-hliníkové potrubie HERZ priemeru 25 mm spojené zváraním | E33: 72 | F33: m | H33: =ROUND(E33*G33,2) -> 0
A34: 18 | B34: 731 | C34: 73332-1204 | D34: Plast-hliníkové potrubie HERZ priemeru 32 mm spojené zváraním | E34: 28 | F34: m | H34: =ROUND(E34*G34,2) -> 0
A35: 19 | B35: 731 | C35: 73399-9905 | D35: Rozvod potrubia, HZS T5 | E35: 16 | F35: hod | H35: =ROUND(E35*G35,2) -> 0
A36: 20 | B36: 731 | C36: 99873-3201 | D36: Presun hmôt pre potrubie UK v objektoch výšky do 6 m | F36: % | G36: =SUM(H29:H35) -> 0 | H36: =ROUND(E36*G36/100,2) -> 0
D37: 733 - Rozvod potrubia spolu : | H37: =SUM(H29:H36) -> 0
D38: 734 - Armatúry
A39: 21 | B39: 731 | C39: 73420-9102 | D39: Montáž armatúr s jedným závitom G 3/8 | E39: 19 | F39: kus | H39: =ROUND(E39*G39,2) -> 0
A40: 22 | B40: MAT | C40: 422 170856 | D40: Radiátorový odvzdušňovací ventil | E40: 19 | F40: kus | H40: =ROUND(E40*G40,2) -> 0
A41: 23 | B41: 731 | C41: 73420-9103 | D41: Montáž armatúr s jedným závitom G 1/2 | E41: 27 | F41: kus | H41: =ROUND(E41*G41,2) -> 0
A42: 24 | B42: MAT | C42: 422 170496 | D42: Napúšťací a vypúšťací kohút HERZ THERMOFLEX DN 15 | E42: 2 | F42: kus | H42: =ROUND(E42*G42,2) -> 0
...

Sheet VZT
A1: Výkaz výmer - športová časť
A2: kód položky | B2: číslo položky | C2: Popis položky | D2: merná jednotka | E2: množstvo | F2: J.C. | G2: SPOLU
C3: Zariadenie č. 1 – Vetranie športovo - rehabilitačného centra
B4: 1.01. | C4: Vzduchotechnická jednotka Elektrodesign Duovent Compact RV 3000 E DI KL G4+F7/M5 DVAV L TOP, Qv=2500m3/h, 500Pa, Pi=18kW, 400V, 3Px40A, filtre F7/M5, entalpický výmenník tepla, elektrický ohrievač, EC ventilátory, vrátane kompletného riadenia DigiReg EVO18, klapiek a servo pohonov, oživenia servisným technikom a dopravou na stavbu, jednotka bude dodaná v rozložiteľnom stave | D4: ks | E4: 1 | G4: =ROUND(E4*F4,2) -> 0
C5: Príslušenstvo: IAE Duovent RV 3000 pružná spojka | D5: ks | E5: 4 | G5: =ROUND(E5*F5,2) -> 0
C6: Príslušenstvo: SF-P 300 sifon podtl.s uzáverom | D6: ks | E6: 2 | G6: =ROUND(E6*F6,2) -> 0
B7: 1.02. | C7: Výustka Systemair NOVA-C-2-800x150-R1-V-ZN | D7: ks | E7: 4 | G7: =ROUND(E7*F7,2) -> 0
B8: 1.02a. | C8: Výustka Systemair NOVA-C-2-325x75-V-ZN | D8: ks | E8: 1 | G8: =ROUND(E8*F8,2) -> 0
B9: 1.02b. | C9: Výustka Systemair NOVA-C-2-800x100-R1-V-ZN | D9: ks | E9: 2 | G9: =ROUND(E9*F9,2) -> 0
B10: 1.04. | C10: Výustka Systemari NOVA-C-1-800x150-R1-V-ZN | D10: ks | E10: 4 | G10: =ROUND(E10*F10,2) -> 0
B11: 1.04a | C11: Výustka Systemari NOVA-C-1-325x75-V-ZN | D11: ks | E11: 1 | G11: =ROUND(E11*F11,2) -> 0
B12: 1.05. | C12: Vírivá stropná výustka Systemair VVKR-F-160-600-16-B-SW | D12: ks | E12: 1 | G12: =ROUND(E12*F12,2) -> 0
C13: Príslušenstvo: pretlaková komora THOR-E-125-160 | D13: ks | E13: 1 | G13: =ROUND(E13*F13,2) -> 0
B14: 1.06. | C14: Regulačná klapka Systemair TUNE-R-125-1-H | D14: ks | E14: 3 | G14: =ROUND(E14*F14,2) -> 0
B15: 1.06a | C15: Regulačná klapka Systemair TUNE-R-400-1-H | D15: ks | E15: 1 | G15: =ROUND(E15*F15,2) -> 0
B16: 1.06b | C16: Regulačná klapka Systemair TUNE-R-280-1-H | D16: ks | E16: 1 | G16: =ROUND(E16*F16,2) -> 0
B17: 1.07. | C17: Tlmič hluku Ventra SKS 60-30 | D17: ks | E17: 7 | G17: =ROUND(E17*F17,2) -> 0
B18: 1.07a. | C18: Tlmič hluku Ventra AKS 400x1200 | D18: ks | E18: 1 | G18: =ROUND(E18*F18,2) -> 0
B19: 1.08. | C19: Protidažďová žalúzia Systemair PZAL-1250x630-UR-S | D19: ks | E19: 1 | G19: =ROUND(E19*F19,2) -> 0
B20: 1.08a. | C20: Protidažďová žalúzia Systemair PZAL-1120x630-UR-S | D20: ks | E20: 1 | G20: =ROUND(E20*F20,2) -> 0
G21: =ROUND(E21*F21,2) -> 0
B22: 1.09. | C22: Vzduchotechnické spiro potrubie sk.1, do obvodu 125/30% vrátane montážneho, spojovacieho, tesniaceho materiálu a materiálu na závesy a tvarovky | D22: bm | E22: 3 | G22: =ROUND(E22*F22,2) -> 0
C23: Vzduchotechnické spiro potrubie sk.1, do obvodu 160/30% vrátane montážneho, spojovacieho, tesniaceho materiálu a materiálu na závesy a tvarovky | D23: bm | E23: 1 | G23: =ROUND(E23*F23,2) -> 0
C24: Vzduchotechnické spiro potrubie sk.1, do obvodu 180/30% vrátane montážneho, spojovacieho, tesniaceho materiálu a materiálu na závesy a tvarovky | D24: bm | E24: 12 | G24: =ROUND(E24*F24,2) -> 0
C25: Vzduchotechnické spiro potrubie sk.1, do obvodu 200/30% vrátane montážneho, spojovacieho, tesniaceho materiálu a materiálu na závesy a tvarovky | D25: bm | E25: 8 | G25: =ROUND(E25*F25,2) -> 0
C26: Vzduchotechnické spiro potrubie sk.1, do obvodu 225/30% vrátane montážneho, spojovacieho, tesniaceho materiálu a materiálu na závesy a tvarovky | D26: bm | E26: 14 | G26: =ROUND(E26*F26,2) -> 0
C27: Vzduchotechnické spiro potrubie sk.1, do obvodu 250/30% vrátane montážneho, spojovacieho, tesniaceho materiálu a materiálu na závesy a tvarovky | D27: bm | E27: 5 | G27: =ROUND(E27*F27,2) -> 0
C28: Vzduchotechnické spiro potrubie sk.1, do obvodu 280/30% vrátane montážneho, spojovacieho, tesniaceho materiálu a materiálu na závesy a tvarovky | D28: bm | E28: 10 | G28: =ROUND(E28*F28,2) -> 0
C29: Vzduchotechnické spiro potrubie sk.1, do obvodu 315/30% vrátane montážneho, spojovacieho, tesniaceho materiálu a materiálu na závesy a tvarovky | D29: bm | E29: 12 | G29: =ROUND(E29*F29,2) -> 0
C30: Vzduchotechnické spiro potrubie sk.1, do obvodu 355/30% vrátane montážneho, spojovacieho, tesniaceho materiálu a materiálu na závesy a tvarovky | D30: bm | E30: 6 | G30: =ROUND(E30*F30,2) -> 0
C31: Vzduchotechnické spiro potrubie sk.1, do obvodu 400/30% vrátane montážneho, spojovacieho, tesniaceho materiálu a materiálu na závesy a tvarovky | D31: bm | E31: 12 | G31: =ROUND(E31*F31,2) -> 0
C32: Vzduchotechnické spiro potrubie sk.1, do obvodu 450/30% vrátane montážneho, spojovacieho, tesniaceho materiálu a materiálu na závesy a tvarovky | D32: bm | E32: 11 | G32: =ROUND(E32*F32,2) -> 0
B33: 1.10. | C33: Vzduchotechnické štvorhranné potrubie sk.1, do obvodu 2000/30%, vrátane montážneho, spojovacieho, tesniaceho materiálu a materiálu na závesy a tvarovky | D33: bm | E33: 69 | G33: =ROUND(E33*F33,2) -> 0
C34: Vzduchotechnické štvorhranné potrubie sk.1, do obvodu 2400/30%, vrátane montážneho, spojovacieho, tesniaceho materiálu a materiálu na závesy a tvarovky | D34: bm | E34: 2 | G34: =ROUND(E34*F34,2) -> 0
C35: Vzduchotechnické štvorhranné potrubie sk.1, do obvodu 3800/30%, vrátane montážneho, spojovacieho, tesniaceho materiálu a materiálu na závesy a tvarovky | D35: bm | E35: 3 | G35: =ROUND(E35*F35,2) -> 0
B36: 1.12. | C36: Tepelná izolácia Kflex H duct metal ALU hr. 30mm | D36: m2 | E36: 140 | G36: =ROUND(E36*F36,2) -> 0
B37: 1.14. | C37: Akustická izolácia Rockwoll klimamat/ larock 40 ALS (ALU LAMELLA MAT) hr. 40mm, vrátane upevnenia | D37: m2 | E37: 4 | G37: =ROUND(E37*F37,2) -> 0
B38: 1.15. | C38: Požiarna izolácia hranatého potrubia Rockwool Pyrorock, Techrock ALS 80, EI 45, vrátane upevnenia, hr.40mm | D38: m2 | E38: 30 | G38: =ROUND(E38*F38,2) -> 0
C39: Zariadenie č. 2 – Prevádzkové vetranie hygieny, skladov a chodieb
B40: 2.01. | C40: Vzduchotechnická jednotka Elektrodesign Duovent Compact DV 1800 DI KL G4+F7/M5 DVAV AH, Qv=1500m3/h, 400Pa, Pi=9kW, 400V, 3Px40A, filtre F7/M5, doskový rekuperátor, elektrický ohrievač, EC ventilátory, vrátane kompletného riadenia DigiReg EVO18, klapiek a servo pohonov, oživenia servisným technikom a dopravou na stavbu, jednotka bude dodaná v rozložiteľnom stave | D40: ks | E40: 1 | G40: =ROUND(E40*F40,2) -> 0
...

Sheet Elektroinštalácia 
A1: VÝKAZ VÝMER
A2: Stavba: | B2: SPORTWELL
A3: Objekt: ELEKTROINŠTALÁCIA
A6: Objednávateľ:
A7: Zhotoviteľ: | G7: Spracoval:
A8: Miesto: Bratislava | G8: Dátum:
A10: Č. | B10: KCN | C10: Kód položky | D10: Popis | E10: MJ | F10: Množstvo celkom | G10: Cena jednotková | H10: Cena celkom
A11: 1 | B11: 2 | C11: 3 | D11: 4 | E11: 5 | F11: 6 | G11: 9 | H11: 10
C13: 05 | D13: Búracie práce a demolácie
C14: 0501 | D14: Búranie konštrukcií | H14: =SUM(H15:H18) -> 0
A15: 1 | B15: 05 | C15: 05010603000200 | D15: Vysekanie kapsy pre klátiky a krabice, velkosti do 100x100x50 mm, -0,00100t | E15: ks | F15: 115 | H15: =G15*F15 -> 0
A16: 2 | B16: 05 | C16: 05010603000300 | D16: Vysekanie rýh v akomkolvek murive tehlovom na akúkolvek maltu do hlbky 30 mm a š. do 30 mm, -0,00200 t | E16: m | F16: 334 | H16: =G16*F16 -> 0
A17: 3 | B17: 05 | C17: 05010604000310 | D17: Vysekanie v murive betónovom kapsy pre klátiky a krabice, vel. do 100x100x50 mm, -0,00100t | E17: ks | F17: 7 | H17: =G17*F17 -> 0
A18: 4 | B18: 05 | C18: 05010604000670 | D18: Vysekanie rýh v betónových stenách do hlbky 30 mm a š. do 30 mm, -0,00200t | E18: m | F18: 45 | H18: =G18*F18 -> 0
C19: 0509 | D19: Doplnujúce práce | H19: =SUM(H20:H22) -> 0
A20: 5 | B20: 05 | C20: 05090502015804 | D20: Vrty príklepovým vrtákom do D 24 mm do stien alebo smerom dole do betónu -0.00001t | E20: cm | F20: 602 | H20: =G20*F20 -> 0
A21: 6 | B21: 05 | C21: 05090502015805 | D21: Vrty príklepovým vrtákom do D 30 mm do stien alebo smerom dole do betónu -0.00002t | E21: cm | F21: 200 | H21: =G21*F21 -> 0
A22: 7 | B22: 05 | C22: 05090502015805 | D22: Jadrové vrty | E22: kpl | F22: 1 | H22: =G22*F22 -> 0
C23: 91 | D23: Montáž silnoprúdových rozvodov a zariadení
C24: 9101 | D24: Úložný materiál | H24: =SUM(H25:H28) -> 0
A25: 8 | B25: 91 | C25: 91011401010020 | D25: Osadenie lustrovej svorky/svorky vrátane zapojenia do 3 x 4 | E25: ks | F25: 749 | H25: =G25*F25 -> 0
A26: 9 | C26: ESV000001063 | D26: Svorka krabicová 222-412 WAGO 2x0,08-4mm2 2-pólová pácková sivá | E26: ks | F26: 390 | H26: =G26*F26 -> 0
A27: 10 | C27: ESV000001064 | D27: Svorka krabicová 222-413 WAGO 3x0,08-4mm2 3-pólová pácková sivá | E27: ks | F27: 320 | H27: =G27*F27 -> 0
A28: 11 | C28: ESV000001065 | D28: Svorka krabicová 222-415 WAGO 5x0,08-4mm2 5-pólová pácková sivá | E28: ks | F28: 39 | H28: =G28*F28 -> 0
C29: M | D29: Práce a dodávky M
C30: 22-M | D30: Montáže oznamovacích a zabezpecovacích zariadení | H30: =SUM(H31:H36) -> 0
A31: 12 | B31: 922 | C31: 220511031 | D31: Kábel dátový FTP uložený v rúrkach | E31: m | F31: 800 | H31: =G31*F31 -> 0
A32: 13 | B32: 341 | C32: 341230001400 | D32: Kábel medený dátový SXKD-6a-FTP-LSOHFR-B2ca | E32: m | F32: 800 | H32: =G32*F32 -> 0
A33: 14 | B33: 922 | C33: 220511010 | D33: Montáž zásuvka 2xRJ45 pod omietku | E33: ks | F33: 5 | H33: =G33*F33 -> 0
A34: 15 | B34: 345 | C34: 345340004100 | D34: Zásuvka dátová 2xRJ45 Cat6A SCHNEIDER SEDNA | E34: ks | F34: =F33 -> 5 | H34: =G34*F34 -> 0
A35: 16 | B35: 345 | C35: 345340004100 | D35: SCHNEIDER SEDNA kryt | E35: ks | F35: =F34 -> 5 | H35: =G35*F35 -> 0
A36: 17 | B36: 345 | C36: 345340004100 | D36: SCHNEIDER SEDNA rámik | E36: ks | F36: =F35 -> 5 | H36: =G36*F36 -> 0
C37: 21-M | D37: Elektromontáže | H37: =SUM(H38:H109) -> 0
A38: 18 | B38: 921 | C38: 210010026 | D38: Rúrka ohybná elektroinštalacná z PVC typ FXP 20, uložená pevne | E38: m | F38: 1050 | H38: =G38*F38 -> 0
A39: 19 | B39: 345 | C39: 345710009200 | D39: Rúrka ohybná vlnitá pancierová PVC-U, FXP DN 20 | E39: m | F39: 1050 | H39: =G39*F39 -> 0
A40: 20 | B40: 921 | C40: 210010025 | D40: Rúrka ohybná elektroinštalacná z PVC typ FXP 25, uložená pevne | E40: m | F40: 170 | H40: =G40*F40 -> 0
A41: 21 | B41: 345 | C41: 345710009100 | D41: Rúrka ohybná vlnitá pancierová PVC-U, FXP DN 25 | E41: m | F41: 170 | H41: =G41*F41 -> 0
A42: 22 | B42: 921 | C42: 210010027 | D42: Rúrka ohybná elektroinštalacná z PVC typ FXP 32, uložená pevne | E42: m | F42: 50 | H42: =G42*F42 -> 0
A43: 23 | B43: 345 | C43: 345710009300 | D43: Rúrka ohybná vlnitá pancierová PVC-U, FXP DN 32 | E43: m | F43: 50 | H43: =G43*F43 -> 0
A44: 24 | B44: 921 | C44: 210010301 | D44: Krabica prístrojová bez zapojenia (1901, KP 68, KZ 3) | E44: ks | F44: 105 | H44: =G44*F44 -> 0
...

Sheet CCTV Kamerový systém
A1: VÝKAZ VÝMER
A2: Stavba: | B2: SPORTWELL
A3: Objekt: KAMEROVÝ SYSTÉM
A6: Objednávateľ:
A7: Zhotoviteľ: | G7: Spracoval:
A8: Miesto: Bratislava | G8: Dátum:
A10: Č. | B10: KCN | C10: Kód položky | D10: Popis | E10: MJ | F10: Množstvo celkom | G10: Cena jednotková | H10: Cena celkom
A11: 1 | B11: 2 | C11: 3 | D11: 4 | E11: 5 | F11: 6 | G11: 9 | H11: 10
C13: 01 | D13: Zemné práce a hrubé stavebné úpravy | H13: =SUM(H14:H15) -> 0
A14: 1 | B14: 05 | C14: 05010603000300 | D14: Vysekanie rýh v akomkolvek murive tehlovom na akúkolvek maltu do hlbky 30 mm a š. do 30 mm, -0,00200 t | E14: m | F14: 26 | H14: =G14*F14 -> 0
A15: 2 | B15: 05 | C15: 05010604000670 | D15: Vysekanie rýh v betónových stenách do hlbky 30 mm a š. do 30 mm, -0,00200t | E15: m | F15: 12 | H15: =G15*F15 -> 0
C16: 2 | D16: Doplnujúce práce | H16: =SUM(H17:H18) -> 0
A17: 3 | B17: 05 | C17: 05090502015804 | D17: Vrty príklepovým vrtákom do D 24 mm do stien alebo smerom dole do betónu -0.00001t | E17: cm | F17: 90 | H17: =G17*F17 -> 0
A18: 4 | B18: 05 | C18: 05090502015805 | D18: Vrty príklepovým vrtákom do D 30 mm do stien alebo smerom dole do betónu -0.00002t | E18: cm | F18: 63 | H18: =G18*F18 -> 0
C19: M | D19: Práce a dodávky M
C20: 22-M | D20: Montáže oznamovacích a zabezpecovacích zariadení | H20: =SUM(H21:H36) -> 0
A21: 5 | B21: 922 | C21: 220511031 | D21: Kábel dátový FTP uložený v rúrkach | E21: m | F21: 282 | H21: =G21*F21 -> 0
A22: 6 | B22: 341 | C22: 341230001400 | D22: Kábel medený dátový SXKD-5E-FTP-LSOHFR-B2ca | E22: m | F22: 282 | H22: =G22*F22 -> 0
A23: 7 | B23: 922 | C23: 220511031 | D23: Kábel dátový FTP uložený v rúrkach | E23: m | F23: 35 | H23: =G23*F23 -> 0
A24: 8 | B24: 341 | C24: 341230001400 | D24: Kábel medený dátový SXKD-6A-FTP-LSOHFR-B2ca | E24: m | F24: 35 | H24: =G24*F24 -> 0
A25: 9 | D25: Dahua IPC-8 Mpx dome IP kamera | E25: ks | F25: 6 | H25: =G25*F25 -> 0
A26: 10 | D26: Dahua PFA130-E-BLACK prídavný límec pre kamery | E26: ks | F26: 6 | H26: =G26*F26 -> 0
A27: 11 | D27: Záznamové zariadenie -Dahua NVR IP PoE záznamové zariadenie | E27: ks | F27: 1 | H27: =G27*F27 -> 0
A28: 12 | D28: Seagate HDD10T 24/7 sata disk | E28: ks | F28: 1 | H28: =G28*F28 -> 0
A29: 13 | D29: Dahua CCTV LED monitor + držiak na stenu | E29: ks | F29: 1 | H29: =G29*F29 -> 0
A30: 14 | D30: Zabat UPS zdroj nepretržitého napájania | E30: ks | F30: 1 | H30: =G30*F30 -> 0
A31: 15 | D31: AXON ACAR 504 WF prepäťová ochrana | E31: ks | F31: 1 | H31: =G31*F31 -> 0
A32: 16 | D32: Koncovka RJ45 cat 5 | E32: ks | F32: 12 | H32: =G32*F32 -> 0
A33: 17 | D33: Zásuvka 230V montáž zapustená | E33: ks | F33: 1 | H33: =G33*F33 -> 0
A34: 18 | D34: Inštalačný a spotrebný materiál ( skrutky, hmoždiny,konzoly,úchyty...) | E34: kpl | F34: 0.8 | H34: =G34*F34 -> 0
A35: 19 | D35: Montáž celkom : Montáž prvkov kamerového systému,Konfigurácia prvkov, zapojenie, oživenie, odskúšanie, Konfigurácia video servera, zaškolenie obsluhy. | E35: kpl | F35: 0.8 | H35: =G35*F35 -> 0
A36: 20 | D36: Kompletáž dátového centra | E36: kpl | F36: 1 | H36: =G36*F36 -> 0
C37: 21-M | D37: Elektromontáže | H37: =SUM(H38:H45) -> 0
A38: 21 | B38: 921 | C38: 210010026 | D38: Rúrka ohybná elektroinštalacná z PVC typ FXP 20, uložená pevne | E38: m | F38: 254 | H38: =G38*F38 -> 0
A39: 22 | B39: 345 | C39: 345710009200 | D39: Rúrka ohybná vlnitá pancierová PVC-U, FXP DN 20 | E39: m | F39: 254 | H39: =G39*F39 -> 0
A40: 23 | B40: 921 | C40: 210011310 | D40: Vytvorenie trasy GRIP pre samostatnú nehorľavú trasu EZS | E40: m | F40: 44 | H40: =G40*F40 -> 0
A41: 24 | B41: 311 | C41: 311310008400 | D41: Vytvorenie trasy GRIP pre samostatnú nehorľavú trasu EZS | E41: m | F41: 44 | H41: =G41*F41 -> 0
A42: 25 | B42: 341 | C42: 341110000700 | D42: Kábel medený CXKE - R - J 3x1,5 mm2 | E42: m | F42: 35 | H42: =G42*F42 -> 0
A43: 26 | B43: 921 | C43: 210800146 | D43: Kábel medený uložený pevne 450/750 V 3x1,5 | E43: m | F43: 35 | H43: =G43*F43 -> 0
A44: 27 | B44: 922 | C44: 220261661 | D44: Vyznacenie trasy vedenia podla plánu | E44: m | F44: 447 | H44: =G44*F44 -> 0
...

Sheet Alarm
A1: VÝKAZ VÝMER
A2: Stavba: | B2: SPORTWELL
A3: Objekt: ALARM zabezpečovací systém
A6: Objednávateľ:
A7: Zhotoviteľ: | G7: Spracoval:
A8: Miesto: Bratislava | G8: Dátum:
A10: Č. | B10: KCN | C10: Kód položky | D10: Popis | E10: MJ | F10: Množstvo celkom | G10: Cena jednotková | H10: Cena celkom
A11: 1 | B11: 2 | C11: 3 | D11: 4 | E11: 5 | F11: 6 | G11: 9 | H11: 10
C13: 01 | D13: Zemné práce a hrubé stavebné úpravy | H13: =SUM(H14:H17) -> 0
A14: 1 | B14: 05 | C14: 05010603000200 | D14: Vysekanie kapsy pre klátiky a krabice, velkosti do 200x200x50 mm, -0,00100t | E14: ks | F14: 4 | H14: =G14*F14 -> 0
A15: 2 | B15: 05 | C15: 05010603000300 | D15: Vysekanie rýh v akomkolvek murive tehlovom na akúkolvek maltu do hlbky 30 mm a š. do 30 mm, -0,00200 t | E15: m | F15: 47 | H15: =G15*F15 -> 0
A16: 3 | B16: 05 | C16: 05010604000310 | D16: Vysekanie v murive betónovom kapsy pre klátiky a krabice, vel. do 200x200x50 mm, -0,00100t | E16: ks | F16: 1 | H16: =G16*F16 -> 0
A17: 4 | B17: 05 | C17: 05010604000670 | D17: Vysekanie rýh v betónových stenách do hlbky 30 mm a š. do 30 mm, -0,00200t | E17: m | F17: 15 | H17: =G17*F17 -> 0
C18: 2 | D18: Doplnujúce práce | H18: =SUM(H19:H20) -> 0
A19: 8 | B19: 05 | C19: 05090502015804 | D19: Vrty príklepovým vrtákom do D 24 mm do stien alebo smerom dole do betónu -0.00001t | E19: cm | F19: 102 | H19: =G19*F19 -> 0
A20: 9 | B20: 05 | C20: 05090502015805 | D20: Vrty príklepovým vrtákom do D 30 mm do stien alebo smerom dole do betónu -0.00002t | E20: cm | F20: 53 | H20: =G20*F20 -> 0
C21: M | D21: Práce a dodávky M
C22: 22-M | D22: Montáže oznamovacích a zabezpecovacích zariadení | H22: =SUM(H23:H39) -> 0
A23: 10 | B23: 922 | C23: 220511031 | D23: Kábel dátový FTP uložený v rúrkach | E23: m | F23: 262 | H23: =G23*F23 -> 0
A24: 11 | B24: 341 | C24: 341230001400 | D24: Kábel medený dátový SXKD-5E-FTP-LSOHFR-B2ca | E24: m | F24: 262 | H24: =G24*F24 -> 0
A25: 12 | B25: 922 | C25: 220511031 | D25: Kábel dátový FTP uložený v rúrkach | E25: m | F25: 38 | H25: =G25*F25 -> 0
A26: 13 | B26: 341 | C26: 341230001400 | D26: Kábel medený dátový SXKD-6A-FTP-LSOHFR-B2ca | E26: m | F26: 38 | H26: =G26*F26 -> 0
A27: 15 | D27: Ústredňa s LAN, GSM a rádiovým modulom - dodávané vždy s JA-192Y | E27: ks | F27: 1 | H27: =G27*F27 -> 0
A28: 16 | D28: Zbernicové rozhranie RS-485 | E28: ks | F28: 1 | H28: =G28*F28 -> 0
A29: 18 | D29: Zbernicový prístupový modul s displejom, klávesnicou a RFID - sivý - antracit | E29: ks | F29: 1 | H29: =G29*F29 -> 0
A30: 19 | D30: Ovládací segment pre prístupové moduly - antracit | E30: ks | F30: 2 | H30: =G30*F30 -> 0
A31: 23 | D31: Zbernicový modul pripojenia magnetických detektorov | E31: ks | F31: 1 | H31: =G31*F31 -> 0
A32: 24 | D32: COMBO - detektor pohybu osôb a rozbitia skla | E32: ks | F32: 3 | H32: =G32*F32 -> 0
A33: 28 | D33: Zbernicová vnútorná siréna | E33: ks | F33: 2 | H33: =G33*F33 -> 0
A34: 33 | D34: Bezúdržbový zálohovací akumulátor | E34: ks | F34: 1 | H34: =G34*F34 -> 0
A35: 34 | D35: Modul izolátora zbernice | E35: ks | F35: 1 | H35: =G35*F35 -> 0
A36: 35 | D36: Viacúčelová montážna krabica | E36: ks | F36: 3 | H36: =G36*F36 -> 0
A37: 36 | D37: Rozbočovač zbernice | E37: ks | F37: 1 | H37: =G37*F37 -> 0
A38: 37 | D38: Prútová anténa | E38: ks | F38: 1 | H38: =G38*F38 -> 0
A39: 39 | D39: Konfigurácia a montáž systému | E39: kpl | F39: 1 | H39: =G39*F39 -> 0
C40: 21-M | D40: Elektromontáže | H40: =SUM(H41:H50) -> 0
A41: 40 | B41: 921 | C41: 210010026 | D41: Rúrka ohybná elektroinštalacná z PVC typ FXP 20, uložená pevne | E41: m | F41: 280 | H41: =G41*F41 -> 0
A42: 41 | B42: 345 | C42: 345710009200 | D42: Rúrka ohybná vlnitá pancierová PVC-U, FXP DN 20 | E42: m | F42: 280 | H42: =G42*F42 -> 0
A43: 42 | B43: 921 | C43: 210010301 | D43: Krabica prístrojová bez zapojenia (1901, KP 68, KZ 3) | E43: ks | F43: 1 | H43: =G43*F43 -> 0
A44: 43 | B44: 345 | C44: 345410002000 | D44: Krabica prístrojová z PVC pod omietku KP 67/3, Dxh 70x45 mm, KOPOS | E44: ks | F44: 1 | H44: =G44*F44 -> 0
...

Sheet Audio systém
A1: VÝKAZ VÝMER
A2: Stavba: | B2: SPORTWELL
A3: Objekt: ELEKTROINŠTALÁCIA
A4: Časť: | B4: AUDIO
A6: Objednávateľ:
A7: Zhotoviteľ: | G7: Spracoval:
A8: Miesto: Bratislava | G8: Dátum:
A10: Č. | B10: KCN | C10: Kód položky | D10: Popis | E10: MJ | F10: Množstvo celkom | G10: Cena jednotková | H10: Cena celkom
A11: 1 | B11: 2 | C11: 3 | D11: 4 | E11: 5 | F11: 6 | G11: 9 | H11: 10
C13: 0501 | D13: Búranie konštrukcií
A14: 1 | B14: 05 | D14: Vysekanie rýh v akomkolvek murive tehlovom na akúkolvek maltu do hlbky 30 mm a š. do 30 mm, -0,00200 t | E14: m | F14: 25 | H14: =G14*F14 -> 0
C15: M | D15: Práce a dodávky M
A16: 2 | B16: 922 | D16: Kábel audio | E16: m | F16: 100 | H16: =G16*F16 -> 0
A17: 3 | B17: 341 | D17: Kábel audio AUDIOQUEST SLiP 14/2 | E17: m | F17: 100 | H17: =G17*F17 -> 0
A18: 4 | B18: 922 | D18: Rúrka ohybná bezhalogénová | E18: m | F18: 45 | H18: =G18*F18 -> 0
A19: 5 | B19: 341 | D19: Rúrka ohybná bezhalogénová, 750N/5cm, -25až105°C, PP, HFXP 16 BK 50M (UNIVOLT) | E19: m | F19: 45 | H19: =G19*F19 -> 0
A20: 6 | B20: 922 | D20: Kábel CXKE-R-J 3x1,5 | E20: m | F20: 27 | H20: =G20*F20 -> 0
A21: 7 | B21: 341 | D21: Kábel CXKE-R-J 3x1,5 | E21: m | F21: 27 | H21: =G21*F21 -> 0
C22: 21-M | D22: Elektromontáže
A23: 8 | B23: 921 | D23: Osadenie polyamidovej príchytky HM 8 do tvrdého kamena, jednoduchého betónu a železobetónu | E23: ks | F23: 56 | H23: =G23*F23 -> 0
A24: 9 | B24: 311 | D24: Hmoždinka KOPOS HM 8x40 mm PA, pre tvrdé podklady na elektroinštaláciu | E24: ks | F24: 56 | H24: =G24*F24 -> 0
A25: 10 | B25: 921 | D25: Reproduktor podhľadový montáž | E25: ks | F25: 4 | H25: =G25*F25 -> 0
A26: 11 | D26: Biamp Reproduktor 40W PODHĽADOVÝ 100V | E26: ks | F26: 4 | H26: =G26*F26 -> 0
A27: 12 | B27: 921 | D27: Montáž zapojenie a oživenie audio zosilovača | E27: ks | F27: 1 | H27: =G27*F27 -> 0
A28: 13 | D28: DSPPA audio prehrávač 100V | E28: ks | F28: 1 | H28: =G28*F28 -> 0
A29: 14 | B29: 922 | D29: Vyznačenie trasy vedenia podla plánu | E29: m | F29: 127 | H29: =G29*F29 -> 0
A30: 15 | B30: 921 | D30: Ukoncenie vodicov v krabiciach vrátane zapojenia a vodicovej koncovky do 2,5 mm2 | E30: ks | F30: 22 | H30: =G30*F30 -> 0
A31: 16 | B31: 921 | D31: Spotrebný a montážný materiál ( svorky, skrutky, hmoždiny, sádra, spojky, úchyty,označovače) | E31: kpl | F31: 0.5 | H31: =G31*F31 -> 0
C32: HZS | D32: Hodinové zúctovacie sadzby
A33: 17 | B33: HZS | D33: naprogramovanie systémov a oživenie, zaškolenie obsluhy | E33: kpl | F33: 0.5 | H33: =G33*F33 -> 0
D34: Celkom | H34: =SUM(H14:H33) -> 0

Sheet Internet,WIFI,SLP
A1: VÝKAZ VÝMER
A2: Stavba: | B2: SPORTWELL
A3: Objekt: Internet, WIFI, slp, TV
A6: Objednávateľ:
A7: Zhotoviteľ: | G7: Spracoval:
A8: Miesto: Bratislava | G8: Dátum:
A10: Č. | B10: KCN | C10: Kód položky | D10: Popis | E10: MJ | F10: Množstvo celkom | G10: Cena jednotková | H10: Cena celkom
A11: 1 | B11: 2 | C11: 3 | D11: 4 | E11: 5 | F11: 6 | G11: 9 | H11: 10
C13: 0501 | D13: WIFI accespoint | H13: =SUM(H14:H24) -> 0
A14: 1 | D14: UBIQUITI UniFi6 Long-Range, Acces Point | E14: ks | F14: 2 | H14: =G14*F14 -> 0
A15: 2 | D15: Montáž a konfigurácia accespointu | E15: ks | F15: 2 | H15: =G15*F15 -> 0
A16: 3 | D16: Rack LEXI-Net 19'' stojanový 18U | E16: ks | F16: 1 | H16: =G16*F16 -> 0
A17: 4 | D17: TP-Link TL-SG1048 48-Port Gigabit Switch TL-SG1048 | E17: ks | F17: 1 | H17: =G17*F17 -> 0
A18: 5 | D18: TL-SL2428P - Přepínač PoE, Bez správy, 1Gbps, 250W, Porty RJ45 28, Porty PoE 24, TP-Link | E18: ks | F18: 1 | H18: =G18*F18 -> 0
A19: 6 | D19: Fortron UPS Champ 3000 VA rack 2U | E19: ks | F19: 1 | H19: =G19*F19 -> 0
A20: 7 | D20: Patch Panel 24 cat 6A | E20: ks | F20: 2 | H20: =G20*F20 -> 0
A21: 8 | D21: Keystone cat 6A | E21: ks | F21: 17 | H21: =G21*F21 -> 0
A22: 9 | D22: Keystone cat 5e | E22: ks | F22: 8 | H22: =G22*F22 -> 0
A23: 10 | D23: Príslušenstvo RACK, vyviazovacie panely, acar panely, trasovač káblov, spojovací materiál, patch káble, prepojovacie káble, montážne príslušenostvo kompletáže racku | E23: kpl | F23: 1 | H23: =G23*F23 -> 0
A24: 11 | D24: Kompletáž slaboprúdového rozvádzača, oživenie, uvedenie do autonómnej prevádzky konfigurácia sieti. | E24: ks | F24: 1 | H24: =G24*F24 -> 0
D25: Celkom | H25: =SUM(H13) -> 0
