Workbook

Sheet Rekapitulácia stavby
A1: Export Komplet | BA1: 2.0 | BT1: False | BU1: False | BV1: {ad9ed193-1b4f-465b-a248-83ab161e5f6e}
AR2: >> skryté stĺpce << | BS2: 0,01 | BT2: 23
BS3: 0,01 | BT3: 23
D4: REKAPITULÁCIA STAVBY | AS4: v --- nižšie sa nachádzajú doplnkové a pomocné údaje k zostavám --- v | BE4: Návod na vyplnenie | BS4: 0,001
D5: Kód: | K5: SPORTWELL | BE5: Meniť je možné iba bunky so žltým podfarbením!_x000D_ _x000D_ 1) na prvom liste Rekapitulácie stavby vyplňte v zostave_x000D_ _x000D_ a) Rekapitulácia stavby_x000D_ - údaje o Zhotoviteľovi_x000D_ (prenesú sa do ostatných zostáv aj v iných listoch)_x000D_ _x000D_ b) Rekapitulácia objektov stavby_x000D_ - potrebné Ostatné náklady_x000D_ _x000D_ 2) na vybraných listoch vyplňte v zostave_x000D_ _x000D_ a) Krycí list_x000D_ - údaje o Zhotoviteľovi, pokiaľ sa líšia od údajov o Zhotoviteľovi na Rekapitulácii stavby_x000D_ (údaje se prenesú do ostatných zostav v danom liste)_x000D_ _x000D_ b) Rekapitulácia rozpočtu_x000D_ - potrebné Ostatné náklady_x000D_ _x000D_ c) Celkové náklady za stavbu_x000D_ - ceny na položkách_x000D_ - množstvo, pokiaľ má žlté podfarbenie_x000D_ - a v prípade potreby poznámku (tá je v skrytom stĺpci) | BS5: 0,01
D6: Stavba: | K6: NADSTAVBA POLYFUNKČNÉHO OBJEKTU, Farského ul. 3266, Bratislava | BS6: 0,01
D7: JKSO: | AK7: KS: | BS7: 0,01
D8: Miesto: | K8: Bratislava | AK8: Dátum: | AN8: 20. 6. 2024 | BS8: 0,01
BS9: 0,01
D10: Objednávateľ: | AK10: IČO: | BS10: 0,01
E11: SPORTWELL | AK11: IČ DPH: | BS11: 0,01
BS12: 0,01
D13: Zhotoviteľ: | AK13: IČO: | AN13: Vyplň údaj | BS13: 0,01
E14: Vyplň údaj | AK14: IČ DPH: | AN14: Vyplň údaj | BS14: 0,01
BS15: False
D16: Projektant: | AK16: IČO: | BS16: False
E17: ADIF spol. s r.o. | AK17: IČ DPH: | BS17: True
BS18: 0,01
D19: Spracovateľ: | AK19: IČO: | BS19: 0,01
E20: Ing. Ľubomír Németh | AK20: IČ DPH: | BS20: True
D22: Poznámka:
D26: Cena bez DPH | AK26: =ROUND(AG94,2) -> 0
L28: Sadzba dane | W28: Základ dane | AK28: Výška dane
D29: DPH | F29: základná | L29: 0.23 | W29: =ROUND(AZ94, 2) -> 0 | AK29: =ROUND(AV94, 2) -> 0
F30: znížená | L30: 0.23 | W30: =ROUND(BA94, 2) -> 0 | AK30: =ROUND(AW94, 2) -> 0
F31: zákl. prenesená | L31: 0.23 | W31: =ROUND(BB94, 2) -> 0 | AK31: 0
F32: zníž. prenesená | L32: 0.23 | W32: =ROUND(BC94, 2) -> 0 | AK32: 0
F33: nulová | L33: 0 | W33: =ROUND(BD94, 2) -> 0 | AK33: 0
D35: Cena s DPH | T35: v | X35: EUR | AK35: =SUM(AK26:AK33) -> 0
D49: Projektant | AH49: Spracovateľ
D60: Dátum a podpis: | V60: Pečiatka | AH60: Dátum a podpis: | AM60: Pečiatka
D64: Objednávateľ | AH64: Zhotoviteľ
D75: Dátum a podpis: | V75: Pečiatka | AH75: Dátum a podpis: | AM75: Pečiatka
C82: REKAPITULÁCIA OBJEKTOV STAVBY
C84: Kód: | L84: =K5 -> SPORTWELL
C85: Stavba: | L85: =K6 -> NADSTAVBA POLYFUNKČNÉHO OBJEKTU, Farského ul. 3266, Bratislava
C87: Miesto: | L87: =IF(K8="","",K8) -> Bratislava | AI87: Dátum: | AM87: =IF(AN8= "","",AN8) -> 20. 6. 2024
C89: Objednávateľ: | L89: =IF(E11= "","",E11) -> SPORTWELL | AI89: Projektant: | AM89: =IF(E17="","",E17) -> ADIF spol. s r.o. | AS89: Informatívne údaje z listov zákaziek
C90: Zhotoviteľ: | L90: =IF(E14= "Vyplň údaj","",E14) | AI90: Spracovateľ: | AM90: =IF(E20="","",E20) -> Ing. Ľubomír Németh
C92: Kód | I92: Popis | AG92: Cena bez DPH [EUR] | AN92: Cena s DPH [EUR] | AQ92: Typ | AS92: z toho Ostat._x000D_ náklady [EUR] | AT92: DPH [EUR] | AU92: Normohodiny [h] | AV92: DPH základná [EUR] | AW92: DPH znížená [EUR] | AX92: DPH základná prenesená_x000D_ [EUR] | AY92: DPH znížená prenesená_x000D_ [EUR] | AZ92: Základňa_x000D_ DPH základná | BA92: Základňa_x000D_ DPH znížená | BB92: Základňa_x000D_ DPH zákl. prenesená | BC92: Základňa_x000D_ DPH zníž. prenesená | BD92: Základňa_x000D_ DPH nulová
C94: Náklady z rozpočtov | AG94: =ROUND(AG95,2) -> 0 | AN94: =SUM(AG94,AT94) -> 0 | AS94: =ROUND(AS95,2) -> 0 | AT94: =ROUND(SUM(AV94:AW94),2) -> 0 | AU94: =ROUND(AU95,5) -> 0 | AV94: =ROUND(AZ94*L29,2) -> 0 | AW94: =ROUND(BA94*L30,2) -> 0 | AX94: =ROUND(BB94*L29,2) -> 0 | AY94: =ROUND(BC94*L30,2) -> 0 | AZ94: =ROUND(AZ95,2) -> 0 | BA94: =ROUND(BA95,2) -> 0 | BB94: =ROUND(BB95,2) -> 0 | BC94: =ROUND(BC95,2) -> 0 | BD94: =ROUND(BD95,2) -> 0 | BS94: D | BT94: 0 | BU94: ###NOIMPORT### | BV94: IMPORT | BW94: {ad9ed193-1b4f-465b-a248-83ab161e5f6e} | BX94: {00000000-0000-0000-0000-000000000000}
A95: / | D95: 02 | J95: Fyzio časť | AG95: ='02 - Fyzio časť'!J32 -> 0 | AN95: =SUM(AG95,AT95) -> 0 | AQ95: STA | AS95: 0 | AT95: =ROUND(SUM(AV95:AW95),2) -> 0 | AU95: ='02 - Fyzio časť'!P137 -> 0 | AV95: ='02 - Fyzio časť'!J35 -> 0 | AW95: ='02 - Fyzio časť'!J36 -> 0 | AX95: ='02 - Fyzio časť'!J37 -> 0 | AY95: ='02 - Fyzio časť'!J38 -> 0 | AZ95: ='02 - Fyzio časť'!F35 -> 0 | BA95: ='02 - Fyzio časť'!F36 -> 0 | BB95: ='02 - Fyzio časť'!F37 -> 0 | BC95: ='02 - Fyzio časť'!F38 -> 0 | BD95: ='02 - Fyzio časť'!F39 -> 0 | BT95: 1 | BV95: IMPORT | BW95: {1895a6c4-36df-4f9b-9531-f70194856512} | BX95: {ad9ed193-1b4f-465b-a248-83ab161e5f6e} | CM95: 0

Sheet 02 - Fyzio časť
L2: >> skryté stĺpce << | AT2: {1895a6c4-36df-4f9b-9531-f70194856512} | AZ2: povrchW1 | BC2: 704,134 | BD2: 2
AT3: 0 | AZ3: povrchW2W3 | BC3: 240,135 | BD3: 2
D4: KRYCÍ LIST ROZPOČTU | M4: v --- nižšie sa nachádzajú doplnkové a pomocné údaje k zostavám --- v | AT4: False | AZ4: povrvhW2 | BC4: 99 | BD4: 2
AZ5: podlahaP1 | BC5: 104,11 | BD5: 2
D6: Stavba:
E7: ='Rekapitulácia stavby'!K6 -> NADSTAVBA POLYFUNKČNÉHO OBJEKTU, Farského ul. 3266, Bratislava
D8: Objekt:
E9: 02 - Fyzio časť
D11: JKSO: | I11: KS:
D12: Miesto: | F12: Bratislava | I12: Dátum: | J12: 45714
D14: Objednávateľ: | I14: IČO:
E15: SPORTWELL | I15: IČ DPH:
D17: Zhotoviteľ: | I17: IČO: | J17: ='Rekapitulácia stavby'!AN13 -> Vyplň údaj
E18: ='Rekapitulácia stavby'!E14 -> Vyplň údaj | I18: IČ DPH: | J18: ='Rekapitulácia stavby'!AN14 -> Vyplň údaj
D20: Projektant: | I20: IČO:
E21: ADIF spol. s r.o. | I21: IČ DPH:
D23: Spracovateľ: | I23: IČO:
E24: Ing. Ľubomír Németh | I24: IČ DPH:
D26: Poznámka:
D30: Náklady z rozpočtu | J30: =J96 -> 0
D31: Ostatné náklady | J31: =J110 -> 0
D32: Cena bez DPH | J32: =ROUND(J30 + J31, 2) -> 0
F34: Základ dane | I34: Sadzba dane | J34: Výška dane
D35: DPH | E35: základná | F35: =ROUND((SUM(BE110:BE117) + SUM(BE137:BE297)), 2) -> 0 | I35: 0.23 | J35: =ROUND(((SUM(BE110:BE117) + SUM(BE137:BE297))*I35), 2) -> 0
E36: znížená | F36: =ROUND((SUM(BF110:BF117) + SUM(BF137:BF297)), 2) -> 0 | I36: 0.23 | J36: =ROUND(((SUM(BF110:BF117) + SUM(BF137:BF297))*I36), 2) -> 0
E37: zákl. prenesená | F37: =ROUND((SUM(BG110:BG117) + SUM(BG137:BG297)), 2) -> 0 | I37: 0.23 | J37: =0 -> 0
E38: zníž. prenesená | F38: =ROUND((SUM(BH110:BH117) + SUM(BH137:BH297)), 2) -> 0 | I38: 0.23 | J38: =0 -> 0
E39: nulová | F39: =ROUND((SUM(BI110:BI117) + SUM(BI137:BI297)), 2) -> 0 | I39: 0 | J39: =0 -> 0
D41: Cena s DPH | G41: v | H41: EUR | J41: =SUM(J32:J39) -> 0
D50: Projektant | G50: Spracovateľ
D61: Dátum a podpis: | F61: Pečiatka | G61: Dátum a podpis: | J61: Pečiatka
D65: Objednávateľ | G65: Zhotoviteľ
D76: Dátum a podpis: | F76: Pečiatka | G76: Dátum a podpis: | J76: Pečiatka
C82: REKAPITULÁCIA ROZPOČTU
C84: Stavba:
E85: =E7 -> NADSTAVBA POLYFUNKČNÉHO OBJEKTU, Farského ul. 3266, Bratislava
C86: Objekt:
E87: =E9 -> 02 - Fyzio časť
C89: Miesto: | F89: =F12 -> Bratislava | I89: Dátum: | J89: =IF(J12="","",J12) -> 45714
C91: Objednávateľ: | F91: =E15 -> SPORTWELL | I91: Projektant: | J91: =E21 -> ADIF spol. s r.o.
C92: Zhotoviteľ: | F92: =IF(E18="","",E18) -> Vyplň údaj | I92: Spracovateľ: | J92: =E24 -> Ing. Ľubomír Németh
C94: Kód dielu - Popis | J94: Cena celkom [EUR]
C96: 1) Náklady z rozpočtu | J96: =J137 -> 0 | AU96: -1
D97: HSV - Práce a dodávky HSV | J97: =J138 -> 0
D98: 6 - Úpravy povrchov, podlahy, osadenie | J98: =J139 -> 0
D99: 9 - Ostatné konštrukcie a práce-búranie | J99: =J175 -> 0
D100: 99 - Presun hmôt HSV | J100: =J198 -> 0
D101: PSV - Práce a dodávky PSV | J101: =J200 -> 0
D102: 763 - Konštrukcie - drevostavby | J102: =J201 -> 0
D103: 766 - Konštrukcie stolárske | J103: =J213 -> 0
D104: 771 - Podlahy z dlaždíc | J104: =J219 -> 0
D105: 775 - Podlahy vlysové a parketové | J105: =J232 -> 0
D106: 781 - Obklady | J106: =J246 -> 0
D107: 784 - Maľby | J107: =J257 -> 0
C110: 2) Ostatné náklady | J110: =ROUND(J111 + J112 + J113 + J114 + J115 + J116,2) -> 0 | N110: DPH
D111: GZS | J111: 0 | N111: znížená | AY111: VRN | BE111: =IF(N111="základná",J111,0) -> 0 | BF111: =IF(N111="znížená",J111,0) -> 0 | BG111: =IF(N111="zákl. prenesená",J111,0) -> 0 | BH111: =IF(N111="zníž. prenesená",J111,0) -> 0 | BI111: =IF(N111="nulová",J111,0) -> 0 | BJ111: 2
D112: Projektové práce | J112: 0 | N112: znížená | AY112: VRN | BE112: =IF(N112="základná",J112,0) -> 0 | BF112: =IF(N112="znížená",J112,0) -> 0 | BG112: =IF(N112="zákl. prenesená",J112,0) -> 0 | BH112: =IF(N112="zníž. prenesená",J112,0) -> 0 | BI112: =IF(N112="nulová",J112,0) -> 0 | BJ112: 2
D113: Sťažené podmienky | J113: 0 | N113: znížená | AY113: VRN | BE113: =IF(N113="základná",J113,0) -> 0 | BF113: =IF(N113="znížená",J113,0) -> 0 | BG113: =IF(N113="zákl. prenesená",J113,0) -> 0 | BH113: =IF(N113="zníž. prenesená",J113,0) -> 0 | BI113: =IF(N113="nulová",J113,0) -> 0 | BJ113: 2
D114: Vplyv prostredia | J114: 0 | N114: znížená | AY114: VRN | BE114: =IF(N114="základná",J114,0) -> 0 | BF114: =IF(N114="znížená",J114,0) -> 0 | BG114: =IF(N114="zákl. prenesená",J114,0) -> 0 | BH114: =IF(N114="zníž. prenesená",J114,0) -> 0 | BI114: =IF(N114="nulová",J114,0) -> 0 | BJ114: 2
D115: Iné VRN | J115: 0 | N115: znížená | AY115: VRN | BE115: =IF(N115="základná",J115,0) -> 0 | BF115: =IF(N115="znížená",J115,0) -> 0 | BG115: =IF(N115="zákl. prenesená",J115,0) -> 0 | BH115: =IF(N115="zníž. prenesená",J115,0) -> 0 | BI115: =IF(N115="nulová",J115,0) -> 0 | BJ115: 2
D116: Kompletačná činnosť | J116: =ROUND(J30*T116,2) -> 0 | N116: znížená | AY116: KOMPLETACNA | BE116: =IF(N116="základná",J116,0) -> 0 | BF116: =IF(N116="znížená",J116,0) -> 0 | BG116: =IF(N116="zákl. prenesená",J116,0) -> 0 | BH116: =IF(N116="zníž. prenesená",J116,0) -> 0 | BI116: =IF(N116="nulová",J116,0) -> 0 | BJ116: 2
C118: Celkové náklady za stavbu 1) + 2) | J118: =ROUND(J96+J110,2) -> 0
C124: ROZPOČET
C126: Stavba:
E127: =E7 -> NADSTAVBA POLYFUNKČNÉHO OBJEKTU, Farského ul. 3266, Bratislava
C128: Objekt:
E129: =E9 -> 02 - Fyzio časť
C131: Miesto: | F131: =F12 -> Bratislava | I131: Dátum: | J131: =IF(J12="","",J12) -> 45714
C133: Objednávateľ: | F133: =E15 -> SPORTWELL | I133: Projektant: | J133: =E21 -> ADIF spol. s r.o.
C134: Zhotoviteľ: | F134: =IF(E18="","",E18) -> Vyplň údaj | I134: Spracovateľ: | J134: =E24 -> Ing. Ľubomír Németh
C136: PČ | D136: Typ | E136: Kód | F136: Popis | G136: MJ | H136: Množstvo | I136: J.cena [EUR] | J136: Cena celkom [EUR] | K136: Cenová sústava | N136: DPH | O136: J. Nh [h] | P136: Nh celkom [h] | Q136: J. hmotnosť [t] | R136: Hmotnosť celkom [t] | S136: J. suť [t] | T136: Suť Celkom [t]
C137: Náklady z rozpočtu | J137: =BK137 -> 0 | P137: =P138+P200 -> 0 | R137: =R138+R200 -> 26.173191 | T137: =T138+T200 -> 3.040013 | AT137: D | AU137: -1 | BK137: =BK138+BK200 -> 0
D138: D | E138: HSV | F138: Práce a dodávky HSV | J138: =BK138 -> 0 | P138: =P139+P175+P198 -> 0 | R138: =R139+R175+R198 -> 17.550906 | T138: =T139+T175+T198 -> 3.040013 | AR138: 1 | AT138: D | AU138: 0 | AY138: ROZPOCET | BK138: =BK139+BK175+BK198 -> 0
D139: D | E139: 6 | F139: Úpravy povrchov, podlahy, osadenie | J139: =BK139 -> 0 | P139: =SUM(P140:P174) -> 0 | R139: =SUM(R140:R174) -> 17.345349 | T139: =SUM(T140:T174) -> 0 | AR139: 1 | AT139: D | AU139: 1 | AY139: ROZPOCET | BK139: =SUM(BK140:BK174) -> 0
C140: 1 | D140: K | E140: 610991111.S | F140: Zakrývanie výplní vnútorných okenných otvorov, predmetov a konštrukcií | G140: m2 | H140: 13.2 | J140: =ROUND(I140*H140,2) -> 0 | N140: znížená | P140: =O140*H140 -> 0 | Q140: 0.00020471 | R140: =Q140*H140 -> 0.002702172 | S140: 0 | T140: =S140*H140 -> 0 | AR140: 4 | AT140: K | AU140: 2 | AY140: ROZPOCET | BE140: =IF(N140="základná",J140,0) -> 0 | BF140: =IF(N140="znížená",J140,0) -> 0 | BG140: =IF(N140="zákl. prenesená",J140,0) -> 0 | BH140: =IF(N140="zníž. prenesená",J140,0) -> 0 | BI140: =IF(N140="nulová",J140,0) -> 0 | BJ140: 2 | BK140: =ROUND(I140*H140,2) -> 0 | BL140: 4 | BM140: 532958976
D141: VV | F141: 1,1*2,0*6 | H141: 13.2 | AT141: VV | AU141: 2 | AV141: 2 | AW141: True | AX141: 0 | AY141: ROZPOCET
D142: VV | F142: Súčet | H142: 13.2 | AT142: VV | AU142: 2 | AV142: 4 | AW142: True | AX142: 1 | AY142: ROZPOCET
C143: 2 | D143: K | E143: 611460124.S | F143: Príprava vnútorného podkladu stropov penetráciou pod omietky a nátery | G143: m2 | H143: 9.42 | J143: =ROUND(I143*H143,2) -> 0 | N143: znížená | P143: =O143*H143 -> 0 | Q143: 0.0004 | R143: =Q143*H143 -> 0.003768 | S143: 0 | T143: =S143*H143 -> 0 | AR143: 4 | AT143: K | AU143: 2 | AY143: ROZPOCET | BE143: =IF(N143="základná",J143,0) -> 0 | BF143: =IF(N143="znížená",J143,0) -> 0 | BG143: =IF(N143="zákl. prenesená",J143,0) -> 0 | BH143: =IF(N143="zníž. prenesená",J143,0) -> 0 | BI143: =IF(N143="nulová",J143,0) -> 0 | BJ143: 2 | BK143: =ROUND(I143*H143,2) -> 0 | BL143: 4 | BM143: 1191931185
D144: VV | F144: S1 | AT144: VV | AU144: 2 | AV144: 1 | AW144: True | AX144: 0 | AY144: ROZPOCET
D145: VV | F145: 9,42 | H145: 9.42 | AT145: VV | AU145: 2 | AV145: 2 | AW145: True | AX145: 0 | AY145: ROZPOCET
D146: VV | F146: Súčet | H146: 9.42 | AT146: VV | AU146: 2 | AV146: 4 | AW146: True | AX146: 1 | AY146: ROZPOCET
C147: 3 | D147: K | E147: 611460362.S | F147: Vnútorná omietka stropov vápennocementová jednovrstvová, hr. 8 mm | G147: m2 | H147: 9.42 | J147: =ROUND(I147*H147,2) -> 0 | N147: znížená | P147: =O147*H147 -> 0 | Q147: 0.011 | R147: =Q147*H147 -> 0.10362 | S147: 0 | T147: =S147*H147 -> 0 | AR147: 4 | AT147: K | AU147: 2 | AY147: ROZPOCET | BE147: =IF(N147="základná",J147,0) -> 0 | BF147: =IF(N147="znížená",J147,0) -> 0 | BG147: =IF(N147="zákl. prenesená",J147,0) -> 0 | BH147: =IF(N147="zníž. prenesená",J147,0) -> 0 | BI147: =IF(N147="nulová",J147,0) -> 0 | BJ147: 2 | BK147: =ROUND(I147*H147,2) -> 0 | BL147: 4 | BM147: -606627583
D148: VV | F148: S1 | AT148: VV | AU148: 2 | AV148: 1 | AW148: True | AX148: 0 | AY148: ROZPOCET
D149: VV | F149: 9,42 | H149: 9.42 | AT149: VV | AU149: 2 | AV149: 2 | AW149: True | AX149: 0 | AY149: ROZPOCET
D150: VV | F150: Súčet | H150: 9.42 | AT150: VV | AU150: 2 | AV150: 4 | AW150: True | AX150: 1 | AY150: ROZPOCET
C151: 4 | D151: K | E151: 612460124.S | F151: Príprava vnútorného podkladu stien penetráciou pod omietky a nátery | G151: m2 | H151: 39.953 | J151: =ROUND(I151*H151,2) -> 0 | N151: znížená | P151: =O151*H151 -> 0 | Q151: 0.0004 | R151: =Q151*H151 -> 0.0159812 | S151: 0 | T151: =S151*H151 -> 0 | AR151: 4 | AT151: K | AU151: 2 | AY151: ROZPOCET | BE151: =IF(N151="základná",J151,0) -> 0 | BF151: =IF(N151="znížená",J151,0) -> 0 | BG151: =IF(N151="zákl. prenesená",J151,0) -> 0 | BH151: =IF(N151="zníž. prenesená",J151,0) -> 0 | BI151: =IF(N151="nulová",J151,0) -> 0 | BJ151: 2 | BK151: =ROUND(I151*H151,2) -> 0 | BL151: 4 | BM151: -216954895
D152: VV | F152: W2,W3 | AT152: VV | AU152: 2 | AV152: 1 | AW152: True | AX152: 0 | AY152: ROZPOCET
D153: VV | F153: (0,15*6+0,4*3+0,3*3)*2,85+(5,6*2+4,45)*2,85-1,1*2,0*6 | H153: 39.953 | AT153: VV | AU153: 2 | AV153: 2 | AW153: True | AX153: 0 | AY153: ROZPOCET
D154: VV | E154: povrchW2W3 | F154: Súčet | H154: 39.953 | AT154: VV | AU154: 2 | AV154: 4 | AW154: True | AX154: 1 | AY154: ROZPOCET
C155: 5 | D155: K | E155: 612460363.S | F155: Vnútorná omietka stien vápennocementová jednovrstvová, hr. 10 mm | G155: m2 | H155: 39.953 | J155: =ROUND(I155*H155,2) -> 0 | N155: znížená | P155: =O155*H155 -> 0 | Q155: 0.013125 | R155: =Q155*H155 -> 0.52438313 | S155: 0 | T155: =S155*H155 -> 0 | AR155: 4 | AT155: K | AU155: 2 | AY155: ROZPOCET | BE155: =IF(N155="základná",J155,0) -> 0 | BF155: =IF(N155="znížená",J155,0) -> 0 | BG155: =IF(N155="zákl. prenesená",J155,0) -> 0 | BH155: =IF(N155="zníž. prenesená",J155,0) -> 0 | BI155: =IF(N155="nulová",J155,0) -> 0 | BJ155: 2 | BK155: =ROUND(I155*H155,2) -> 0 | BL155: 4 | BM155: 134993172
D156: VV | F156: W2,W3 | AT156: VV | AU156: 2 | AV156: 1 | AW156: True | AX156: 0 | AY156: ROZPOCET
D157: VV | F157: povrchW2W3 | H157: 39.953 | AT157: VV | AU157: 2 | AV157: 2 | AW157: True | AX157: 0 | AY157: ROZPOCET
D158: VV | F158: Súčet | H158: 39.953 | AT158: VV | AU158: 2 | AV158: 4 | AW158: True | AX158: 1 | AY158: ROZPOCET
C159: 6 | D159: K | E159: 631312671.S | F159: Mazanina z betónu prostého (m2) hladená dreveným hladidlom, betón tr. C 20/25 hr. 70 mm | G159: m2 | H159: 104.11 | J159: =ROUND(I159*H159,2) -> 0 | N159: znížená | P159: =O159*H159 -> 0 | Q159: 0.15683381 | R159: =Q159*H159 -> 16.327968 | S159: 0 | T159: =S159*H159 -> 0 | AR159: 4 | AT159: K | AU159: 2 | AY159: ROZPOCET | BE159: =IF(N159="základná",J159,0) -> 0 | BF159: =IF(N159="znížená",J159,0) -> 0 | BG159: =IF(N159="zákl. prenesená",J159,0) -> 0 | BH159: =IF(N159="zníž. prenesená",J159,0) -> 0 | BI159: =IF(N159="nulová",J159,0) -> 0 | BJ159: 2 | BK159: =ROUND(I159*H159,2) -> 0 | BL159: 4 | BM159: 1850058008
D160: VV | F160: P1 | AT160: VV | AU160: 2 | AV160: 1 | AW160: True | AX160: 0 | AY160: ROZPOCET
D161: VV | F161: 9,42+17,04+14,3+24,85+17,2+11,3+10,0 | H161: 104.11 | AT161: VV | AU161: 2 | AV161: 2 | AW161: True | AX161: 0 | AY161: ROZPOCET
D162: VV | E162: podlahaP1 | F162: Súčet | H162: 104.11 | AT162: VV | AU162: 2 | AV162: 4 | AW162: True | AX162: 1 | AY162: ROZPOCET
C163: 7 | D163: K | E163: 631319151.S | F163: Príplatok za prehlad. povrchu betónovej mazaniny min. tr.C 8/10 oceľ. hlad. hr. 50-80 mm | G163: m3 | H163: 7.288 | J163: =ROUND(I163*H163,2) -> 0 | N163: znížená | P163: =O163*H163 -> 0 | Q163: 0 | R163: =Q163*H163 -> 0 | S163: 0 | T163: =S163*H163 -> 0 | AR163: 4 | AT163: K | AU163: 2 | AY163: ROZPOCET | BE163: =IF(N163="základná",J163,0) -> 0 | BF163: =IF(N163="znížená",J163,0) -> 0 | BG163: =IF(N163="zákl. prenesená",J163,0) -> 0 | BH163: =IF(N163="zníž. prenesená",J163,0) -> 0 | BI163: =IF(N163="nulová",J163,0) -> 0 | BJ163: 2 | BK163: =ROUND(I163*H163,2) -> 0 | BL163: 4 | BM163: 1482765635
D164: VV | F164: P1 | AT164: VV | AU164: 2 | AV164: 1 | AW164: True | AX164: 0 | AY164: ROZPOCET
D165: VV | F165: podlahaP1*0,07 | H165: 7.288 | AT165: VV | AU165: 2 | AV165: 2 | AW165: True | AX165: 0 | AY165: ROZPOCET
...
