Workbook

Sheet Rekapitulácia stavby
A1: Export Komplet | BA1: 2.0 | BT1: False | BU1: False | BV1: {ad9ed193-1b4f-465b-a248-83ab161e5f6e}
AR2: >> skryté stĺpce << | BS2: 0,01 | BT2: 23
BS3: 0,01 | BT3: 23
D4: REKAPITULÁCIA STAVBY | AS4: v --- nižšie sa nachádzajú doplnkové a pomocné údaje k zostavám --- v | BE4: Návod na vyplnenie | BS4: 0,001
D5: Kód: | K5: SPORTWELL | BE5: Meniť je možné iba bunky so žltým podfarbením!_x000D_ _x000D_ 1) na prvom liste Rekapitulácie stavby vyplňte v zostave_x000D_ _x000D_ a) Rekapitulácia stavby_x000D_ - údaje o Zhotoviteľovi_x000D_ (prenesú sa do ostatných zostáv aj v iných listoch)_x000D_ _x000D_ b) Rekapitulácia objektov stavby_x000D_ - potrebné Ostatné náklady_x000D_ _x000D_ 2) na vybraných listoch vyplňte v zostave_x000D_ _x000D_ a) Krycí list_x000D_ - údaje o Zhotoviteľovi, pokiaľ sa líšia od údajov o Zhotoviteľovi na Rekapitulácii stavby_x000D_ (údaje se prenesú do ostatných zostav v danom liste)_x000D_ _x000D_ b) Rekapitulácia rozpočtu_x000D_ - potrebné Ostatné náklady_x000D_ _x000D_ c) Celkové náklady za stavbu_x000D_ - ceny na položkách_x000D_ - množstvo, pokiaľ má žlté podfarbenie_x000D_ - a v prípade potreby poznámku (tá je v skrytom stĺpci) | BS5: 0,01
D6: Stavba: | K6: NADSTAVBA POLYFUNKČNÉHO OBJEKTU, Farského ul. 3266, Bratislava | BS6: 0,01
D7: JKSO: | AK7: KS: | BS7: 0,01
D8: Miesto: | K8: Bratislava | AK8: Dátum: | AN8: 20. 6. 2024 | BS8: 0,01
BS9: 0,01
D10: Objednávateľ: | AK10: IČO: | BS10: 0,01
E11: SPORTWELL | AK11: IČ DPH: | BS11: 0,01
BS12: 0,01
D13: Zhotoviteľ: | AK13: IČO: | AN13: Vyplň údaj | BS13: 0,01
E14: Vyplň údaj | AK14: IČ DPH: | AN14: Vyplň údaj | BS14: 0,01
BS15: False
D16: Projektant: | AK16: IČO: | BS16: False
E17: ADIF spol. s r.o. | AK17: IČ DPH: | BS17: True
BS18: 0,01
D19: Spracovateľ: | AK19: IČO: | BS19: 0,01
E20: Ing. Ľubomír Németh | AK20: IČ DPH: | BS20: True
D22: Poznámka:
D26: Cena bez DPH | AK26: =ROUND(AG94,2) -> 0
L28: Sadzba dane | W28: Základ dane | AK28: Výška dane
D29: DPH | F29: základná | L29: 0.23 | W29: =ROUND(AZ94, 2) -> 0 | AK29: =ROUND(AV94, 2) -> 0
F30: znížená | L30: 0.23 | W30: =ROUND(BA94, 2) -> 0 | AK30: =ROUND(AW94, 2) -> 0
F31: zákl. prenesená | L31: 0.23 | W31: =ROUND(BB94, 2) -> 0 | AK31: 0
F32: zníž. prenesená | L32: 0.23 | W32: =ROUND(BC94, 2) -> 0 | AK32: 0
F33: nulová | L33: 0 | W33: =ROUND(BD94, 2) -> 0 | AK33: 0
D35: Cena s DPH | T35: v | X35: EUR | AK35: =SUM(AK26:AK33) -> 0
D49: Projektant | AH49: Spracovateľ
D60: Dátum a podpis: | V60: Pečiatka | AH60: Dátum a podpis: | AM60: Pečiatka
D64: Objednávateľ | AH64: Zhotoviteľ
D75: Dátum a podpis: | V75: Pečiatka | AH75: Dátum a podpis: | AM75: Pečiatka
C82: REKAPITULÁCIA OBJEKTOV STAVBY
C84: Kód: | L84: =K5 -> SPORTWELL
C85: Stavba: | L85: =K6 -> NADSTAVBA POLYFUNKČNÉHO OBJEKTU, Farského ul. 3266, Bratislava
C87: Miesto: | L87: =IF(K8="","",K8) -> Bratislava | AI87: Dátum: | AM87: =IF(AN8= "","",AN8) -> 20. 6. 2024
C89: Objednávateľ: | L89: =IF(E11= "","",E11) -> SPORTWELL | AI89: Projektant: | AM89: =IF(E17="","",E17) -> ADIF spol. s r.o. | AS89: Informatívne údaje z listov zákaziek
C90: Zhotoviteľ: | L90: =IF(E14= "Vyplň údaj","",E14) | AI90: Spracovateľ: | AM90: =IF(E20="","",E20) -> Ing. Ľubomír Németh
C92: Kód | I92: Popis | AG92: Cena bez DPH [EUR] | AN92: Cena s DPH [EUR] | AQ92: Typ | AS92: z toho Ostat._x000D_ náklady [EUR] | AT92: DPH [EUR] | AU92: Normohodiny [h] | AV92: DPH základná [EUR] | AW92: DPH znížená [EUR] | AX92: DPH základná prenesená_x000D_ [EUR] | AY92: DPH znížená prenesená_x000D_ [EUR] | AZ92: Základňa_x000D_ DPH základná | BA92: Základňa_x000D_ DPH znížená | BB92: Základňa_x000D_ DPH zákl. prenesená | BC92: Základňa_x000D_ DPH zníž. prenesená | BD92: Základňa_x000D_ DPH nulová
...

Sheet 02 - Fyzio časť
L2: >> skryté stĺpce << | AT2: {1895a6c4-36df-4f9b-9531-f70194856512} | AZ2: povrchW1 | BC2: 704,134 | BD2: 2
AT3: 0 | AZ3: povrchW2W3 | BC3: 240,135 | BD3: 2
D4: KRYCÍ LIST ROZPOČTU | M4: v --- nižšie sa nachádzajú doplnkové a pomocné údaje k zostavám --- v | AT4: False | AZ4: povrvhW2 | BC4: 99 | BD4: 2
AZ5: podlahaP1 | BC5: 104,11 | BD5: 2
D6: Stavba:
E7: ='Rekapitulácia stavby'!K6 -> NADSTAVBA POLYFUNKČNÉHO OBJEKTU, Farského ul. 3266, Bratislava
D8: Objekt:
E9: 02 - Fyzio časť
D11: JKSO: | I11: KS:
D12: Miesto: | F12: Bratislava | I12: Dátum: | J12: 45714
D14: Objednávateľ: | I14: IČO:
E15: SPORTWELL | I15: IČ DPH:
D17: Zhotoviteľ: | I17: IČO: | J17: ='Rekapitulácia stavby'!AN13 -> Vyplň údaj
E18: ='Rekapitulácia stavby'!E14 -> Vyplň údaj | I18: IČ DPH: | J18: ='Rekapitulácia stavby'!AN14 -> Vyplň údaj
D20: Projektant: | I20: IČO:
E21: ADIF spol. s r.o. | I21: IČ DPH:
D23: Spracovateľ: | I23: IČO:
E24: Ing. Ľubomír Németh | I24: IČ DPH:
D26: Poznámka:
D30: Náklady z rozpočtu | J30: =J96 -> 0
D31: Ostatné náklady | J31: =J110 -> 0
D32: Cena bez DPH | J32: =ROUND(J30 + J31, 2) -> 0
F34: Základ dane | I34: Sadzba dane | J34: Výška dane
D35: DPH | E35: základná | F35: =ROUND((SUM(BE110:BE117) + SUM(BE137:BE297)), 2) -> 0 | I35: 0.23 | J35: =ROUND(((SUM(BE110:BE117) + SUM(BE137:BE297))*I35), 2) -> 0
E36: znížená | F36: =ROUND((SUM(BF110:BF117) + SUM(BF137:BF297)), 2) -> 0 | I36: 0.23 | J36: =ROUND(((SUM(BF110:BF117) + SUM(BF137:BF297))*I36), 2) -> 0
E37: zákl. prenesená | F37: =ROUND((SUM(BG110:BG117) + SUM(BG137:BG297)), 2) -> 0 | I37: 0.23 | J37: =0 -> 0
E38: zníž. prenesená | F38: =ROUND((SUM(BH110:BH117) + SUM(BH137:BH297)), 2) -> 0 | I38: 0.23 | J38: =0 -> 0
E39: nulová | F39: =ROUND((SUM(BI110:BI117) + SUM(BI137:BI297)), 2) -> 0 | I39: 0 | J39: =0 -> 0
D41: Cena s DPH | G41: v | H41: EUR | J41: =SUM(J32:J39) -> 0
D50: Projektant | G50: Spracovateľ
D61: Dátum a podpis: | F61: Pečiatka | G61: Dátum a podpis: | J61: Pečiatka
D65: Objednávateľ | G65: Zhotoviteľ
D76: Dátum a podpis: | F76: Pečiatka | G76: Dátum a podpis: | J76: Pečiatka
C82: REKAPITULÁCIA ROZPOČTU
C84: Stavba:
E85: =E7 -> NADSTAVBA POLYFUNKČNÉHO OBJEKTU, Farského ul. 3266, Bratislava
C86: Objekt:
E87: =E9 -> 02 - Fyzio časť
C89: Miesto: | F89: =F12 -> Bratislava | I89: Dátum: | J89: =IF(J12="","",J12) -> 45714
C91: Objednávateľ: | F91: =E15 -> SPORTWELL | I91: Projektant: | J91: =E21 -> ADIF spol. s r.o.
...
